BEGIN:VCALENDAR
VERSION:2.0
PRODID:-//Ricky&#039;s Sport Treff - Marktheidenfeld - ECPv6.15.20//NONSGML v1.0//EN
CALSCALE:GREGORIAN
METHOD:PUBLISH
X-ORIGINAL-URL:https://rickyssporttreff.de
X-WR-CALDESC:Veranstaltungen für Ricky&#039;s Sport Treff - Marktheidenfeld
REFRESH-INTERVAL;VALUE=DURATION:PT1H
X-Robots-Tag:noindex
X-PUBLISHED-TTL:PT1H
BEGIN:VTIMEZONE
TZID:Europe/Berlin
BEGIN:DAYLIGHT
TZOFFSETFROM:+0100
TZOFFSETTO:+0200
TZNAME:CEST
DTSTART:20230326T010000
END:DAYLIGHT
BEGIN:STANDARD
TZOFFSETFROM:+0200
TZOFFSETTO:+0100
TZNAME:CET
DTSTART:20231029T010000
END:STANDARD
BEGIN:DAYLIGHT
TZOFFSETFROM:+0100
TZOFFSETTO:+0200
TZNAME:CEST
DTSTART:20240331T010000
END:DAYLIGHT
BEGIN:STANDARD
TZOFFSETFROM:+0200
TZOFFSETTO:+0100
TZNAME:CET
DTSTART:20241027T010000
END:STANDARD
BEGIN:DAYLIGHT
TZOFFSETFROM:+0100
TZOFFSETTO:+0200
TZNAME:CEST
DTSTART:20250330T010000
END:DAYLIGHT
BEGIN:STANDARD
TZOFFSETFROM:+0200
TZOFFSETTO:+0100
TZNAME:CET
DTSTART:20251026T010000
END:STANDARD
END:VTIMEZONE
BEGIN:VEVENT
DTSTART;TZID=Europe/Berlin:20240426T203000
DTEND;TZID=Europe/Berlin:20240426T220000
DTSTAMP:20260425T202739
CREATED:20240405T175602Z
LAST-MODIFIED:20240405T182220Z
UID:7163-1714163400-1714168800@rickyssporttreff.de
SUMMARY:Yoga & Sound
DESCRIPTION:Isi & Sabine bringen Dich am Fr. 26.04. 18:30 in dieser Yoga Session mit Klängen in Deiner Yogapraxis tief zu Dir selbst. Nutze die Stunde\, um dich tiefer mit Deinem Herzen zu verbinden und lass Dich dabei von Sabines Kristall Klangschalen verzaubern.
URL:https://rickyssporttreff.de/event/yoga-sound/
LOCATION:Ricky´s Sporttreff\, Mitteltorstrasse 13\, Marktheidenfeld\, Bayern\, 97828\, Deutschland
CATEGORIES:Yoga
ATTACH;FMTTYPE=image/png:https://rickyssporttreff.de/wp-content/uploads/2024/04/MIND-SOUL.png
END:VEVENT
END:VCALENDAR