BEGIN:VCALENDAR
VERSION:2.0
PRODID:-//Ricky&#039;s Sport Treff - Marktheidenfeld - ECPv6.15.20//NONSGML v1.0//EN
CALSCALE:GREGORIAN
METHOD:PUBLISH
X-WR-CALNAME:Ricky&#039;s Sport Treff - Marktheidenfeld
X-ORIGINAL-URL:https://rickyssporttreff.de
X-WR-CALDESC:Veranstaltungen für Ricky&#039;s Sport Treff - Marktheidenfeld
REFRESH-INTERVAL;VALUE=DURATION:PT1H
X-Robots-Tag:noindex
X-PUBLISHED-TTL:PT1H
BEGIN:VTIMEZONE
TZID:Europe/Berlin
BEGIN:DAYLIGHT
TZOFFSETFROM:+0100
TZOFFSETTO:+0200
TZNAME:CEST
DTSTART:20230326T010000
END:DAYLIGHT
BEGIN:STANDARD
TZOFFSETFROM:+0200
TZOFFSETTO:+0100
TZNAME:CET
DTSTART:20231029T010000
END:STANDARD
BEGIN:DAYLIGHT
TZOFFSETFROM:+0100
TZOFFSETTO:+0200
TZNAME:CEST
DTSTART:20240331T010000
END:DAYLIGHT
BEGIN:STANDARD
TZOFFSETFROM:+0200
TZOFFSETTO:+0100
TZNAME:CET
DTSTART:20241027T010000
END:STANDARD
BEGIN:DAYLIGHT
TZOFFSETFROM:+0100
TZOFFSETTO:+0200
TZNAME:CEST
DTSTART:20250330T010000
END:DAYLIGHT
BEGIN:STANDARD
TZOFFSETFROM:+0200
TZOFFSETTO:+0100
TZNAME:CET
DTSTART:20251026T010000
END:STANDARD
END:VTIMEZONE
BEGIN:VEVENT
DTSTART;TZID=Europe/Berlin:20240619T080000
DTEND;TZID=Europe/Berlin:20240619T170000
DTSTAMP:20260425T170442
CREATED:20240619T062727Z
LAST-MODIFIED:20240619T062810Z
UID:9112-1718784000-1718816400@rickyssporttreff.de
SUMMARY:Kreuzemer Landschaftslauf 2\,2 / 7 /14km
DESCRIPTION:Sonntag\, 23.06.2024\n\n\n\nLauf 1 – 9:00 Uhr14 km „Lauf ins Himmelreich“ ab 16 JahreStrecke: Circa 300 Höhenmeter; anspruchsvoller\, interessanter Rundkurs durch ein Landschaftsschutzgebiet und die Weinberge; 2 Getränkestellen bei ca. 4\,5 und 10\,6 km.Einzelwertung und Teamwertung: 2er-Teams möglich (Männer-Team\, Frauen-Team oder Mixed-Team). Die Wertung erfolgt durch Addition der beiden Zielzeiten.Der Sieger/in und die Platzierungen 1–3 jeder Altersklasse sowie dieSieger/innen der 2er-Teams erhalten Sachpreise. 5er-Altersklassenwertung.Lauf 2 – 9:10 Uhr7 km der NEUE „Lauf um den Kaffelstein“ ab 16 JahreStrecke: geringe Steigungen entlang der Weinberge; mit Blick auf das Maintal; ohne Bergab-Passage nach dem Start; Getränkestelle bei ca. 3\,7 km.Der Sieger/in und die Platzierungen 1–3 jeder Altersklasse erhalten Sachpreise.5er-Altersklassenwertung. Der schnellste TSV-Läufer/in erhält den Wanderpokal.Lauf 3 – 9:15 Uhr2\,2 km „Schützenwaldlauf“ (Schülerlauf) für Kids & Teens ab 7–15 JahreStrecke: hügeliger Waldlauf.Der Sieger/in erhält einen „Goldenen Laufschuh“. Alle anderen Teilnehmer/innen erhalten einen „Silbernen Laufschuh“ und Urkunden. 2er-Altersklassenwertung.weitere Informationen:Start/Ziel: Sportplatz Kreuzwertheim\, Philipp-Günzelmann-WegStartgeld: 14 km => 15€ / 7 km => 9€ / 2\,2 km => 4€ \n\n\n\nVoranmeldung: Bis Freitag\, 21.6.2024\, 23:59 Uhr unter www.tsv-jahn-kreuzwertheim.de \n\n\n\nNachmeldung: NUR ONLINE ab Samstag\, 22.6.2024 bis 1 Std. vor dem jeweiligen Lauf; Nachmeldegebühr 4€ (außer Schülerlauf).Alle Läuferinnen erwartet im Ziel eine blumige Überraschung.Teamwertung: 14 km Lauf / 2er TeamsSonderpreis für teilnehmerstärksten Verein und FirmaVerpflegung: Für Essen und Getränke ist bestens gesorgt.Ergebnislisten: www.tsv-jahn-kreuzwertheim.de · Urkunden können ausgedruckt werden.Kontakt: E-Mail: runningteamkreuzwertheim@web.de oder Tel. 09342/38097Datenschutz: Mit der Anmeldung akzeptieren Sie die Kriterien unserer Datenschutzerklärung\, wie sie auf unserer Homepage dargestellt ist. \n\n\n\n\nANMELDUNG HIER
URL:https://rickyssporttreff.de/event/kreuzemer-landschaftslauf/
LOCATION:Bayern
CATEGORIES:Laufen
ATTACH;FMTTYPE=image/jpeg:https://rickyssporttreff.de/wp-content/uploads/2024/06/Plakat-Landschaftslaeufe-2024-scaled-e1711404805224-930x620-1.jpg
END:VEVENT
END:VCALENDAR