BEGIN:VCALENDAR
VERSION:2.0
PRODID:-//Ricky&#039;s Sport Treff - Marktheidenfeld - ECPv6.15.20//NONSGML v1.0//EN
CALSCALE:GREGORIAN
METHOD:PUBLISH
X-WR-CALNAME:Ricky&#039;s Sport Treff - Marktheidenfeld
X-ORIGINAL-URL:https://rickyssporttreff.de
X-WR-CALDESC:Veranstaltungen für Ricky&#039;s Sport Treff - Marktheidenfeld
REFRESH-INTERVAL;VALUE=DURATION:PT1H
X-Robots-Tag:noindex
X-PUBLISHED-TTL:PT1H
BEGIN:VTIMEZONE
TZID:Europe/Berlin
BEGIN:DAYLIGHT
TZOFFSETFROM:+0100
TZOFFSETTO:+0200
TZNAME:CEST
DTSTART:20230326T010000
END:DAYLIGHT
BEGIN:STANDARD
TZOFFSETFROM:+0200
TZOFFSETTO:+0100
TZNAME:CET
DTSTART:20231029T010000
END:STANDARD
BEGIN:DAYLIGHT
TZOFFSETFROM:+0100
TZOFFSETTO:+0200
TZNAME:CEST
DTSTART:20240331T010000
END:DAYLIGHT
BEGIN:STANDARD
TZOFFSETFROM:+0200
TZOFFSETTO:+0100
TZNAME:CET
DTSTART:20241027T010000
END:STANDARD
BEGIN:DAYLIGHT
TZOFFSETFROM:+0100
TZOFFSETTO:+0200
TZNAME:CEST
DTSTART:20250330T010000
END:DAYLIGHT
BEGIN:STANDARD
TZOFFSETFROM:+0200
TZOFFSETTO:+0100
TZNAME:CET
DTSTART:20251026T010000
END:STANDARD
END:VTIMEZONE
BEGIN:VEVENT
DTSTART;TZID=Europe/Berlin:20240712T193000
DTEND;TZID=Europe/Berlin:20240712T230000
DTSTAMP:20260425T164034
CREATED:20240319T051737Z
LAST-MODIFIED:20240712T100104Z
UID:6620-1720812600-1720825200@rickyssporttreff.de
SUMMARY:#Sundowner Yoga&Wein
DESCRIPTION:In den Homburger Weinbergen findet ein besonderes Event statt. Ab 17.30 Uhr genießt Du eine Yogaeinheit mit Isi & Ricky. \n\n\n\nIn den Sonnenuntergang hinein erlebst Du eine Auswahl von Weinen (Weinprobe Weingut Huller). So lassen wir den Abend dann gemeinsam ausklingen. \n\n\n\nBilder aus 2023: \n\n\n\nNach den Yogaeinheiten durften wir vergangenes Jahr Isabella Huller in den Weinbergen bei der Weinprobe lauschen und genießen.
URL:https://rickyssporttreff.de/event/sundowner-yogawein/
LOCATION:Homburg am Main / Edelfrau\, Triefenstein-Homburg\, 97855\, Deutschland
CATEGORIES:Yoga
ATTACH;FMTTYPE=image/jpeg:https://rickyssporttreff.de/wp-content/uploads/2024/03/sundowner-huller-arbeitsdatei_2024_900px.jpg
ORGANIZER;CN="Ricky B%C3%B6hm-Hennes":MAILTO:ricky@boehm-hennes.de
END:VEVENT
END:VCALENDAR