BEGIN:VCALENDAR
VERSION:2.0
PRODID:-//Ricky&#039;s Sport Treff - Marktheidenfeld - ECPv6.15.20//NONSGML v1.0//EN
CALSCALE:GREGORIAN
METHOD:PUBLISH
X-WR-CALNAME:Ricky&#039;s Sport Treff - Marktheidenfeld
X-ORIGINAL-URL:https://rickyssporttreff.de
X-WR-CALDESC:Veranstaltungen für Ricky&#039;s Sport Treff - Marktheidenfeld
REFRESH-INTERVAL;VALUE=DURATION:PT1H
X-Robots-Tag:noindex
X-PUBLISHED-TTL:PT1H
BEGIN:VTIMEZONE
TZID:Europe/Berlin
BEGIN:DAYLIGHT
TZOFFSETFROM:+0100
TZOFFSETTO:+0200
TZNAME:CEST
DTSTART:20230326T010000
END:DAYLIGHT
BEGIN:STANDARD
TZOFFSETFROM:+0200
TZOFFSETTO:+0100
TZNAME:CET
DTSTART:20231029T010000
END:STANDARD
BEGIN:DAYLIGHT
TZOFFSETFROM:+0100
TZOFFSETTO:+0200
TZNAME:CEST
DTSTART:20240331T010000
END:DAYLIGHT
BEGIN:STANDARD
TZOFFSETFROM:+0200
TZOFFSETTO:+0100
TZNAME:CET
DTSTART:20241027T010000
END:STANDARD
BEGIN:DAYLIGHT
TZOFFSETFROM:+0100
TZOFFSETTO:+0200
TZNAME:CEST
DTSTART:20250330T010000
END:DAYLIGHT
BEGIN:STANDARD
TZOFFSETFROM:+0200
TZOFFSETTO:+0100
TZNAME:CET
DTSTART:20251026T010000
END:STANDARD
END:VTIMEZONE
BEGIN:VEVENT
DTSTART;TZID=Europe/Berlin:20240719T000000
DTEND;TZID=Europe/Berlin:20240719T235959
DTSTAMP:20260425T150317
CREATED:20240625T113406Z
LAST-MODIFIED:20240625T115400Z
UID:9381-1721347200-1721433599@rickyssporttreff.de
SUMMARY:WAREMA-Lauf 19.07.2024
DESCRIPTION:Samstag\, 19.07.2024\n\n\n\nProgrammablauf \n\n\n\n16:00 – 18:00 Uhr Startnummernausgabe/Nachmeldungen16:50 Uhr Ansprachen17:00 Uhr Start Bambini Lauf 630 m17:15 Uhr Start Schüler Lauf 1260 m17:30 Uhr Start Schülerstaffellauf 4 x 630 m18:00 Uhr Start 5 km Firmenlauf18:45 Uhr Start 10 km Lauf \n\n\n\nStart/ZielKreissportanlage (Stadion)-Äußerer Ring \n\n\n\nStreckenverlauf\n\n\n\nGelaufen wird auf einer attraktiven Geländestrecke außerhalbvon Marktheidenfeld. Start und Ziel befinden sich im Stadion. DieLäufe über 5/10 km werden als Wendepunktstrecke angeboten. \n\n\n\nZeitmessung\n\n\n\nDie Zeitmessung erfolgt automatisch und ausschließlich mit demSAS Startnummernchip. Die Startnummer mit dem Chip ist einEinwegprodukt und muss im Ziel nicht zurückgegeben werden.Achtung! Die Startnummer darf nicht in der Größe verändertoder gefaltet werden. Sie ist flach und deutlich sichtbar vorne aufBrusthöhe zu tragen. \n\n\n\nStreckenversorgung\n\n\n\nNach 2\,5 km\, 5 km\, 7\,5 km und im Stadion werden an einerVerpflegungsstation Getränke gereicht.KlasseneinteilungenTeilnahmeberechtigt ist jeder!Bambini-Lauf 630 mW3/M3 Jg. 2021 – W6/M6 Jg. 2018Schüler-Lauf 1260 mW7/M7 Jg. 2017 – W15/M15 Jg. 2009 \n\n\n\n5 km Firmenlauf / 10 km LaufU18\, U20 Hauptklasse\, ab W30/M30 in 5er Wertung \n\n\n\n4 x 630 m SchülerstaffellaufW7/M7 Jg. 2017 – W15/M15 Jg. 2009gemeinsame Wertung ohne Altersklassen \n\n\n\n5 km Firmenlauf TeamwertungVier Läufer/-innen einer Firma oder einer Laufgemeinschaft bildenein Team. Die jeweils 4 schnellsten jeder Firma/Laufgemeinschaftwerden automatisch über den Teamnamen erfasst\, ebenso dienächsten 4 usw.. Somit ist keine Teamumstellung nötig durchkurzfristige Änderungen. \n\n\n\nErgebnislisten\n\n\n\nEin Aushang der Ergebnislisten erfolgt laufend amVeranstaltungstag im Umfeld des Stadions. Ein Ergebnisdienstbesteht über die Zielzeit Info App bzw. überwww.sas-zeitmesssysteme.de. \n\n\n\n\nANMELDUNG HIER
URL:https://rickyssporttreff.de/event/kreuzemer-landschaftslauf-2/
LOCATION:Bayern
CATEGORIES:Laufen
ATTACH;FMTTYPE=application/pdf:https://rickyssporttreff.de/wp-content/uploads/2024/06/warema-lauf_programmflyer_20240301_low.pdf
END:VEVENT
BEGIN:VEVENT
DTSTART;TZID=Europe/Berlin:20240719T000000
DTEND;TZID=Europe/Berlin:20240719T235959
DTSTAMP:20260425T150317
CREATED:20240626T123503Z
LAST-MODIFIED:20240626T123504Z
UID:9421-1721347200-1721433599@rickyssporttreff.de
SUMMARY:Buchenthal Crosslauf 13.07. Steinfeld-Hausen
DESCRIPTION:Start/Ziel: Sportplatz Hausen \n\n\n\nStreckenführung:1 Runde 7\,5 km bzw. 4\,5 km durch das Buchental(Asphalt\, Schotter\, Waldwege mit kurzen Anstiegen) \n\n\n\nInfos/Kontakt:Gerhard Seidel\, Am Forst 45\, 97854 HausenTelefon: 09359/1500\, Email: gerhard.seidel@online.deAnmeldung Online möglich unterwww.sv-hausen-rohrbach.deAnmeldeschluß 10.07.2024 \n\n\n\nNachmeldung bis 1 Stunde vor dem jeweiligen Start möglich.Startunterlagen/Startgebühren: Die Ausgabe der Startunterlagenund Zahlung der Gebühren erfolgt am 13.07. ab 11:00 Uhr imStart/Ziel Bereich.Die Siegerehrungen finden im Zielbereich statt.Klasseneinteilung: \n\n\n\nBambini – Jahrgang 2018 und jünger\,Schüler 1 – Jahrgang 2015 – 2017Schüler 2 – Jahrgang 2012 – 2014Kurzstrecke (4\,5 km): Schüler ab Jahrgang 2011 und älterHauptlauf (7\,5 km): Schüler ab Jahrgang 2009 und älterGetrennte Mädchen- und Jungenwertung \n\n\n\nStartzeit:12:30 Uhr Schüler-Lauf 1\,5 km (Schüler 1)12:45 Uhr Schüler-Lauf 3\,0 km (Schüler 2)13:15 Uhr Bambini – Jahrgang 2018 und jünger(ohne Zeitnahme)13:30 Uhr Siegerehrung Schüler + Bambini14:00 Uhr Kurzstrecke 4\,5 km(Läufer\, Walker)15:15 Uhr Hauptlauf 7\,5 km(Läufer) \n\n\n\nim Anschluss Siegerehrung im Zielbereich \n\n\n\nOrganisationsbeitrag: 10€ Hauptlauf\, 8€ Kurzstrecke\,Schüler 2€ und Bambini frei. \n\n\n\nTeilnehmer am Schüler- und Bambinilauf erhalten ein Läuferge-schenk! (So lange der Vorrat reicht) \n\n\n\n\nANMELDUNG HIER
URL:https://rickyssporttreff.de/event/kreuzemer-landschaftslauf-2-2/
LOCATION:Bayern
CATEGORIES:Laufen
ATTACH;FMTTYPE=application/pdf:https://rickyssporttreff.de/wp-content/uploads/2024/06/warema-lauf_programmflyer_20240301_low.pdf
END:VEVENT
END:VCALENDAR