BEGIN:VCALENDAR
VERSION:2.0
PRODID:-//Ricky&#039;s Sport Treff - Marktheidenfeld - ECPv6.15.20//NONSGML v1.0//EN
CALSCALE:GREGORIAN
METHOD:PUBLISH
X-WR-CALNAME:Ricky&#039;s Sport Treff - Marktheidenfeld
X-ORIGINAL-URL:https://rickyssporttreff.de
X-WR-CALDESC:Veranstaltungen für Ricky&#039;s Sport Treff - Marktheidenfeld
REFRESH-INTERVAL;VALUE=DURATION:PT1H
X-Robots-Tag:noindex
X-PUBLISHED-TTL:PT1H
BEGIN:VTIMEZONE
TZID:Europe/Berlin
BEGIN:DAYLIGHT
TZOFFSETFROM:+0100
TZOFFSETTO:+0200
TZNAME:CEST
DTSTART:20230326T010000
END:DAYLIGHT
BEGIN:STANDARD
TZOFFSETFROM:+0200
TZOFFSETTO:+0100
TZNAME:CET
DTSTART:20231029T010000
END:STANDARD
BEGIN:DAYLIGHT
TZOFFSETFROM:+0100
TZOFFSETTO:+0200
TZNAME:CEST
DTSTART:20240331T010000
END:DAYLIGHT
BEGIN:STANDARD
TZOFFSETFROM:+0200
TZOFFSETTO:+0100
TZNAME:CET
DTSTART:20241027T010000
END:STANDARD
BEGIN:DAYLIGHT
TZOFFSETFROM:+0100
TZOFFSETTO:+0200
TZNAME:CEST
DTSTART:20250330T010000
END:DAYLIGHT
BEGIN:STANDARD
TZOFFSETFROM:+0200
TZOFFSETTO:+0100
TZNAME:CET
DTSTART:20251026T010000
END:STANDARD
END:VTIMEZONE
BEGIN:VEVENT
DTSTART;TZID=Europe/Berlin:20241108T100000
DTEND;TZID=Europe/Berlin:20241108T110000
DTSTAMP:20260425T055045
CREATED:20241027T185249Z
LAST-MODIFIED:20241105T135225Z
UID:13795-1731060000-1731063600@rickyssporttreff.de
SUMMARY:Yoga am Freitag | 9 Uhr
DESCRIPTION:60 Minuten Yoga mit #rickyoga \n\n\n\nBring gern Deine Matte mit. Es sind aber auch Matten\, Gurte\, Klötze vorhanden. \n\n\n\n\n\nDu kannst Dir hier einen Platz reservieren\, wenn Du wirklich kommen magst. Die Plätze sind begrenzt und es wäre schade\, wenn jemand anderes nicht kommen kann\, weil vermeintlich kein Platz mehr ist. Danke.
URL:https://rickyssporttreff.de/event/yoga-freitag-08-11/
LOCATION:Ricky´s Sporttreff\, Mitteltorstrasse 13\, Marktheidenfeld\, Bayern\, 97828\, Deutschland
CATEGORIES:Yoga
ATTACH;FMTTYPE=image/png:https://rickyssporttreff.de/wp-content/uploads/2024/07/1.png
ORGANIZER;CN="Ricky B%C3%B6hm-Hennes":MAILTO:ricky@boehm-hennes.de
END:VEVENT
BEGIN:VEVENT
DTSTART;TZID=Europe/Berlin:20241108T170000
DTEND;TZID=Europe/Berlin:20241108T170000
DTSTAMP:20260425T055045
CREATED:20241023T171224Z
LAST-MODIFIED:20241023T172019Z
UID:13667-1731085200-1731085200@rickyssporttreff.de
SUMMARY:Verlosung Stadt Land zu Fuß
DESCRIPTION:Alle zu dem Stichtag aktiven Mitglieder im Team “Rickys Sport Treff Marktheienfeld” sind in der Auslosung enthalten. Die Verlosung findet 17.00 Uhr im Ladengeschäft statt. Der Gewinner wird gezogen. \n\n\n\nDu kannst Dich hier anmelden! \n\n\n\n\nhttps://www.stadtlandzufuss.de/infos-fuer-teilnehmer/\n\n\n\n\nSchritt 1: Registrierung auf Website oder mobil App “Stadt Land zu Fuß” \n\n\n\nSchritt 2: Landkreis Main-Spessart auswählen \n\n\n\nSchritt 3: Team “Rickys Sport Treff Marktheidenfeld” auswählen – Passwort “RST_2024” \n\n\n\nSchritt 4: Schritte sammeln (aktiv sein) \n\n\n\nDer Hauptpreis ist ein Warengutschein in Höhe von 50€ (nicht bar auszahlbar). \n\n\n\nDer Gewinner wird im Anschluß direkt kontaktiert.
URL:https://rickyssporttreff.de/event/verlosung-stadt-land-zu-fuss/
LOCATION:Bayern
CATEGORIES:Laufen
END:VEVENT
BEGIN:VEVENT
DTSTART;TZID=Europe/Berlin:20241108T193000
DTEND;TZID=Europe/Berlin:20241108T203000
DTSTAMP:20260425T055045
CREATED:20240927T100115Z
LAST-MODIFIED:20241103T173317Z
UID:12577-1731094200-1731097800@rickyssporttreff.de
SUMMARY:Klangreise mit Anja
DESCRIPTION:Erlebe eine besondere Klangreise mit verschiedenen obertonreichen Instrumenten wie der Handpan\, Zungentrommel\, Sansula\, Udu-Drum\, Klangschalen\, Tibetglocken\, Pentaboard\, Balafon\, Wha Wha Pipes\, Gong. \n\n\n\nDas Klangerlebnis dauert 60 Minuten. Als Ausgleich darf jeder selbst entscheiden\, was er gern geben möchte. \n\n\n\nAnja freut sich auf Euch.
URL:https://rickyssporttreff.de/event/klangreise2/
LOCATION:Ricky´s Sporttreff\, Mitteltorstrasse 13\, Marktheidenfeld\, Bayern\, 97828\, Deutschland
CATEGORIES:Yoga
ATTACH;FMTTYPE=image/png:https://rickyssporttreff.de/wp-content/uploads/2024/09/Klang-1-e1729526378148.png
ORGANIZER;CN="Ricky B%C3%B6hm-Hennes":MAILTO:ricky@boehm-hennes.de
END:VEVENT
END:VCALENDAR