BEGIN:VCALENDAR
VERSION:2.0
PRODID:-//Ricky&#039;s Sport Treff - Marktheidenfeld - ECPv6.15.20//NONSGML v1.0//EN
CALSCALE:GREGORIAN
METHOD:PUBLISH
X-WR-CALNAME:Ricky&#039;s Sport Treff - Marktheidenfeld
X-ORIGINAL-URL:https://rickyssporttreff.de
X-WR-CALDESC:Veranstaltungen für Ricky&#039;s Sport Treff - Marktheidenfeld
REFRESH-INTERVAL;VALUE=DURATION:PT1H
X-Robots-Tag:noindex
X-PUBLISHED-TTL:PT1H
BEGIN:VTIMEZONE
TZID:Europe/Berlin
BEGIN:DAYLIGHT
TZOFFSETFROM:+0100
TZOFFSETTO:+0200
TZNAME:CEST
DTSTART:20240331T010000
END:DAYLIGHT
BEGIN:STANDARD
TZOFFSETFROM:+0200
TZOFFSETTO:+0100
TZNAME:CET
DTSTART:20241027T010000
END:STANDARD
BEGIN:DAYLIGHT
TZOFFSETFROM:+0100
TZOFFSETTO:+0200
TZNAME:CEST
DTSTART:20250330T010000
END:DAYLIGHT
BEGIN:STANDARD
TZOFFSETFROM:+0200
TZOFFSETTO:+0100
TZNAME:CET
DTSTART:20251026T010000
END:STANDARD
BEGIN:DAYLIGHT
TZOFFSETFROM:+0100
TZOFFSETTO:+0200
TZNAME:CEST
DTSTART:20260329T010000
END:DAYLIGHT
BEGIN:STANDARD
TZOFFSETFROM:+0200
TZOFFSETTO:+0100
TZNAME:CET
DTSTART:20261025T010000
END:STANDARD
END:VTIMEZONE
BEGIN:VEVENT
DTSTART;TZID=Europe/Berlin:20250111T084500
DTEND;TZID=Europe/Berlin:20250111T094500
DTSTAMP:20260424T211924
CREATED:20250104T174214Z
LAST-MODIFIED:20250104T174217Z
UID:16437-1736585100-1736588700@rickyssporttreff.de
SUMMARY:Yoga am Samstag - Asana Intensiv | 7:45 Uhr
DESCRIPTION:60 Minuten Yoga mit #rickyoga \n\n\n\nNiveau – Asana Fortgeschritten – Zielstellungen z.B. Skorpion – Handstand – Pfau… \n\n\n\nStundenaufbau Hatha: \n\n\n\nAnfangsentspannung (kurz) – Sonnengrüße – Vorübungen zur jeweiligen Haltung – Hilfestellung durch Yogalehrer – Korrekturen – Endentspannung \n\n\n\nBei Fragen\, bitte vorab Kontakt aufnehmen!! \n\n\n\n\n\nHinweis: Wenn Du an dem Tag etwas im Laden kaufst\, bekommst Du 2€ auf Deinen Kauf gutgeschrieben. \n\n\n\nBring gern Deine Matte mit. Es sind aber auch Matten\, Gurte\, Klötze vorhanden. \n\n\n\nDu kannst Dir hier einen Platz reservieren\, wenn Du wirklich kommen magst. Die Plätze sind begrenzt und es wäre schade\, wenn jemand anderes nicht kommen kann\, weil vermeintlich kein Platz mehr ist. Danke.
URL:https://rickyssporttreff.de/event/yoga-samstag-11-01-intensiv/
LOCATION:Ricky´s Sporttreff\, Mitteltorstrasse 13\, Marktheidenfeld\, Bayern\, 97828\, Deutschland
CATEGORIES:Yoga
ATTACH;FMTTYPE=image/png:https://rickyssporttreff.de/wp-content/uploads/2024/09/Yoga-Intensiv.png
ORGANIZER;CN="Ricky B%C3%B6hm-Hennes":MAILTO:ricky@boehm-hennes.de
END:VEVENT
BEGIN:VEVENT
DTSTART;TZID=Europe/Berlin:20250111T100000
DTEND;TZID=Europe/Berlin:20250111T110000
DTSTAMP:20260424T211924
CREATED:20241217T204658Z
LAST-MODIFIED:20241217T204739Z
UID:15855-1736589600-1736593200@rickyssporttreff.de
SUMMARY:Yoga am Samstag | 9 Uhr
DESCRIPTION:60 Minuten Yoga mit #rickyoga \n\n\n\nBring gern Deine Matte mit. Es sind aber auch Matten\, Gurte\, Klötze vorhanden. \n\n\n\n\n\nDu kannst Dir hier einen Platz reservieren\, wenn Du wirklich kommen magst. Die Plätze sind begrenzt und es wäre schade\, wenn jemand anderes nicht kommen kann\, weil vermeintlich kein Platz mehr ist. Danke.
URL:https://rickyssporttreff.de/event/yoga-samstag-28-12-2/
LOCATION:Ricky´s Sporttreff\, Mitteltorstrasse 13\, Marktheidenfeld\, Bayern\, 97828\, Deutschland
CATEGORIES:Yoga
ATTACH;FMTTYPE=image/png:https://rickyssporttreff.de/wp-content/uploads/2024/07/1.png
ORGANIZER;CN="Ricky B%C3%B6hm-Hennes":MAILTO:ricky@boehm-hennes.de
END:VEVENT
BEGIN:VEVENT
DTSTART;TZID=Europe/Berlin:20250111T131500
DTEND;TZID=Europe/Berlin:20250111T140000
DTSTAMP:20260424T211924
CREATED:20241218T143938Z
LAST-MODIFIED:20250101T200342Z
UID:15922-1736601300-1736604000@rickyssporttreff.de
SUMMARY:Eltern-Kind Yoga 3 bis 6 Jahre
DESCRIPTION:Sabrina Mandel wird die 45min. Kinder-Yoga-Stunde halten. \n\n\n\nDas erwartet euch: \n\n\n\n\nSpielerische und altersgerechte Vermittlung von Körper-\, Atem- und Entspannungsübungen\n\n\n\nTolle Unternehmung mit deinem Kind\, um eure Bindung zu stärken\n\n\n\n\nBitte bringt mit: \n\n\n\n\nEine Yogamatte bzw. Gymnastikmatte (eine Matte pro Familie reicht aus)\n\n\n\nWarme Socken + Pulli\n\n\n\n5 € für den Unkostenbeitrag
URL:https://rickyssporttreff.de/event/eltern-kind-yoga-3-bis-6-jahre/
LOCATION:Ricky´s Sporttreff\, Mitteltorstrasse 13\, Marktheidenfeld\, Bayern\, 97828\, Deutschland
CATEGORIES:Yoga,Yoga für Kinder
ORGANIZER;CN="Sabrina Mandel":MAILTO:sabrina-mandel-yoga@gmx.de
END:VEVENT
END:VCALENDAR