BEGIN:VCALENDAR
VERSION:2.0
PRODID:-//Ricky&#039;s Sport Treff - Marktheidenfeld - ECPv6.15.20//NONSGML v1.0//EN
CALSCALE:GREGORIAN
METHOD:PUBLISH
X-ORIGINAL-URL:https://rickyssporttreff.de
X-WR-CALDESC:Veranstaltungen für Ricky&#039;s Sport Treff - Marktheidenfeld
REFRESH-INTERVAL;VALUE=DURATION:PT1H
X-Robots-Tag:noindex
X-PUBLISHED-TTL:PT1H
BEGIN:VTIMEZONE
TZID:Europe/Berlin
BEGIN:DAYLIGHT
TZOFFSETFROM:+0100
TZOFFSETTO:+0200
TZNAME:CEST
DTSTART:20240331T010000
END:DAYLIGHT
BEGIN:STANDARD
TZOFFSETFROM:+0200
TZOFFSETTO:+0100
TZNAME:CET
DTSTART:20241027T010000
END:STANDARD
BEGIN:DAYLIGHT
TZOFFSETFROM:+0100
TZOFFSETTO:+0200
TZNAME:CEST
DTSTART:20250330T010000
END:DAYLIGHT
BEGIN:STANDARD
TZOFFSETFROM:+0200
TZOFFSETTO:+0100
TZNAME:CET
DTSTART:20251026T010000
END:STANDARD
BEGIN:DAYLIGHT
TZOFFSETFROM:+0100
TZOFFSETTO:+0200
TZNAME:CEST
DTSTART:20260329T010000
END:DAYLIGHT
BEGIN:STANDARD
TZOFFSETFROM:+0200
TZOFFSETTO:+0100
TZNAME:CET
DTSTART:20261025T010000
END:STANDARD
END:VTIMEZONE
BEGIN:VEVENT
DTSTART;TZID=Europe/Berlin:20250131T090000
DTEND;TZID=Europe/Berlin:20250131T100000
DTSTAMP:20260424T211951
CREATED:20241217T202506Z
LAST-MODIFIED:20250130T122745Z
UID:15845-1738314000-1738317600@rickyssporttreff.de
SUMMARY:Yoga am Freitag | 9 Uhr
DESCRIPTION:Bring gern Deine Matte mit. Es sind aber auch Matten\, Gurte\, Klötze vorhanden. \n\n\n\n60 Minuten Yoga mit #rickyoga \n\n\n\n\n\nDu kannst Dir hier einen Platz reservieren\, wenn Du wirklich kommen magst. Die Plätze sind begrenzt und es wäre schade\, wenn jemand anderes nicht kommen kann\, weil vermeintlich kein Platz mehr ist. Danke.
URL:https://rickyssporttreff.de/event/yoga-freitag-01-31/
LOCATION:Ricky´s Sporttreff\, Mitteltorstrasse 13\, Marktheidenfeld\, Bayern\, 97828\, Deutschland
CATEGORIES:Yoga
ATTACH;FMTTYPE=image/png:https://rickyssporttreff.de/wp-content/uploads/2024/07/1.png
ORGANIZER;CN="Ricky B%C3%B6hm-Hennes":MAILTO:ricky@boehm-hennes.de
END:VEVENT
BEGIN:VEVENT
DTSTART;TZID=Europe/Berlin:20250131T183000
DTEND;TZID=Europe/Berlin:20250131T203000
DTSTAMP:20260424T211951
CREATED:20241128T113734Z
LAST-MODIFIED:20241210T220211Z
UID:15004-1738348200-1738355400@rickyssporttreff.de
SUMMARY:Yoga meets Massage - kleiner Workshop
DESCRIPTION:Erlebe eine Session aus Yoga und Massage. Die Yogaeinheit wird von Ricky angeleitet und die Massage durch die erfahrene Wellness-Masseurin Martina Freitag. Es handelt sich bei dem Workshop um achtsame Begegnung und Massage der Teilnehmer untereinander (Partnermassage). Daher wäre es ideal\, wenn du dich mit einem vertrauten Menschen (Herzmensch) anmeldest.  \n\n\n\nSolltest Du allein kommen\, gern\, sprech bitte vorab mit uns. Vielleicht gibt es ja noch jemanden\, der diese Erfahrung teilen mag.
URL:https://rickyssporttreff.de/event/yoga-meets-massage/
LOCATION:Bayern
CATEGORIES:Yoga
ATTACH;FMTTYPE=image/png:https://rickyssporttreff.de/wp-content/uploads/2024/11/YOGA-meets-massage1.png
END:VEVENT
END:VCALENDAR