BEGIN:VCALENDAR
VERSION:2.0
PRODID:-//Ricky&#039;s Sport Treff - Marktheidenfeld - ECPv6.15.20//NONSGML v1.0//EN
CALSCALE:GREGORIAN
METHOD:PUBLISH
X-ORIGINAL-URL:https://rickyssporttreff.de
X-WR-CALDESC:Veranstaltungen für Ricky&#039;s Sport Treff - Marktheidenfeld
REFRESH-INTERVAL;VALUE=DURATION:PT1H
X-Robots-Tag:noindex
X-PUBLISHED-TTL:PT1H
BEGIN:VTIMEZONE
TZID:Europe/Berlin
BEGIN:DAYLIGHT
TZOFFSETFROM:+0100
TZOFFSETTO:+0200
TZNAME:CEST
DTSTART:20240331T010000
END:DAYLIGHT
BEGIN:STANDARD
TZOFFSETFROM:+0200
TZOFFSETTO:+0100
TZNAME:CET
DTSTART:20241027T010000
END:STANDARD
BEGIN:DAYLIGHT
TZOFFSETFROM:+0100
TZOFFSETTO:+0200
TZNAME:CEST
DTSTART:20250330T010000
END:DAYLIGHT
BEGIN:STANDARD
TZOFFSETFROM:+0200
TZOFFSETTO:+0100
TZNAME:CET
DTSTART:20251026T010000
END:STANDARD
BEGIN:DAYLIGHT
TZOFFSETFROM:+0100
TZOFFSETTO:+0200
TZNAME:CEST
DTSTART:20260329T010000
END:DAYLIGHT
BEGIN:STANDARD
TZOFFSETFROM:+0200
TZOFFSETTO:+0100
TZNAME:CET
DTSTART:20261025T010000
END:STANDARD
END:VTIMEZONE
BEGIN:VEVENT
DTSTART;TZID=Europe/Berlin:20250314T090000
DTEND;TZID=Europe/Berlin:20250314T100000
DTSTAMP:20260425T031050
CREATED:20250224T210016Z
LAST-MODIFIED:20250224T210018Z
UID:18328-1741942800-1741946400@rickyssporttreff.de
SUMMARY:Yoga am Freitag | 9 Uhr
DESCRIPTION:Bring gern Deine Matte mit. Es sind aber auch Matten\, Gurte\, Klötze vorhanden. \n\n\n\n60 Minuten Yoga mit #rickyoga \n\n\n\n\n\nDu kannst Dir hier einen Platz reservieren\, wenn Du wirklich kommen magst. Die Plätze sind begrenzt und es wäre schade\, wenn jemand anderes nicht kommen kann\, weil vermeintlich kein Platz mehr ist. Danke.
URL:https://rickyssporttreff.de/event/yoga-freitag-14-03-2025/
LOCATION:Ricky´s Sporttreff\, Mitteltorstrasse 13\, Marktheidenfeld\, Bayern\, 97828\, Deutschland
CATEGORIES:Yoga
ATTACH;FMTTYPE=image/png:https://rickyssporttreff.de/wp-content/uploads/2024/07/1.png
ORGANIZER;CN="Ricky B%C3%B6hm-Hennes":MAILTO:ricky@boehm-hennes.de
END:VEVENT
BEGIN:VEVENT
DTSTART;TZID=Europe/Berlin:20250314T183000
DTEND;TZID=Europe/Berlin:20250314T200000
DTSTAMP:20260425T031050
CREATED:20250213T163340Z
LAST-MODIFIED:20250213T165939Z
UID:17954-1741977000-1741982400@rickyssporttreff.de
SUMMARY:5. Vollmond Community Run&Walk 5 & 10km #RST
DESCRIPTION:Lasst uns gemeinsam den Vollmond in Bewegung genießen. \n\n\n\nDazu lade ich Euch ein\, eine Strecke von 5km zu absolvieren\, in Deinem Zieltempo (Hinweis in der Anmeldung erbeten). Es ist KEIN WETTKAMPF! \n\n\n\nStrecke: Die Strecke ist so konzipiert\, dass wir permanent auf befestigtem Boden laufen. Wir sind nur auf dem Fußweg bzw. verkehrsberuhigerter Bereich unterwegs und kaum Höhenmeter. Du wirst begeistert sein\, das ein oder andere beleuchtete Highlight in der Stadt zu entdecken\, am gegenüberliegenden Mainufer die Skyline Hädefeld zu geniessen. Und wenn es perfekt läuft alles im Vollmondlicht. \n\n\n\nEs gilt auf der Strecke trotz sportlicher Atmosphäre das Prinzip der gegenseitigen Rücksichtnahme\, vorausschauendes Verhalten und die Einhaltung der StVO. \n\n\n\nHighlight\n\n\n\n\nWarm- und Kaltgetränke für angemeldete Läufer\n\n\n\n6 Tempogruppen (siehe Anmeldeformular)\n\n\n\nUmkleide / Toiletten vor Ort\n\n\n\nAfter-Run Networken im Laden \n\n\n\n\nFacts\n\n\n\n\nSonnenuntergang ca. 18:25Uhr
URL:https://rickyssporttreff.de/event/5-vollmondlauf-rst/
LOCATION:Bayern
CATEGORIES:Laufen
ATTACH;FMTTYPE=image/png:https://rickyssporttreff.de/wp-content/uploads/2025/02/Vollmond5-1.png
END:VEVENT
END:VCALENDAR