BEGIN:VCALENDAR
VERSION:2.0
PRODID:-//Ricky&#039;s Sport Treff - Marktheidenfeld - ECPv6.15.20//NONSGML v1.0//EN
CALSCALE:GREGORIAN
METHOD:PUBLISH
X-WR-CALNAME:Ricky&#039;s Sport Treff - Marktheidenfeld
X-ORIGINAL-URL:https://rickyssporttreff.de
X-WR-CALDESC:Veranstaltungen für Ricky&#039;s Sport Treff - Marktheidenfeld
REFRESH-INTERVAL;VALUE=DURATION:PT1H
X-Robots-Tag:noindex
X-PUBLISHED-TTL:PT1H
BEGIN:VTIMEZONE
TZID:Europe/Berlin
BEGIN:DAYLIGHT
TZOFFSETFROM:+0100
TZOFFSETTO:+0200
TZNAME:CEST
DTSTART:20240331T010000
END:DAYLIGHT
BEGIN:STANDARD
TZOFFSETFROM:+0200
TZOFFSETTO:+0100
TZNAME:CET
DTSTART:20241027T010000
END:STANDARD
BEGIN:DAYLIGHT
TZOFFSETFROM:+0100
TZOFFSETTO:+0200
TZNAME:CEST
DTSTART:20250330T010000
END:DAYLIGHT
BEGIN:STANDARD
TZOFFSETFROM:+0200
TZOFFSETTO:+0100
TZNAME:CET
DTSTART:20251026T010000
END:STANDARD
BEGIN:DAYLIGHT
TZOFFSETFROM:+0100
TZOFFSETTO:+0200
TZNAME:CEST
DTSTART:20260329T010000
END:DAYLIGHT
BEGIN:STANDARD
TZOFFSETFROM:+0200
TZOFFSETTO:+0100
TZNAME:CET
DTSTART:20261025T010000
END:STANDARD
END:VTIMEZONE
BEGIN:VEVENT
DTSTART;TZID=Europe/Berlin:20250322T074500
DTEND;TZID=Europe/Berlin:20250322T084500
DTSTAMP:20260425T001251
CREATED:20250319T092112Z
LAST-MODIFIED:20250319T092114Z
UID:18864-1742629500-1742633100@rickyssporttreff.de
SUMMARY:Yoga am Samstag - Asana Intensiv | 7:45 Uhr
DESCRIPTION:60 Minuten Yoga mit #rickyoga \n\n\n\nNiveau – Asana Fortgeschritten – Zielstellungen z.B. Skorpion – Handstand – Pfau… \n\n\n\nStundenaufbau Hatha: \n\n\n\nAnfangsentspannung (kurz) – Sonnengrüße – Vorübungen zur jeweiligen Haltung – Hilfestellung durch Yogalehrer – Korrekturen – Endentspannung \n\n\n\nBei Fragen\, bitte vorab Kontakt aufnehmen!! \n\n\n\n\n\nHinweis: Wenn Du an dem Tag etwas im Laden kaufst\, bekommst Du 2€ auf Deinen Kauf gutgeschrieben. \n\n\n\nBring gern Deine Matte mit. Es sind aber auch Matten\, Gurte\, Klötze vorhanden. \n\n\n\nDu kannst Dir hier einen Platz reservieren\, wenn Du wirklich kommen magst. Die Plätze sind begrenzt und es wäre schade\, wenn jemand anderes nicht kommen kann\, weil vermeintlich kein Platz mehr ist. Danke.
URL:https://rickyssporttreff.de/event/yoga-samstag-22-03-intensiv/
LOCATION:Ricky´s Sporttreff\, Mitteltorstrasse 13\, Marktheidenfeld\, Bayern\, 97828\, Deutschland
CATEGORIES:Yoga
ATTACH;FMTTYPE=image/png:https://rickyssporttreff.de/wp-content/uploads/2024/09/Yoga-Intensiv.png
ORGANIZER;CN="Ricky B%C3%B6hm-Hennes":MAILTO:ricky@boehm-hennes.de
END:VEVENT
BEGIN:VEVENT
DTSTART;TZID=Europe/Berlin:20250322T090000
DTEND;TZID=Europe/Berlin:20250322T100000
DTSTAMP:20260425T001251
CREATED:20250224T211635Z
LAST-MODIFIED:20250224T211638Z
UID:18351-1742634000-1742637600@rickyssporttreff.de
SUMMARY:Yoga am Samstag | 9 Uhr
DESCRIPTION:60 Minuten Yoga mit #rickyoga \n\n\n\nBring gern Deine Matte mit. Es sind aber auch Matten\, Gurte\, Klötze vorhanden. \n\n\n\n\n\nDu kannst Dir hier einen Platz reservieren\, wenn Du wirklich kommen magst. Die Plätze sind begrenzt und es wäre schade\, wenn jemand anderes nicht kommen kann\, weil vermeintlich kein Platz mehr ist. Danke.
URL:https://rickyssporttreff.de/event/yoga-samstag-22-03-25/
LOCATION:Ricky´s Sporttreff\, Mitteltorstrasse 13\, Marktheidenfeld\, Bayern\, 97828\, Deutschland
CATEGORIES:Yoga
ATTACH;FMTTYPE=image/png:https://rickyssporttreff.de/wp-content/uploads/2024/07/1.png
ORGANIZER;CN="Ricky B%C3%B6hm-Hennes":MAILTO:ricky@boehm-hennes.de
END:VEVENT
BEGIN:VEVENT
DTSTART;TZID=Europe/Berlin:20250322T183000
DTEND;TZID=Europe/Berlin:20250322T200000
DTSTAMP:20260425T001251
CREATED:20250216T183324Z
LAST-MODIFIED:20250216T183453Z
UID:18044-1742668200-1742673600@rickyssporttreff.de
SUMMARY:Yoga x Breathwork - Entdecke die Kraft des Atems
DESCRIPTION:Lass den Stress des Alltags hinter dir und begebe dich auf eine Reise der inneren Stille. \n\n\n\nDurch sanfte Asanas und achtsame Bewegungen wirst du deinen Körper spüren und gleichzeitig deinen Geist beruhigen. Die harmonische Verbindung von Körper und Atem steht im Mittelpunkt\, während wir verschiedene Atemtechniken (Breathwork) erkunden\, die dir helfen\, deine Energie zu zentrieren und deine innere Balance zu finden. \n\n\n\nEgal\, ob du ein erfahrener Yogi oder ein Neuling bist: Dieser Workshop bietet dir die Möglichkeit\, dich selbst besser kennenzulernen und die heilende Kraft des Atems zu entdecken. Lass uns gemeinsam in eine entspannende Praxis eintauchen\, die Körper\, Geist und Seele in Einklang bringt. \n\n\n\nWichtiger Hinweis: Wenn du schwanger bist oder schwerwiegende Herzkreislauferkrankungen hast\, ist diese Yogasession leider nicht für dich geeignet.
URL:https://rickyssporttreff.de/event/yoga-x-breathwork-entdecke-die-kraft-des-atems/
LOCATION:Ricky´s Sporttreff\, Mitteltorstrasse 13\, Marktheidenfeld\, Bayern\, 97828\, Deutschland
CATEGORIES:Yoga
ATTACH;FMTTYPE=image/png:https://rickyssporttreff.de/wp-content/uploads/2025/02/Yoga-x-Breathwork.png
ORGANIZER;CN="Sabrina Mandel":MAILTO:sabrina-mandel-yoga@gmx.de
END:VEVENT
END:VCALENDAR