BEGIN:VCALENDAR
VERSION:2.0
PRODID:-//Ricky&#039;s Sport Treff - Marktheidenfeld - ECPv6.15.20//NONSGML v1.0//EN
CALSCALE:GREGORIAN
METHOD:PUBLISH
X-WR-CALNAME:Ricky&#039;s Sport Treff - Marktheidenfeld
X-ORIGINAL-URL:https://rickyssporttreff.de
X-WR-CALDESC:Veranstaltungen für Ricky&#039;s Sport Treff - Marktheidenfeld
REFRESH-INTERVAL;VALUE=DURATION:PT1H
X-Robots-Tag:noindex
X-PUBLISHED-TTL:PT1H
BEGIN:VTIMEZONE
TZID:Europe/Berlin
BEGIN:DAYLIGHT
TZOFFSETFROM:+0100
TZOFFSETTO:+0200
TZNAME:CEST
DTSTART:20240331T010000
END:DAYLIGHT
BEGIN:STANDARD
TZOFFSETFROM:+0200
TZOFFSETTO:+0100
TZNAME:CET
DTSTART:20241027T010000
END:STANDARD
BEGIN:DAYLIGHT
TZOFFSETFROM:+0100
TZOFFSETTO:+0200
TZNAME:CEST
DTSTART:20250330T010000
END:DAYLIGHT
BEGIN:STANDARD
TZOFFSETFROM:+0200
TZOFFSETTO:+0100
TZNAME:CET
DTSTART:20251026T010000
END:STANDARD
BEGIN:DAYLIGHT
TZOFFSETFROM:+0100
TZOFFSETTO:+0200
TZNAME:CEST
DTSTART:20260329T010000
END:DAYLIGHT
BEGIN:STANDARD
TZOFFSETFROM:+0200
TZOFFSETTO:+0100
TZNAME:CET
DTSTART:20261025T010000
END:STANDARD
END:VTIMEZONE
BEGIN:VEVENT
DTSTART;TZID=Europe/Berlin:20250413T083000
DTEND;TZID=Europe/Berlin:20250413T093000
DTSTAMP:20260425T000531
CREATED:20250306T100509Z
LAST-MODIFIED:20250404T093059Z
UID:18642-1744533000-1744536600@rickyssporttreff.de
SUMMARY:Sightseeing & Jogging in Marktheidenfeld Sonntag
DESCRIPTION:Du läufst gern und bist vielleicht das erste mal in Marktheidenfeld. Perfekt\, dann lass es uns “laufend” gemeinsam erleben. Als zert. Lauftrainer bist Du bei mir sportlich gut aufgehoben. \n\n\n\nWir erkunden zusammen die Highlights der Stadt in ca. 60 min. (3 – 5km\, Pace ca. 6 min/km oder langsamer). Dazu laufen wir die Stationen ab und während einer kleinen Laufpause gibt es Informationen… \n\n\n\n\nStationen: Fischerbrunnen – Franck-Haus – Fleckenmauer – Mainkai -(optional: Alte Mainbrücke – Bahnlinie – Neue Brücke) – Maradies – Kreuzbergkapelle und zurück…\n\n\n\nmit Ricky (zert. Lauftrainer)\n\n\n\nDurchführung ab 5 Teilnehmer\n\n\n\n7\,-€ / Teilnehmer\n\n\n\n\nInteresse am Sight Jogging in Marktheidenfeld für eine feste Gruppe (Firmen-Event…)? Einfach Email an sport@boehm-hennes.de \n\n\n\nMittwoch | 7.30 – 8.30 UhrRicky’s Sport TreffMitteltorstrasse 13 | Marktheidenfeld
URL:https://rickyssporttreff.de/event/sightjogging-13-04/
LOCATION:Ricky´s Sporttreff\, Mitteltorstrasse 13\, Marktheidenfeld\, Bayern\, 97828\, Deutschland
CATEGORIES:sightjogging
ORGANIZER;CN="Ricky B%C3%B6hm-Hennes":MAILTO:ricky@boehm-hennes.de
END:VEVENT
BEGIN:VEVENT
DTSTART;TZID=Europe/Berlin:20250413T193000
DTEND;TZID=Europe/Berlin:20250413T203000
DTSTAMP:20260425T000531
CREATED:20250331T110030Z
LAST-MODIFIED:20250410T081505Z
UID:19167-1744572600-1744576200@rickyssporttreff.de
SUMMARY:Vollmond Community Run&Walk 5 & 10km #RST
DESCRIPTION:Lasst uns gemeinsam den Vollmond in Bewegung genießen. \n\n\n\nDazu lade ich Euch ein\, eine Strecke von 5km bzw. 10km zu absolvieren\, in Deinem Zieltempo (Hinweis in der Anmeldung erbeten). Es ist KEIN WETTKAMPF! \n\n\n\nStrecke: Die Strecke ist so konzipiert\, dass wir permanent auf befestigtem Boden laufen. Wir sind nur auf dem Fußweg bzw. verkehrsberuhigerter Bereich unterwegs und kaum Höhenmeter. Du wirst begeistert sein\, das ein oder andere beleuchtete Highlight in der Stadt zu entdecken\, am gegenüberliegenden Mainufer die Skyline Hädefeld zu geniessen. Da der Sonnenuntergang für 20:12 prognostiziert ist\, wir der Vollmond nur spärlich zu sehen sein. \n\n\n\nEs gilt auf der Strecke trotz sportlicher Atmosphäre das Prinzip der gegenseitigen Rücksichtnahme\, vorausschauendes Verhalten und die Einhaltung der StVO. \n\n\n\nHighlight\n\n\n\n\nWarm- und Kaltgetränke für angemeldete Läufer\n\n\n\n6 Tempogruppen (siehe Anmeldeformular)\n\n\n\nUmkleide / Toiletten vor Ort\n\n\n\nAfter-Run Networken im Laden \n\n\n\n\nFacts\n\n\n\n\nSonnenuntergang ca. 20:12Uhr
URL:https://rickyssporttreff.de/event/5-vollmondlauf-rst-2/
LOCATION:Ricky´s Sporttreff\, Mitteltorstrasse 13\, Marktheidenfeld\, Bayern\, 97828\, Deutschland
CATEGORIES:Laufen
ATTACH;FMTTYPE=image/png:https://rickyssporttreff.de/wp-content/uploads/2025/03/Vollmond-april.png
ORGANIZER;CN="Ricky B%C3%B6hm-Hennes":MAILTO:ricky@boehm-hennes.de
END:VEVENT
END:VCALENDAR