BEGIN:VCALENDAR
VERSION:2.0
PRODID:-//Ricky&#039;s Sport Treff - Marktheidenfeld - ECPv6.15.20//NONSGML v1.0//EN
CALSCALE:GREGORIAN
METHOD:PUBLISH
X-WR-CALNAME:Ricky&#039;s Sport Treff - Marktheidenfeld
X-ORIGINAL-URL:https://rickyssporttreff.de
X-WR-CALDESC:Veranstaltungen für Ricky&#039;s Sport Treff - Marktheidenfeld
REFRESH-INTERVAL;VALUE=DURATION:PT1H
X-Robots-Tag:noindex
X-PUBLISHED-TTL:PT1H
BEGIN:VTIMEZONE
TZID:Europe/Berlin
BEGIN:DAYLIGHT
TZOFFSETFROM:+0100
TZOFFSETTO:+0200
TZNAME:CEST
DTSTART:20240331T010000
END:DAYLIGHT
BEGIN:STANDARD
TZOFFSETFROM:+0200
TZOFFSETTO:+0100
TZNAME:CET
DTSTART:20241027T010000
END:STANDARD
BEGIN:DAYLIGHT
TZOFFSETFROM:+0100
TZOFFSETTO:+0200
TZNAME:CEST
DTSTART:20250330T010000
END:DAYLIGHT
BEGIN:STANDARD
TZOFFSETFROM:+0200
TZOFFSETTO:+0100
TZNAME:CET
DTSTART:20251026T010000
END:STANDARD
BEGIN:DAYLIGHT
TZOFFSETFROM:+0100
TZOFFSETTO:+0200
TZNAME:CEST
DTSTART:20260329T010000
END:DAYLIGHT
BEGIN:STANDARD
TZOFFSETFROM:+0200
TZOFFSETTO:+0100
TZNAME:CET
DTSTART:20261025T010000
END:STANDARD
END:VTIMEZONE
BEGIN:VEVENT
DTSTART;TZID=Europe/Berlin:20250504T100000
DTEND;TZID=Europe/Berlin:20250504T100000
DTSTAMP:20260424T164705
CREATED:20250318T132402Z
LAST-MODIFIED:20250504T052443Z
UID:18850-1746352800-1746352800@rickyssporttreff.de
SUMMARY:Lauf der Vielfalt und Begegung
DESCRIPTION:Gemeinsam mit den Mainfränkischen Werkstätten möchten wir über den Sport und das Laufen Menschen einander näher bringen. Die Mitarbeiter der verschiedenen Betriebe der Mainfränkischen Werkstätten freuen sich auf Euer Kommen. Es ist für uns dabei nicht entscheidend\, ob Du schnell oder langsam rennst\, gehst oder rollst. Sei dabei\, gemeinschaftlich. \n\n\n\nWir starten am Festplatz Martinswiese (Georg-Mayr-Strasse) gemeinsam 10:00 und drehen eine Runde von ca. 3\,5km. Der Weg ist vollständig befestigt (geteert) und verläuft auf dem Radweg / Fußweg über die Neue und Alte Mainbrücke. Für eine ausreichende Kennzeichnung ist gesorgt. \n\n\n\nFacts: \n\n\n\nSTART 10:00 \n\n\n\nKein Startgeld (kostenfrei) \n\n\n\nTeilnehmer erhalten eine Startnummer. Wer vorab online angemeldet ist (bis 04.05.2025 7:00)\, bekommt sie natürlich schneller! \n\n\n\nPlatz 1 bis 3 m/w erhalten ein Präsent. Es findet keine Zeitnahme statt! Es liegt ein Segment bei Strava auf der Strecke (link) \n\n\n\nÖffentliche Toiletten direkt am Festplatz. Parkplätze auf dem Festplatz. \n\n\n\nACHTUNG – NACHMELDUNGEN HEUTE an der Martinswiese bis 9:55 möglich.
URL:https://rickyssporttreff.de/event/lauf-der-vielfalt-undbegegnung/
LOCATION:Festplatz Martinswiese\, Festplatz Martinswiese Georg-Mayr-Straße\, Marktheidenfeld\, 97828\, Germany
CATEGORIES:Laufen
ATTACH;FMTTYPE=image/png:https://rickyssporttreff.de/wp-content/uploads/2025/03/Lauf-der-Vielfalt-und-Begegnung1.png
END:VEVENT
END:VCALENDAR