BEGIN:VCALENDAR
VERSION:2.0
PRODID:-//Ricky&#039;s Sport Treff - Marktheidenfeld - ECPv6.15.20//NONSGML v1.0//EN
CALSCALE:GREGORIAN
METHOD:PUBLISH
X-ORIGINAL-URL:https://rickyssporttreff.de
X-WR-CALDESC:Veranstaltungen für Ricky&#039;s Sport Treff - Marktheidenfeld
REFRESH-INTERVAL;VALUE=DURATION:PT1H
X-Robots-Tag:noindex
X-PUBLISHED-TTL:PT1H
BEGIN:VTIMEZONE
TZID:Europe/Berlin
BEGIN:DAYLIGHT
TZOFFSETFROM:+0100
TZOFFSETTO:+0200
TZNAME:CEST
DTSTART:20240331T010000
END:DAYLIGHT
BEGIN:STANDARD
TZOFFSETFROM:+0200
TZOFFSETTO:+0100
TZNAME:CET
DTSTART:20241027T010000
END:STANDARD
BEGIN:DAYLIGHT
TZOFFSETFROM:+0100
TZOFFSETTO:+0200
TZNAME:CEST
DTSTART:20250330T010000
END:DAYLIGHT
BEGIN:STANDARD
TZOFFSETFROM:+0200
TZOFFSETTO:+0100
TZNAME:CET
DTSTART:20251026T010000
END:STANDARD
BEGIN:DAYLIGHT
TZOFFSETFROM:+0100
TZOFFSETTO:+0200
TZNAME:CEST
DTSTART:20260329T010000
END:DAYLIGHT
BEGIN:STANDARD
TZOFFSETFROM:+0200
TZOFFSETTO:+0100
TZNAME:CET
DTSTART:20261025T010000
END:STANDARD
END:VTIMEZONE
BEGIN:VEVENT
DTSTART;TZID=Europe/Berlin:20250511T080000
DTEND;TZID=Europe/Berlin:20250511T100000
DTSTAMP:20260425T014441
CREATED:20250505T165709Z
LAST-MODIFIED:20250505T170032Z
UID:20384-1746950400-1746957600@rickyssporttreff.de
SUMMARY:Community Weinbergschneckenlauf-Training So. 11.05. 8:00 - Triefenstein-Homburg
DESCRIPTION:Gern möchten wir gemeinsam mit Teilnehmern und Interessierten des Weinbergschneckenlaufes eine Trainingsrunde in Homburg absolvieren.  \n\n\n\nDer Wettkampf selbst findet erst am So. 01.06. statt! \n\n\n\nJa\, wir wissen es ist Muttertag und trotzdem sollten Du Sonntag mal Deine Laufschuhe schnüren. \n\n\n\nWir starten am So. 11.05. 8:00 am Sportplatz Homburg und laufen die 5km und 10km. \n\n\n\nEinfach mal Strecke checken\, Höhenmeter checken und Höhenprofil einschätzen. Das kann bei der Einschätzung der Zielzeit durchaus hilfreich sein. \n\n\n\nJe nachdem wieviel Teilnehmer es sind\, können wir auch kurzfristig Tempogruppen koordinieren. \n\n\n\nDu musst Dich nicht anmelden\, einfach kommen\, pünktlich! \n\n\n\nDie Schnecke (archimedische Spirale) kann dann auch getestet werden 😉
URL:https://rickyssporttreff.de/event/wbsl-training/
LOCATION:Bayern
CATEGORIES:Laufen
END:VEVENT
END:VCALENDAR