BEGIN:VCALENDAR
VERSION:2.0
PRODID:-//Ricky&#039;s Sport Treff - Marktheidenfeld - ECPv6.15.20//NONSGML v1.0//EN
CALSCALE:GREGORIAN
METHOD:PUBLISH
X-ORIGINAL-URL:https://rickyssporttreff.de
X-WR-CALDESC:Veranstaltungen für Ricky&#039;s Sport Treff - Marktheidenfeld
REFRESH-INTERVAL;VALUE=DURATION:PT1H
X-Robots-Tag:noindex
X-PUBLISHED-TTL:PT1H
BEGIN:VTIMEZONE
TZID:Europe/Berlin
BEGIN:DAYLIGHT
TZOFFSETFROM:+0100
TZOFFSETTO:+0200
TZNAME:CEST
DTSTART:20240331T010000
END:DAYLIGHT
BEGIN:STANDARD
TZOFFSETFROM:+0200
TZOFFSETTO:+0100
TZNAME:CET
DTSTART:20241027T010000
END:STANDARD
BEGIN:DAYLIGHT
TZOFFSETFROM:+0100
TZOFFSETTO:+0200
TZNAME:CEST
DTSTART:20250330T010000
END:DAYLIGHT
BEGIN:STANDARD
TZOFFSETFROM:+0200
TZOFFSETTO:+0100
TZNAME:CET
DTSTART:20251026T010000
END:STANDARD
BEGIN:DAYLIGHT
TZOFFSETFROM:+0100
TZOFFSETTO:+0200
TZNAME:CEST
DTSTART:20260329T010000
END:DAYLIGHT
BEGIN:STANDARD
TZOFFSETFROM:+0200
TZOFFSETTO:+0100
TZNAME:CET
DTSTART:20261025T010000
END:STANDARD
END:VTIMEZONE
BEGIN:VEVENT
DTSTART;TZID=Europe/Berlin:20250611T180000
DTEND;TZID=Europe/Berlin:20250611T190000
DTSTAMP:20260424T152643
CREATED:20250602T081922Z
LAST-MODIFIED:20250602T081926Z
UID:20805-1749664800-1749668400@rickyssporttreff.de
SUMMARY:Yoga am Mittwoch | 18 Uhr KEIN YOGA
DESCRIPTION:60 Minuten Yoga mit #rickyoga \n\n\n\nACHTUNG – Am 11.06. findet wieder der Vollmondlauf statt\, daher fällt Yoga an dem Tag aus.  \n\n\n\nVielleicht magst Du ja mal beim Vollmond-Lauf mitmachen 😉
URL:https://rickyssporttreff.de/event/yoga-mittwoch-11-06-25/
LOCATION:Ricky´s Sporttreff\, Mitteltorstrasse 13\, Marktheidenfeld\, Bayern\, 97828\, Deutschland
CATEGORIES:Yoga
ATTACH;FMTTYPE=image/png:https://rickyssporttreff.de/wp-content/uploads/2024/11/Yoga-Rickyssporttreff-nov.png
ORGANIZER;CN="Ricky B%C3%B6hm-Hennes":MAILTO:ricky@boehm-hennes.de
END:VEVENT
BEGIN:VEVENT
DTSTART;TZID=Europe/Berlin:20250611T193000
DTEND;TZID=Europe/Berlin:20250611T203000
DTSTAMP:20260424T152643
CREATED:20250515T145657Z
LAST-MODIFIED:20250605T101740Z
UID:20595-1749670200-1749673800@rickyssporttreff.de
SUMMARY:Vollmond Community Run&Walk 5 & 10km #RST
DESCRIPTION:Lasst uns gemeinsam den Vollmond in Bewegung genießen. \n\n\n\nDazu lade ich Euch ein\, eine Strecke von 5km bzw. 10km zu absolvieren\, in Deinem Zieltempo (Hinweis in der Anmeldung erbeten). Es ist KEIN WETTKAMPF! \n\n\n\nStrecke: Die Strecke ist so konzipiert\, dass wir permanent auf befestigtem Boden laufen. Wir sind nur auf dem Fußweg bzw. verkehrsberuhigerter Bereich unterwegs und kaum Höhenmeter. Du wirst begeistert sein\, das ein oder andere beleuchtete Highlight in der Stadt zu entdecken\, am gegenüberliegenden Mainufer die Skyline Hädefeld zu geniessen. Da der Sonnenuntergang für 21:18 prognostiziert ist\, wir der Vollmond nur spärlich zu sehen sein. \n\n\n\nEs gilt auf der Strecke trotz sportlicher Atmosphäre das Prinzip der gegenseitigen Rücksichtnahme\, vorausschauendes Verhalten und die Einhaltung der StVO. \n\n\n\nHighlight\n\n\n\n\nWarm- und Kaltgetränke für angemeldete Läufer\n\n\n\n6 Tempogruppen (siehe Anmeldeformular)\n\n\n\nUmkleide / Toiletten vor Ort\n\n\n\nAfter-Run Networken im Laden
URL:https://rickyssporttreff.de/event/vollmondlauf-juni-25/
LOCATION:Ricky´s Sporttreff\, Mitteltorstrasse 13\, Marktheidenfeld\, Bayern\, 97828\, Deutschland
CATEGORIES:Laufen
ATTACH;FMTTYPE=image/png:https://rickyssporttreff.de/wp-content/uploads/2025/06/Vollmond-juni-2025.png
ORGANIZER;CN="Ricky B%C3%B6hm-Hennes":MAILTO:ricky@boehm-hennes.de
END:VEVENT
END:VCALENDAR