BEGIN:VCALENDAR
VERSION:2.0
PRODID:-//Ricky&#039;s Sport Treff - Marktheidenfeld - ECPv6.15.20//NONSGML v1.0//EN
CALSCALE:GREGORIAN
METHOD:PUBLISH
X-WR-CALNAME:Ricky&#039;s Sport Treff - Marktheidenfeld
X-ORIGINAL-URL:https://rickyssporttreff.de
X-WR-CALDESC:Veranstaltungen für Ricky&#039;s Sport Treff - Marktheidenfeld
REFRESH-INTERVAL;VALUE=DURATION:PT1H
X-Robots-Tag:noindex
X-PUBLISHED-TTL:PT1H
BEGIN:VTIMEZONE
TZID:Europe/Berlin
BEGIN:DAYLIGHT
TZOFFSETFROM:+0100
TZOFFSETTO:+0200
TZNAME:CEST
DTSTART:20240331T010000
END:DAYLIGHT
BEGIN:STANDARD
TZOFFSETFROM:+0200
TZOFFSETTO:+0100
TZNAME:CET
DTSTART:20241027T010000
END:STANDARD
BEGIN:DAYLIGHT
TZOFFSETFROM:+0100
TZOFFSETTO:+0200
TZNAME:CEST
DTSTART:20250330T010000
END:DAYLIGHT
BEGIN:STANDARD
TZOFFSETFROM:+0200
TZOFFSETTO:+0100
TZNAME:CET
DTSTART:20251026T010000
END:STANDARD
BEGIN:DAYLIGHT
TZOFFSETFROM:+0100
TZOFFSETTO:+0200
TZNAME:CEST
DTSTART:20260329T010000
END:DAYLIGHT
BEGIN:STANDARD
TZOFFSETFROM:+0200
TZOFFSETTO:+0100
TZNAME:CET
DTSTART:20261025T010000
END:STANDARD
END:VTIMEZONE
BEGIN:VEVENT
DTSTART;TZID=Europe/Berlin:20250621T090000
DTEND;TZID=Europe/Berlin:20250621T100000
DTSTAMP:20260423T014949
CREATED:20250606T115056Z
LAST-MODIFIED:20250620T145159Z
UID:20894-1750496400-1750500000@rickyssporttreff.de
SUMMARY:Yoga am Samstag | 9 Uhr
DESCRIPTION:60 Minuten Yoga mit #rickyoga \n\n\n\nBring gern Deine Matte mit. Es sind aber auch Matten\, Gurte\, Klötze vorhanden. \n\n\n\n\n\nDu kannst Dir hier einen Platz reservieren\, wenn Du wirklich kommen magst. Die Plätze sind begrenzt und es wäre schade\, wenn jemand anderes nicht kommen kann\, weil vermeintlich kein Platz mehr ist. Danke.
URL:https://rickyssporttreff.de/event/yoga-samstag-21-06-25/
LOCATION:Ricky´s Sporttreff\, Mitteltorstrasse 13\, Marktheidenfeld\, Bayern\, 97828\, Deutschland
CATEGORIES:Yoga
ATTACH;FMTTYPE=image/png:https://rickyssporttreff.de/wp-content/uploads/2024/07/1.png
ORGANIZER;CN="Ricky B%C3%B6hm-Hennes":MAILTO:ricky@boehm-hennes.de
END:VEVENT
BEGIN:VEVENT
DTSTART;TZID=Europe/Berlin:20250621T150000
DTEND;TZID=Europe/Berlin:20250621T170000
DTSTAMP:20260423T014949
CREATED:20250616T201340Z
LAST-MODIFIED:20250619T071016Z
UID:20902-1750518000-1750525200@rickyssporttreff.de
SUMMARY:Summer Beach - Community Run & Walk
DESCRIPTION:Im Rahmen des Summer Beach Festes in Marktheidenfeld beginnen wir vor dem Event mit einem Community Run nach dem Vorbild des Vollmondlaufes. Es ist KEIN WETTKAMPF\, ein Lauftreff\, kostenfrei. Es gilt zu jedem Zeitpunkt die Strassenverkehrsordnung und es wird von jedem Läufer Rücksichtnahme erwartet (andere Verkehrsteilnehmer\, Hunde….). \n\n\n\nIhr wählt Eure Tempogruppe und geniesst ein gutes Lauftraining unter Gleichgesinnten. \n\n\n\nDanach freue ich mich\, wenn wir den Nachmittag im Summer Beach Cafe gemütlich ausklingen lassen (bis 22 Uhr geöffnet). \n\n\n\nHinweis zu den Strecken: 5km Start/Ziel Bahnhofstrasse -> auf dem Bahndamm\, befestigter Waldweg bis Wendepunkt\, Kreis am Wendepunkt laufen und dann zurück bis “STOP”-Schild \n\n\n\nHighlight\n\n\n\n\nWasser danach (0\,5l-Flaschen am Pavillon RST)\n\n\n\nTempogruppen\n\n\n\n5 & 10km Strecke\n\n\n\nSegment 5km -> https://www.strava.com/segments/39428458\n\n\n\nWasser Verpflegungspunkt in Lengfurt – Nähe Schleuse (nur 10km Strecke\, bei ca. km 5)\n\n\n\nUmkleide-Pavillon / Toiletten vor Ort\n\n\n\nAfter-Run Networken auf dem Fest\n\n\n\n\nFacts\n\n\n\n\nParty beim Summer Beach & Surfcafe bis 22 Uhr\n\nDJ MICHL\n\n\n\nBULLRIDING\n\n\n\nFUN FOR KIDS\n\n\n\nFOTOBOX\n\n\n\nPIZZA AND MORE\n\n\n\nCREPES\n\n\n\nCOCKTAILS\n\n\n\nICECREAM
URL:https://rickyssporttreff.de/event/summer-beach/
LOCATION:Ricky´s Sporttreff\, Mitteltorstrasse 13\, Marktheidenfeld\, Bayern\, 97828\, Deutschland
CATEGORIES:Laufen
ATTACH;FMTTYPE=image/png:https://rickyssporttreff.de/wp-content/uploads/2025/06/summer-beach-run-walk-rst.png
ORGANIZER;CN="Ricky B%C3%B6hm-Hennes":MAILTO:ricky@boehm-hennes.de
END:VEVENT
END:VCALENDAR