BEGIN:VCALENDAR
VERSION:2.0
PRODID:-//Ricky&#039;s Sport Treff - Marktheidenfeld - ECPv6.15.20//NONSGML v1.0//EN
CALSCALE:GREGORIAN
METHOD:PUBLISH
X-WR-CALNAME:Ricky&#039;s Sport Treff - Marktheidenfeld
X-ORIGINAL-URL:https://rickyssporttreff.de
X-WR-CALDESC:Veranstaltungen für Ricky&#039;s Sport Treff - Marktheidenfeld
REFRESH-INTERVAL;VALUE=DURATION:PT1H
X-Robots-Tag:noindex
X-PUBLISHED-TTL:PT1H
BEGIN:VTIMEZONE
TZID:Europe/Berlin
BEGIN:DAYLIGHT
TZOFFSETFROM:+0100
TZOFFSETTO:+0200
TZNAME:CEST
DTSTART:20240331T010000
END:DAYLIGHT
BEGIN:STANDARD
TZOFFSETFROM:+0200
TZOFFSETTO:+0100
TZNAME:CET
DTSTART:20241027T010000
END:STANDARD
BEGIN:DAYLIGHT
TZOFFSETFROM:+0100
TZOFFSETTO:+0200
TZNAME:CEST
DTSTART:20250330T010000
END:DAYLIGHT
BEGIN:STANDARD
TZOFFSETFROM:+0200
TZOFFSETTO:+0100
TZNAME:CET
DTSTART:20251026T010000
END:STANDARD
BEGIN:DAYLIGHT
TZOFFSETFROM:+0100
TZOFFSETTO:+0200
TZNAME:CEST
DTSTART:20260329T010000
END:DAYLIGHT
BEGIN:STANDARD
TZOFFSETFROM:+0200
TZOFFSETTO:+0100
TZNAME:CET
DTSTART:20261025T010000
END:STANDARD
END:VTIMEZONE
BEGIN:VEVENT
DTSTART;TZID=Europe/Berlin:20250726T090000
DTEND;TZID=Europe/Berlin:20250726T100000
DTSTAMP:20260420T182353
CREATED:20250719T122044Z
LAST-MODIFIED:20250719T190741Z
UID:22002-1753520400-1753524000@rickyssporttreff.de
SUMMARY:Yoga am Samstag | 9 Uhr
DESCRIPTION:60 Minuten Yoga mit #rickyoga \n\n\n\nBring gern Deine Matte mit. Es sind aber auch Matten\, Gurte\, Klötze vorhanden. \n\n\n\n\n\nDu kannst Dir hier einen Platz reservieren\, wenn Du wirklich kommen magst. Die Plätze sind begrenzt und es wäre schade\, wenn jemand anderes nicht kommen kann\, weil vermeintlich kein Platz mehr ist. Danke.
URL:https://rickyssporttreff.de/event/yoga-samstag-26-07-25/
LOCATION:Ricky´s Sporttreff\, Mitteltorstrasse 13\, Marktheidenfeld\, Bayern\, 97828\, Deutschland
CATEGORIES:Yoga
ATTACH;FMTTYPE=image/png:https://rickyssporttreff.de/wp-content/uploads/2024/07/1.png
ORGANIZER;CN="Ricky B%C3%B6hm-Hennes":MAILTO:ricky@boehm-hennes.de
END:VEVENT
BEGIN:VEVENT
DTSTART;TZID=Europe/Berlin:20250726T103000
DTEND;TZID=Europe/Berlin:20250726T113000
DTSTAMP:20260420T182353
CREATED:20250702T151143Z
LAST-MODIFIED:20250724T105546Z
UID:21735-1753525800-1753529400@rickyssporttreff.de
SUMMARY:Yoga für Kinder
DESCRIPTION:Familien-Yoga mit Sabrina \n\n\n\nFamilien-Yoga \n\n\n\nLöwenmut \n\n\n\nFür Kinder von 3-ca. 7 Jahren mit einer Begleitperson \n\n\n\nKomm mit auf ein Abenteuer in die Savanne Afrikas! Entdecke auf spielerische Art und Weise\, dass in jedem von uns ein mutiger Löwe steckt – selbst wenn man sich manchmal klein wie eine Maus fühlt. \n\n\n\nDie Kinder lernen\, dass Mut nicht laut oder groß sein muss – sondern oft ganz leise beginnt: im eigenen Herzen. \n\n\n\nDiese Yogastunde fördert auf achtsame Weise: \n\n\n\n\nSelbstvertrauen & emotionale Stärke\n\n\n\nKörperbewusstsein & Bewegungsfreude\n\n\n\nEinen liebevollen Umgang mit sich und anderen\n\n\n\nDie Bindung zwischen Kind und Begleitperson\n\n\n\n\nBitte bringt eine Yoga oder Gymnastikmatte je Familie mit.
URL:https://rickyssporttreff.de/event/yoga-fuer-kinder-08-juni-2/
LOCATION:Ricky´s Sporttreff\, Mitteltorstrasse 13\, Marktheidenfeld\, Bayern\, 97828\, Deutschland
CATEGORIES:Yoga,Yoga für Kinder
ATTACH;FMTTYPE=image/png:https://rickyssporttreff.de/wp-content/uploads/2025/07/Kopie-von-Kopie-von-Kopie-von-Beige-Creme-Olivgruen-Organisch-Yoga-Studio-Kurse-Flyer-1080-x-1350-px-1.png
END:VEVENT
END:VCALENDAR