BEGIN:VCALENDAR
VERSION:2.0
PRODID:-//Ricky&#039;s Sport Treff - Marktheidenfeld - ECPv6.15.20//NONSGML v1.0//EN
CALSCALE:GREGORIAN
METHOD:PUBLISH
X-ORIGINAL-URL:https://rickyssporttreff.de
X-WR-CALDESC:Veranstaltungen für Ricky&#039;s Sport Treff - Marktheidenfeld
REFRESH-INTERVAL;VALUE=DURATION:PT1H
X-Robots-Tag:noindex
X-PUBLISHED-TTL:PT1H
BEGIN:VTIMEZONE
TZID:Europe/Berlin
BEGIN:DAYLIGHT
TZOFFSETFROM:+0100
TZOFFSETTO:+0200
TZNAME:CEST
DTSTART:20240331T010000
END:DAYLIGHT
BEGIN:STANDARD
TZOFFSETFROM:+0200
TZOFFSETTO:+0100
TZNAME:CET
DTSTART:20241027T010000
END:STANDARD
BEGIN:DAYLIGHT
TZOFFSETFROM:+0100
TZOFFSETTO:+0200
TZNAME:CEST
DTSTART:20250330T010000
END:DAYLIGHT
BEGIN:STANDARD
TZOFFSETFROM:+0200
TZOFFSETTO:+0100
TZNAME:CET
DTSTART:20251026T010000
END:STANDARD
BEGIN:DAYLIGHT
TZOFFSETFROM:+0100
TZOFFSETTO:+0200
TZNAME:CEST
DTSTART:20260329T010000
END:DAYLIGHT
BEGIN:STANDARD
TZOFFSETFROM:+0200
TZOFFSETTO:+0100
TZNAME:CET
DTSTART:20261025T010000
END:STANDARD
END:VTIMEZONE
BEGIN:VEVENT
DTSTART;TZID=Europe/Berlin:20250810T080000
DTEND;TZID=Europe/Berlin:20250810T100000
DTSTAMP:20260422T112622
CREATED:20250721T202218Z
LAST-MODIFIED:20250731T154154Z
UID:22115-1754812800-1754820000@rickyssporttreff.de
SUMMARY:Vollmond Community Longrun #RST
DESCRIPTION:Lasst uns gemeinsam den Vollmond in Bewegung genießen. \n\n\n\nACHTUNG es ist Laurenzi-Messe\, daher wurde der Vollmondlauf von Sa. 09.08. auf So. 10.08. gelegt. \n\n\n\nSonntag ist traditionell Longrun angesagt. Viele von Euch laufen einen entspannten langen Ausdauerlauf (GLA)\, daher bieten wir an diesem Tag 2 longruns an. \n\n\n\n\nVollmondlauf meets Sightjogging (Strecke ca. 8km\, nicht schneller als 6:00min/km rund um die Stadt mit kurzen Sightseeing-Stops) Lauf mit Ricky\n\n\n\nVollmond longrun (Strecke ca. 15km flach\, Rundlauf – Zimmern – Rothenfels\, nicht schneller als 6:00min/km) Lauf mit Andreas\n\n\n\nwenn jemand noch ein anderes Laufangebot auf die Beine stellen mag\, gern Kontakt mit mir aufnehmen\n\n\n\n\nEs gilt auf der Strecke trotz sportlicher Atmosphäre das Prinzip der gegenseitigen Rücksichtnahme\, vorausschauendes Verhalten und die Einhaltung der StVO. \n\n\n\nWie gewohnt Treffpunkt an Ricky’s Sport Treff – Mitteltorstrasse 13 – Marktheidenfeld \n\n\n\nHighlight\n\n\n\n\nKaltgetränke für angemeldete Läufer\n\n\n\nBrooks Testschuhe\n\n\n\nUmkleide / Toiletten vor Ort\n\n\n\nAfter-Run Networken im Laden \n\n\n\nirgendwas mit Espresso\n\n\n\n\nFacts\n\n\n\n\nSonnenaufgang So. 6:03Uhr\n\n\n\nganzer Vollmond Samstag 9:55 Uhr
URL:https://rickyssporttreff.de/event/vollmondlauf-longrun-08-2025/
LOCATION:Bayern
CATEGORIES:Laufen
END:VEVENT
END:VCALENDAR