BEGIN:VCALENDAR
VERSION:2.0
PRODID:-//Ricky&#039;s Sport Treff - Marktheidenfeld - ECPv6.15.20//NONSGML v1.0//EN
CALSCALE:GREGORIAN
METHOD:PUBLISH
X-WR-CALNAME:Ricky&#039;s Sport Treff - Marktheidenfeld
X-ORIGINAL-URL:https://rickyssporttreff.de
X-WR-CALDESC:Veranstaltungen für Ricky&#039;s Sport Treff - Marktheidenfeld
REFRESH-INTERVAL;VALUE=DURATION:PT1H
X-Robots-Tag:noindex
X-PUBLISHED-TTL:PT1H
BEGIN:VTIMEZONE
TZID:Europe/Berlin
BEGIN:DAYLIGHT
TZOFFSETFROM:+0100
TZOFFSETTO:+0200
TZNAME:CEST
DTSTART:20240331T010000
END:DAYLIGHT
BEGIN:STANDARD
TZOFFSETFROM:+0200
TZOFFSETTO:+0100
TZNAME:CET
DTSTART:20241027T010000
END:STANDARD
BEGIN:DAYLIGHT
TZOFFSETFROM:+0100
TZOFFSETTO:+0200
TZNAME:CEST
DTSTART:20250330T010000
END:DAYLIGHT
BEGIN:STANDARD
TZOFFSETFROM:+0200
TZOFFSETTO:+0100
TZNAME:CET
DTSTART:20251026T010000
END:STANDARD
BEGIN:DAYLIGHT
TZOFFSETFROM:+0100
TZOFFSETTO:+0200
TZNAME:CEST
DTSTART:20260329T010000
END:DAYLIGHT
BEGIN:STANDARD
TZOFFSETFROM:+0200
TZOFFSETTO:+0100
TZNAME:CET
DTSTART:20261025T010000
END:STANDARD
END:VTIMEZONE
BEGIN:VEVENT
DTSTART;TZID=Europe/Berlin:20250918T090000
DTEND;TZID=Europe/Berlin:20250918T100000
DTSTAMP:20260422T162332
CREATED:20250822T053849Z
LAST-MODIFIED:20250822T053954Z
UID:22919-1758186000-1758189600@rickyssporttreff.de
SUMMARY:Yoga am Donnerstag 9 Uhr
DESCRIPTION:Offene Stunde (Anmeldung erforderlich)  \n\n\n\nHatha Yoga mit Ricky (Yogalehrer BYV) \n\n\n\nYogamatten – Klötze – Kissen – Gurte im Yogaraum vorhanden. Bring aber gern auch Deine Matte mit. \n\n\n\nDiese Stunde ist für Anfänger geeignet.
URL:https://rickyssporttreff.de/event/yoga-do-18-09-2025/
LOCATION:Ricky´s Sporttreff\, Mitteltorstrasse 13\, Marktheidenfeld\, Bayern\, 97828\, Deutschland
CATEGORIES:Yoga
ATTACH;FMTTYPE=image/png:https://rickyssporttreff.de/wp-content/uploads/2025/08/Orange-and-Cream-Yoga-Day-Instagram-Post3.png
ORGANIZER;CN="Ricky B%C3%B6hm-Hennes":MAILTO:ricky@boehm-hennes.de
END:VEVENT
BEGIN:VEVENT
DTSTART;TZID=Europe/Berlin:20250918T181500
DTEND;TZID=Europe/Berlin:20250918T193000
DTSTAMP:20260422T162332
CREATED:20250917T064330Z
LAST-MODIFIED:20250917T064334Z
UID:23332-1758219300-1758223800@rickyssporttreff.de
SUMMARY:Yoga am Donnerstag | 18.15 Uhr - Schnuppern - Plätze begrenzt
DESCRIPTION:Es beginnt der 10er Block 75 Minuten Yoga mit Isabel Schneider (90€/Block). \n\n\n\nDu kennst Isi noch nicht und würdest gern beim Yogablock einsteigern? Dann darfst Du hier gern kostenfrei schnuppern! \n\n\n\nBring gern Deine Matte mit. Es sind aber auch Matten\, Gurte\, Klötze vorhanden. \n\n\n\n\n\nDu kannst Dir hier einen Platz reservieren\, wenn Du wirklich kommen magst. Die Plätze sind begrenzt und es wäre schade\, wenn jemand anderes nicht kommen kann\, weil vermeintlich kein Platz mehr ist. Danke. \n\n\n\n\n\nVeranstalter:\n\n\n\n\n\nOrt:
URL:https://rickyssporttreff.de/event/yoga-isi_17-07-2/
LOCATION:Ricky´s Sporttreff\, Mitteltorstrasse 13\, Marktheidenfeld\, Bayern\, 97828\, Deutschland
CATEGORIES:Yoga,Yoga-mit-Isi
ATTACH;FMTTYPE=image/png:https://rickyssporttreff.de/wp-content/uploads/2024/10/For-better-Healthy-Flexibility.png
END:VEVENT
END:VCALENDAR