BEGIN:VCALENDAR
VERSION:2.0
PRODID:-//Ricky&#039;s Sport Treff - Marktheidenfeld - ECPv6.15.20//NONSGML v1.0//EN
CALSCALE:GREGORIAN
METHOD:PUBLISH
X-WR-CALNAME:Ricky&#039;s Sport Treff - Marktheidenfeld
X-ORIGINAL-URL:https://rickyssporttreff.de
X-WR-CALDESC:Veranstaltungen für Ricky&#039;s Sport Treff - Marktheidenfeld
REFRESH-INTERVAL;VALUE=DURATION:PT1H
X-Robots-Tag:noindex
X-PUBLISHED-TTL:PT1H
BEGIN:VTIMEZONE
TZID:Europe/Berlin
BEGIN:DAYLIGHT
TZOFFSETFROM:+0100
TZOFFSETTO:+0200
TZNAME:CEST
DTSTART:20240331T010000
END:DAYLIGHT
BEGIN:STANDARD
TZOFFSETFROM:+0200
TZOFFSETTO:+0100
TZNAME:CET
DTSTART:20241027T010000
END:STANDARD
BEGIN:DAYLIGHT
TZOFFSETFROM:+0100
TZOFFSETTO:+0200
TZNAME:CEST
DTSTART:20250330T010000
END:DAYLIGHT
BEGIN:STANDARD
TZOFFSETFROM:+0200
TZOFFSETTO:+0100
TZNAME:CET
DTSTART:20251026T010000
END:STANDARD
BEGIN:DAYLIGHT
TZOFFSETFROM:+0100
TZOFFSETTO:+0200
TZNAME:CEST
DTSTART:20260329T010000
END:DAYLIGHT
BEGIN:STANDARD
TZOFFSETFROM:+0200
TZOFFSETTO:+0100
TZNAME:CET
DTSTART:20261025T010000
END:STANDARD
END:VTIMEZONE
BEGIN:VEVENT
DTSTART;TZID=Europe/Berlin:20250928T100000
DTEND;TZID=Europe/Berlin:20250928T160000
DTSTAMP:20260424T122916
CREATED:20250429T192709Z
LAST-MODIFIED:20251005T153251Z
UID:20117-1759053600-1759075200@rickyssporttreff.de
SUMMARY:6h Klostersee-Lauf - Spendenlauf
DESCRIPTION:Nachlese des KSL 2025\n\n\n\n267 Einzelstarter und 24 Staffelstarter mit knapp 3.000 Runden. Ja\, die Zeitnahme lief leider nicht wie geplant\, aber sie lief dank tatkräftiger Helfer in Plan-B-Modus. Daher die Ergebnisliste evtl. abweichend. In Summe wurde an das Sternenzelt samt Sponsoren der Betrag in Höhe von 7.000 € durch den Klosterseelauf gespendet. Danke an alle Beteiligten für diese riesige Spende. \n\n\n\n \n\n\n\n\n\nErgebnisliste\n\n\n\nErgebnisliste schnellste…\n\n\n\n\nRundenlauf um den Klostersee – 97855 Triefenstein-Trennfeld für Jedermann\, egal welches Alter\, welche Geschwindigkeit\, oder Handicap. Es wird unterschiedliche Wertungen geben\, ob schnell oder/und ausdauernd\, Alterklassen (gemäß DLV). “Jede Runde ist besser als keine!” – “Sanfte Schritte führen auch ans Ziel!” \n\n\n\n\nSpendenlauf – Benefizlauf – Sternenzelt\n\nSpendenlauf zugunsten des Kinderhospiz Sternenzelt Mainfranken. Die Einnahmen gehen abzgl. externer Kosten zugunsten des Sternenzelt. \n\n\n\n\n\n \n\n\n\n\n\n\n\n\n\nStrecke\nStreckenlänge Klostersee: 1\,81 km | 10m Höhenzunahme | überwiegend geschotterte Strecke | fester Untergrund | befahrener Waldweg \n\n\n\n\n\nStreckenlänge Klostersee: 1\,81 km | 10m Höhenzunahme\n\n\n\n\nLink zum Strava-Segment: https://www.strava.com/segments/39067621 \n\n\n\n\n\n\n\n\n\n\n\nStartgeld\n\n\nStartgebühr 10€ (5€ Kinder/Jugendliche bis 18 Jahre) + 1€ je Runde \n\n\n\nZahlung des Startgeldes bei Abholung der Startnummer (inkl. Chip) – Zahlung des Restbetrages bei Beendigung durch Läufer oder 16:00 Uhr. \n\n\n\n\n\n\n\n\nLocation / Anreise / Parken / Sanitär\nLocation: Die Fischerhütte Trennfeld ist dank Lisa geöffnet. Dort können sich Gäste mit Essen und Trinken stärken\, den Ausblick auf den Klostersee und den Kallmuth von der Terrasse aus genießen. Natürlich darf man dabei auch die Läufer anfeuern. Toiletten sind selbstverständlich vorhanden. Mehr zur Fischerhütte gibt es hier… \n\n\n\nAnreise/Parken: Trennfeld gehört zum Markt Triefenstein\, also am besten ins Navi 97855 Triefenstein\, In den Wiesen 16 (großer Parkplatz hinter der “Triefenstein-Halle”) Navi google hier… Der Parkplatz an der Fischerhütte ist sehr klein\, am besten gleich zum großen Parkplatz fahren und 5min. Fußweg Richtung Fischerhütte akzeptieren (ausgeschildert). \n\n\n\nSanitär: Wir sind sehr dankbar\, dass wir die Umkleiden/Duschen/Toiletten von Bavaria Trennfeld nutzen können. Es handelt sich um das Gebäude am Sportplatz Navi google hier… – Bitte nicht mit dem PKW anfahren\, enge Sackgasse – Keine Gewähr für die Garderobe! Weitere Toiletten befinden sich an der Fischerhütte (begrenzt). \n\n\n\n\n\n\n\n\nVerpflegung\nEine typische\, umfangreiche Verpflegungsstation (Getränke\, Obst\, Kuchen\, Riegel\, Salz\, Brote\, Nüsse…) an der Fischerhütte ist für Starter (Startnummer) eingerichtet. Die VP-Station ist nur für Läufer mit Startnummer.  \n\n\n\nWICHTIG! Wir werden aufgrund der häufigen Begegnung an der VP auf Einwegbecher zum Wegwerfen verzichten. Es gibt eine Vorrichtung\, um den Becher (nach Startnummer sortiert) abzustellen. Bring gern einen 0\,2Liter Becher mit oder kaufe vor Ort einen Silikonbecher faltbar ( 3 Modelle von 3 bis 6 €) \n\n\n\nEin umfangreiches Angebot an Speisen & Getränken steht Gästen in der Fischerhütte bereit. Mehr zum gastronomischen Angebot hier: Speisekarte \n\n\n\n\n\n\n\n\nWertungen / Ehrungen\nUrkunde digital und Eintragung für jeden Starter in Ergebnisliste nach Zahlung des Betrages. \n\n\n\nVeröffentlichung auf der Website. Ehrungen finden dann ab ca. 16.15 statt. \n\n\n\nFolgende Wertungen werden durchgeführt und veröffentlicht: \n\n\n\n\nEinzelwertung gesamt \n\n\n\nEinzelwertung Altersklasse (m/w)\n\n\n\nTeamwertung (Summe Runden der Team-Mitglieder)\n\n\n\nTeamstaffelwertung (ACHTUNG separate Anmeldung Prinzip “Staffelstab”) hier…\n\n\n\nSchnellste 3 Runden (5\,4km) / 6 Runden (10\,8km) / 12 Runden (21\,6km)\n\n\n\n\nEhrungen finden statt für Platz 1 bis 3 der o.g. Wertungen. Schnellste… nur 1.Platz! \n\n\n\nWertung: nur volle Runden bis 16:00 Uhr\, manuelle Zeitnahme (keine anteilige Streckenvermessung möglich!)\, gemäß DLV Altersklassen-Wertungen (Bsp. AK M40 – männlich 40 bis 44 Jahr)\,  \n\n\n\n\nDUV-Wertung für Ultra-Läufer ist möglich\, da eingetragener Lauf (DUV-Wertung Ultra erst ab 45km möglich -> ab 25 Runden). Der DUV (Deutsche Ultramarathon-Vereinigung e.V.) ist Die Organisation für Ultraläufer in Deutschland und unterstützt die Vernetzung dieser Läufe. Mehr erfährst Du hier… http://www.ultra-marathon.org/ \n\n\n\n\n\n\n\n\n\nWarum solltest Du das machen?\nDu läufst nicht nur für Dich\, sondern für ein gemeinschaftliches Ziel! \n\n\n\nSportliche Herausforderung\n\n\n\n\nGrenzen testen und verschieben: Ein 6-Stunden-Lauf fordert Körper und Geist. Man lernt\, mit Erschöpfung\, Schmerzen und mentalen Tiefpunkten umzugehen.\n\n\n\nLeistungsfähigkeit steigern: Das Training für einen solchen Lauf verbessert Ausdauer\, Effizienz und mentale Stärke – auch für kürzere Distanzen.\n\n\n\n\n\n\n\n\nMentale Stärke & Persönlichkeitsentwicklung\n\n\n\n\nWillenskraft entwickeln: Der Kampf gegen die Uhr (statt gegen eine fixe Distanz) fördert Disziplin\, Geduld und Zielstrebigkeit.\n\n\n\nSelbstbewusstsein stärken: Einen 6-Stunden-Lauf zu schaffen\, ist eine enorme Leistung und stärkt das Selbstvertrauen.\n\n\n\n\n\n\n\n\nDeine Gesundheit\n\n\n\n\nLangzeitausdauer trainieren: Der Körper lernt\, effizient Fett zu verbrennen und die Energiesysteme werden ökonomischer.\n\n\n\nHerz-Kreislauf-System stärken: Regelmäßiges Ausdauertraining fördert die allgemeine Gesundheit – mit Vorbereitung auch bei Ultrastrecken.\n\n\n\n\n\n\n\n\nMeditatives Training\n\n\n\n\nFlow-Zustände erleben: Viele Läufer:innen berichten von einem meditativen Zustand bei langen Läufen – eine Form der inneren Ruhe.\n\n\n\nAchtsamkeit und Selbstreflexion: Man hat Zeit\, über sich und das Leben nachzudenken – der Lauf wird zur „Reise zu sich selbst“.\n\n\n\n\n\n\n\n\nSoziale und gemeinschaftliche Aspekte\n\n\n\n\nTeil einer Community sein: Ultramarathons ziehen eine besondere\, oft sehr unterstützende Gemeinschaft an.\n\n\n\nMotivation durch gemeinsame Ziele: Gemeinsames Leiden und Durchhalten verbindet – oft entstehen dabei echte Freundschaften.\n\n\n\n\n\n\n\n\nWettkampf und Zielsetzung\n\n\n\n\nAlternative zum klassischen Marathon: Für viele ist der 6-Stunden-Lauf ein nächster Schritt nach dem Marathon.\n\n\n\nKilometer statt Zeitdruck: Du entscheidest\, wie viel du in der Zeit schaffst – das kann motivierender sein als ein starrer Zeitplan.\n\n\n\n\n\n\n\n\nIndividuelle Ziele verfolgen\n\n\n\nTraining für längere Ultramarathons: Ein 6-Stunden-Lauf ist eine ideale Vorbereitung für 100-km-Läufe oder 24-Stunden-Rennen. \n\n\n\nPersönliche Bestleistung setzen: Statt um Platzierungen geht es oft darum\, eine neue Distanz zu schaffen oder sich selbst zu übertreffen. \n\n\n\n\n\n\n\n \n\n\n\n\n\n\n\n\nWelche Teams sind am Start?\n\n\n\n\n Diese Teams sind gemeldet (gesamt)\n\n\n\n\nAbsolute Run Crew Würzburg\n\n\n\nDie\, die immer da sitzen\n\n\n\nDie Charlys\n\n\n\nDie Gragis\n\n\n\nDJK Tiefenthal\n\n\n\nDuke Cave\n\n\n\nGeising\n\n\n\nGutsMuths-Rennsteiglaufverein e.V.\n\n\n\nKilometer statt Klinker\n\n\n\nLUT Aschaffenburg\n\n\n\nMarkt Triefenstein\n\n\n\nNepal EBC-Team\n\n\n\nPacer Team\n\n\n\nRCB\n\n\n\nRettungsschwimmer-Waldbad-Lengfurt\n\n\n\nRhönläufer\n\n\n\nRST Lauftreff Marktheidenfeld\n\n\n\nRunning Family Wiesner\n\n\n\nTierfreundehof Glasofen\n\n\n\nTriathlon Club Doha\n\n\n\nTSV Jahn Kreuzwertheim\n\n\n\nTSV Viktoria Homurg Laufgruppe 1\n\n\n\nTSV Viktoria Homburg Laufgruppe 2\n\n\n\nTSV Viktoria Homburg Laufgruppe Eltern\n\n\n\nTV Burgsinn\n\n\n\nTV Haibach\n\n\n\nVfB Hafenlohr\n\n\n\nWILHELM König MTM\n\n\n\n\nStand 15.09.2025 \n\n\n\n\n\n\n\nSolltest Du Dich für eines dieser Teams anmelden\, bitte Schreibweise beachten!\n\n\n\n\n\n\n\n\nStarterliste\nStand 23.04.2026 \n\n\n\nSarahWarrington-SackTimoUlshöferDianaTörpelSteffenTörpelThomasDornburgSamuelSock\n\n\n\n\n\n\n\n\npersönliche Laufprognose (App)\nHier findest Du einen Ansatz\, wie fit Du gerade lauftechnisch bist und im “Wettkampfmodus” erreichen könntest. Ausdrücklich ein Rechenmodell. Es ist absolut unrealistisch als regelmäßiger 10km Läufer aus dem Stand 6 Stunden in Deinem Tempo durchzulaufen. Daher die Zahlen mit Vorsicht genießen!!  \n\n\n	\n		\n\n		\n			Pace ↔ Geschwindigkeit\n			Minuten pro Kilometer in km/h und umgekehrt umrechnen. \n			\n				\n					Pace (min:sec pro km)\n					\n					Du kannst 4:30\, 4.30\, 4\,30 oder einfach 430 eingeben. \n				\n				\n					Geschwindigkeit (km/h)\n					\n					Wird automatisch berechnet\, wenn Pace eingegeben wird – und umgekehrt. \n				\n			\n			\n				Zurücksetzen\n			\n		\n\n		\n			Zielzeiten-Rechner (Steffny-inspiriert)\n			Gib eine Trainingsleistung an – wir schätzen realistische Wettkampf‑Zeiten für 5 km\, 10 km\, 21\,1 km\, 42\,2 km sowie den 6‑Stunden‑Lauf („Klosterseelauf“).\n				konservativ für Marathon\n			 \n\n			\n				\n					Trainingsstrecke (km)\n					\n				\n				\n					Trainingszeit (hh:mm:ss)\n					\n					Auch ohne Doppelpunkte möglich: 5830 = 58:30\, 102030 = 1:02:30\, Trennzeichen wie .\, \,\, - gehen ebenfalls. \n				\n			\n\n			\n				\n					Optional: Trainingspace (min:sec/km)\n					\n					Wenn keine Trainingszeit: Eingabe wie 452 (4:52) oder 4.52/4\,52. \n				\n				\n					Profil\n					\n						Steffny-Standard\n						Ambitioniert\n						Vorsichtig\n					\n					Beeinflusst Ermüdungsfaktoren & Exponenten (siehe Hinweise). \n				\n			\n\n			\n				 Grundlage ist ein Trainingslauf (konservativ bewerten)\n			\n\n			\n				Zielzeiten berechnen\n				Zurücksetzen\n			\n\n			\n\n			\n			Hinweise (Steffny-inspiriert): Die Prognose nutzt die bekannte Leistungs-Kurve T₂ = T₁ · (D₂/D₁)^k. Für 5–10 km wird k≈1\,06 verwendet\, für HM ≈1\,07\, für Marathon ≈1\,08. Zusätzlich wird bei Marathon ein kleiner Zuschlag angesetzt (konservativ)\, da Steffny traditionell realistische Ziele empfiehlt. Wenn als Grundlage ein Trainingslauf gewählt ist\, wird ein kleiner Sicherheitsaufschlag addiert. Profile: Ambitioniert senkt\, Vorsichtig erhöht die Faktoren.\n			 \n		\n	\n\n	\n	\n\n\n\n\n\n\n\n\n\n\n\n\nAlternative Anmeldemöglichkeiten\n\n\n\n\nTEAM-STAFFEL-ANMELDUNG HIER…\n\n\n\n\n\n\n\n\n\n\n\n\nUnser Sponsoren \n\n\n\nunterstützen mit zusätzlich 1€ / Runde (nach Budget) \n\n\n\n\n\n\n\n\n\n\n\nWAREMA Renkhoff SE | begeisterter Globalplayer rund um Sonnenlicht Managen – 1000 Runden \n\n\n\n\n\n\n\n\n\n\n\nFertig Motors – Marktheidenfeld wegweisend in Antriebstechnik – 500 Runden \n\n\n\n\n\n\n\n\nDominik Brönner Neustadt am Main  \n\n\n\nDachdeckermeister \n\n\n\n100 Runden \n\n\n\n\n\n\n\n\n\nBeauty | Oase Sevinc Coskun – Karbach \n\n\n\n50 Runden \n\n\n\n\n\n\n\n\n\nPhilipp Hoppe \n\n\n\nMalermeister \n\n\n\n50 Runden \n\n\n\n\n\n\n\n\n\nMirko Hasselberg – Bischbrunn \n\n\n\nFliesenfachbetrieb \n\n\n\n50 Runden \n\n\n\n\n\n\n\n\n\n100 Runden \n\n\n\n\n\n\n\n\nSachspender für das Lauf-Event\n\n\n\n\n\nBrooks Running Deutschland unterstützt mit Sachspenden die Prämierung\n\n\n\n\n\nMizuno unterstützt mit Sachspenden die Prämierung\n\n\n\n\n\nAerobee unterstützt mit Sachspenden mit Verpflegung\n\n\n\n\n\n\n\n\n\n\n\n\n\nMedaillen und Pokale kommen von Anna – mit dem gestalterisches Händchen  Schaut mal hier vorbei\n\n\n\n\n\nMartinsbräu stellt das Finisher-Bier (alkoholfrei) bereit. \n\n\n\n\n\nSponsoring? \n\n\n\nEinfach bei Ricky melden!  \n\n\n\nEmail...\nWhatsapp...\n\n\n\n\n\n\n\n\n\n\n\n\n\nVeranstalter des Klosterseelaufes ist\n\n\n\n\n\n\n\n\n\n\n\n\n\n\n\nParkplätze / Übernachtung\n\n\n\nÖffentliche Parkplätze sind unterhalb der Triefenstein-Halle “Parkplatz Klostersee” ausreichend vorhanden. Wohnmobile / Camper bitten wir auf den Campingplatz Triefenstein-Lengfurt zu wechseln. Hier zum Camping Main-Spessart-Park \n\n\n\nStartnummernausgabe\n\n\n\nVorangemeldete LäuferInnen erhalten eine personalisierte Startnummer samt Sicherheitsnadeln ab 8 Uhr an der Fischerhütte Trennfeld. Nachmeldungen je nach Zeitkontingent möglicht. Hinweise auf der Website beachten!
URL:https://rickyssporttreff.de/event/6h-klosterseelauf/
LOCATION:Klostersee – Fischerhütte\, Bahnhofstrasse 5a\, Triefenstein-Trennfeld\, 97855\, Germany
CATEGORIES:Laufen
ATTACH;FMTTYPE=image/jpeg:https://rickyssporttreff.de/wp-content/uploads/2025/04/klosterseelauf-25.jpg
END:VEVENT
BEGIN:VEVENT
DTSTART;TZID=Europe/Berlin:20250928T100000
DTEND;TZID=Europe/Berlin:20250928T160000
DTSTAMP:20260424T122916
CREATED:20250630T081631Z
LAST-MODIFIED:20250730T104913Z
UID:21554-1759053600-1759075200@rickyssporttreff.de
SUMMARY:6h Klostersee-Lauf TEAMSTAFFEL - Spendenlauf
DESCRIPTION:Rundenlauf um den Klostersee – 97855 Triefenstein-Trennfeld für Jedermann\, egal welches Alter\, welche Geschwindigkeit\, oder Handicap. Die Team-Staffel erhält eine Team-Startnummer analog “Staffelstab”. Die Teammitlglieder können sich die Reihenfolge und Rundenzahl je Teammitglied selbst und frei einteilen. Das Team-Ergebnis zählt!! \n\n\n\n\nSpendenlauf – Benefizlauf – Sternenzelt\n\nSpendenlauf zugunsten des Kinderhospiz Sternenzelt Mainfranken. Die Einnahmen gehen abzgl. externer Kosten zugunsten des Sternenzelt. \n\n\n\n\n\n\n\n\n\n\nStrecke\nStreckenlänge Klostersee: 1\,81 km | 10m Höhenzunahme | überwiegend geschotterte Strecke | fester Untergrund | befahrener Waldweg \n\n\n\n\nLink zum Strava-Segment: https://www.strava.com/segments/39067621 \n\n\n\n\n\n\n\n\n\nStartgeld\n\n\nStartgebühr 3€ (2€ Kinder/Jugendliche bis 18 Jahre) je Teammitglied + 1€ je Runde \n\n\n\n\n\n\n\n\nLocation\nDie Fischerhütte Trennfeld ist dank Lisa geöffnet. Dort können sich Gäste mit Essen und Trinken stärken\, den Ausblick auf den Klostersee und den Kallmuth von der Terrasse aus genießen. Natürlich darf man dabei auch die Läufer anfeuern. Toiletten sind selbstverständlich vorhanden. Mehr zur Fischerhütte gibt es hier… \n\n\n\n\n\n\n\n\nVerpflegung\nEine typische\, umfangreiche Verpflegungsstation (Getränke\, Obst\, Kuchen\, Riegel\, Salz\, Brote\, Nüsse…) an der Fischerhütte ist für Starter (Startnummer) eingerichtet. Die VP-Station ist nur für Läufer mit Startnummer. Ein umfangreiches Angebot an Speisen & Getränken steht Gästen in der Fischerhütte bereit. \n\n\n\n\n\n\n\n\nWertung TEAMSTAFFEL\nFür Mitglieder eines Staffelteams ist keine Einzelwertung möglich. Das Team mit den meisten Runden wird prämiert. Das Team organisiert sich im Rahmen der Einteilung frei und selbst\, nur mit gemeldeten Team-Mitgliedern (jedes Team-Mitglied bitte vor dem Laufen bei der Startnummern-Ausgabe anmelden!) \n\n\n\n\n\n\n\n\nWarum Du im Team starten solltest\n🏃 Das gemeinsame Ziel im Fokus\n\n\n\nSportliche Herausforderung\n\n\n\n\nGrenzen testen und verschieben: Ein 6-Stunden-Lauf fordert Körper und Geist. Man lernt\, mit Erschöpfung\, Schmerzen und mentalen Tiefpunkten umzugehen.\n\n\n\nLeistungsfähigkeit steigern: Das Training für einen solchen Lauf verbessert Ausdauer\, Effizienz und mentale Stärke – auch für kürzere Distanzen.\n\n\n\n\n\n\n\n\n🧠 Mentale Stärke & Persönlichkeitsentwicklung\n\n\n\n\nWillenskraft entwickeln: Der Kampf gegen die Uhr (statt gegen eine fixe Distanz) fördert Disziplin\, Geduld und Zielstrebigkeit.\n\n\n\nSelbstbewusstsein stärken: Einen 6-Stunden-Lauf zu schaffen\, ist eine enorme Leistung und stärkt das Selbstvertrauen.\n\n\n\n\n\n\n\n\n❤️ Gesundheitliche Vorteile\n\n\n\n\nLangzeitausdauer trainieren: Der Körper lernt\, effizient Fett zu verbrennen und die Energiesysteme werden ökonomischer.\n\n\n\nHerz-Kreislauf-System stärken: Regelmäßiges Ausdauertraining fördert die allgemeine Gesundheit – mit Vorbereitung auch bei Ultrastrecken.\n\n\n\n\n\n\n\n\n🧘‍♂️ Meditative Erfahrung\n\n\n\n\nFlow-Zustände erleben: Viele Läufer:innen berichten von einem meditativen Zustand bei langen Läufen – eine Form der inneren Ruhe.\n\n\n\nAchtsamkeit und Selbstreflexion: Man hat Zeit\, über sich und das Leben nachzudenken – der Lauf wird zur „Reise zu sich selbst“.\n\n\n\n\n\n\n\n\n🌍 Soziale und gemeinschaftliche Aspekte\n\n\n\n\nTeil einer Community sein: Ultramarathons ziehen eine besondere\, oft sehr unterstützende Gemeinschaft an.\n\n\n\nMotivation durch gemeinsame Ziele: Gemeinsames Leiden und Durchhalten verbindet – oft entstehen dabei echte Freundschaften.\n\n\n\n\n\n\n\n\n🥇 Wettkampf und Zielsetzung\n\n\n\n\nAlternative zum klassischen Marathon: Für viele ist der 6-Stunden-Lauf ein nächster Schritt nach dem Marathon.\n\n\n\nKilometer statt Zeitdruck: Du entscheidest\, wie viel du in der Zeit schaffst – das kann motivierender sein als ein starrer Zeitplan.\n\n\n\n\n\n\n\n\n🎯 Individuelle Ziele verfolgen\n\n\n\n\nPersönliche Bestleistung setzen: Statt um Platzierungen geht es oft darum\, eine neue Distanz zu schaffen oder sich selbst zu übertreffen.\n\n\n\nTraining für längere Ultramarathons: Ein 6-Stunden-Lauf ist eine ideale Vorbereitung für 100-km-Läufe oder 24-Stunden-Rennen.\n\n\n\n\n\n\n\n\n\nWelche Teams sind am Start?\n\n\n\n\n Diese Teams sind gemeldet (gesamt)\n\n\n\n\nAbsolute Run Crew Würzburg\n\n\n\nDie\, die immer da sitzen\n\n\n\nDie Charlys\n\n\n\nDie Gragis\n\n\n\nDJK Tiefenthal\n\n\n\nDuke Cave\n\n\n\nGeising\n\n\n\nGutsMuths-Rennsteiglaufverein e.V.\n\n\n\nKilometer statt Klinker\n\n\n\nLUT Aschaffenburg\n\n\n\nMarkt Triefenstein\n\n\n\nNepal EBC-Team\n\n\n\nPacer Team\n\n\n\nRCB\n\n\n\nRettungsschwimmer-Waldbad-Lengfurt\n\n\n\nRhönläufer\n\n\n\nRST Lauftreff Marktheidenfeld\n\n\n\nRunning Family Wiesner\n\n\n\nTierfreundehof Glasofen\n\n\n\nTriathlon Club Doha\n\n\n\nTSV Jahn Kreuzwertheim\n\n\n\nTSV Viktoria Homurg Laufgruppe 1\n\n\n\nTSV Viktoria Homburg Laufgruppe 2\n\n\n\nTSV Viktoria Homburg Laufgruppe Eltern\n\n\n\nTV Burgsinn\n\n\n\nTV Haibach\n\n\n\nVfB Hafenlohr\n\n\n\nWILHELM König MTM\n\n\n\n\nStand 15.09.2025 \n\n\n\n\n\n\n\nSolltest Du Dich für eines dieser Teams anmelden\, bitte Schreibweise beachten!\n\n\n\n\n\n\n\n\n\n\n\n\n\n\nUnser Sponsoren \n\n\n\nunterstützen mit zusätzlich 1€ / Runde (nach Budget) \n\n\n\n\n\n\n\n\n100 Runden \n\n\n\n\n\n\n\n\n\n50 Runden \n\n\n\n\n\n\n\n\nSponsoring? \n\n\n\nEinfach bei Ricky melden!  \n\n\n\nEmail...\nWhatsapp...\n\n\n\n\n\n\n\n\n\n\n\nAlternative Startmöglichkeiten\n\n\n\n\nEINZELSTARTER-Meldung hier…\n\n\n\n\n\n\n\n\nVeranstalter:\n\n\n\n\n\n\n\n\n\n\n\n\n\n\n\nParkplätze / Übernachtung\n\n\n\nÖffentliche Parkplätze sind unterhalb der Triefenstein-Halle “Parkplatz Klostersee” ausreichend vorhanden. Wohnmobile / Camper bitten wir auf den Campingplatz Triefenstein-Lengfurt zu wechseln. Hier zum Camping Main-Spessart-Park \n\n\n\nStartnummernausgabe\n\n\n\nVorangemeldete LäuferInnen erhalten eine personalisierte Startnummer samt Sicherheitsnadeln ab 8 Uhr an der Fischerhütte Trennfeld. Nachmeldungen je nach Zeitkontingent möglicht. Hinweise auf der Website beachten!
URL:https://rickyssporttreff.de/event/6h-klosterseelauf-staffel/
LOCATION:Bayern
CATEGORIES:Laufen
ATTACH;FMTTYPE=image/jpeg:https://rickyssporttreff.de/wp-content/uploads/2025/04/klosterseelauf-25.jpg
END:VEVENT
BEGIN:VEVENT
DTSTART;TZID=Europe/Berlin:20250928T100000
DTEND;TZID=Europe/Berlin:20250928T160000
DTSTAMP:20260424T122916
CREATED:20250926T154937Z
LAST-MODIFIED:20251003T222408Z
UID:23767-1759053600-1759075200@rickyssporttreff.de
SUMMARY:KSL- Spenderliste
DESCRIPTION:Unser Sponsoren \n\n\n\nunterstützen mit zusätzlich 1€ / Runde (nach Budget) \n\n\n\n\n\n\n\n\n\n\n\nWAREMA Renkhoff SE  \n\n\n\n\n\n\n\n\n\n\n\nFertig Motors – Marktheidenfeld  \n\n\n\n\n\n\n\n\nDominik Brönner Neustadt am Main  \n\n\n\nDachdeckermeister \n\n\n\n \n\n\n\n\n\n\n\n\n\nBeauty | Oase Sevinc Coskun – Karbach \n\n\n\n \n\n\n\n\n\n\n\n\n\nPhilipp Hoppe \n\n\n\nMalermeister \n\n\n\n \n\n\n\n\n\n\n\n\n\nMirko Hasselberg – Bischbrunn \n\n\n\nFliesenfachbetrieb \n\n\n\n \n\n\n\n\n\n\n\n\n\n \n\n\n\n\nMedaillen und Pokale kommen von Anna – mit dem gestalterisches Händchen  Schaut mal hier vorbei\n\n\n\n\n\n\n\nPhysioRaum – Marktheidenfeld  \n\n\n\n \n\n\n\n \n\n\n\n \n\n\n\n \n\n\n\n \n\n\n\n \n\n\n\nSachspender für das Lauf-Event\n\n\n\n\n\nBrooks Running Deutschland unterstützt mit Sachspenden die Prämierung\n\n\n\n\n\nMizuno unterstützt mit Sachspenden die Prämierung\n\n\n\n\n\nAerobee unterstützt mit Sachspenden mit Verpflegung\n\n\n\n\n\n\n\n\n\n\n\n\n\n\n\n\n\nMartinsbräu stellt das Finisher-Bier (alkoholfrei) bereit.
URL:https://rickyssporttreff.de/event/ksl-spenderliste/
LOCATION:Bayern
CATEGORIES:Laufen
ATTACH;FMTTYPE=image/jpeg:https://rickyssporttreff.de/wp-content/uploads/2025/04/klosterseelauf-25.jpg
END:VEVENT
END:VCALENDAR