BEGIN:VCALENDAR
VERSION:2.0
PRODID:-//Ricky&#039;s Sport Treff - Marktheidenfeld - ECPv6.15.20//NONSGML v1.0//EN
CALSCALE:GREGORIAN
METHOD:PUBLISH
X-WR-CALNAME:Ricky&#039;s Sport Treff - Marktheidenfeld
X-ORIGINAL-URL:https://rickyssporttreff.de
X-WR-CALDESC:Veranstaltungen für Ricky&#039;s Sport Treff - Marktheidenfeld
REFRESH-INTERVAL;VALUE=DURATION:PT1H
X-Robots-Tag:noindex
X-PUBLISHED-TTL:PT1H
BEGIN:VTIMEZONE
TZID:Europe/Berlin
BEGIN:DAYLIGHT
TZOFFSETFROM:+0100
TZOFFSETTO:+0200
TZNAME:CEST
DTSTART:20230326T010000
END:DAYLIGHT
BEGIN:STANDARD
TZOFFSETFROM:+0200
TZOFFSETTO:+0100
TZNAME:CET
DTSTART:20231029T010000
END:STANDARD
BEGIN:DAYLIGHT
TZOFFSETFROM:+0100
TZOFFSETTO:+0200
TZNAME:CEST
DTSTART:20240331T010000
END:DAYLIGHT
BEGIN:STANDARD
TZOFFSETFROM:+0200
TZOFFSETTO:+0100
TZNAME:CET
DTSTART:20241027T010000
END:STANDARD
BEGIN:DAYLIGHT
TZOFFSETFROM:+0100
TZOFFSETTO:+0200
TZNAME:CEST
DTSTART:20250330T010000
END:DAYLIGHT
BEGIN:STANDARD
TZOFFSETFROM:+0200
TZOFFSETTO:+0100
TZNAME:CET
DTSTART:20251026T010000
END:STANDARD
END:VTIMEZONE
BEGIN:VEVENT
DTSTART;TZID=Europe/Berlin:20240302T100000
DTEND;TZID=Europe/Berlin:20240302T110000
DTSTAMP:20260425T202701
CREATED:20240123T102413Z
LAST-MODIFIED:20240123T102418Z
UID:4767-1709373600-1709377200@rickyssporttreff.de
SUMMARY:Yoga am Samstag | 9 Uhr
DESCRIPTION:60 Minuten Yoga mit #rickyoga \n\n\n\nBring gern Deine Matte mit. Es sind aber auch Matten\, Gurte\, Klötze vorhanden. \n\n\n\n\n\nDu kannst Dir hier einen Platz reservieren\, wenn Du wirklich kommen magst. Die Plätze sind begrenzt und es wäre schade\, wenn jemand anderes nicht kommen kann\, weil vermeintlich kein Platz mehr ist. Danke.
URL:https://rickyssporttreff.de/event/yoga-samstag-24-feb-2024-2/
LOCATION:Ricky´s Sporttreff\, Mitteltorstrasse 13\, Marktheidenfeld\, Bayern\, 97828\, Deutschland
CATEGORIES:Yoga
ORGANIZER;CN="Ricky B%C3%B6hm-Hennes":MAILTO:ricky@boehm-hennes.de
END:VEVENT
BEGIN:VEVENT
DTSTART;TZID=Europe/Berlin:20240302T140000
DTEND;TZID=Europe/Berlin:20240302T163000
DTSTAMP:20260425T202701
CREATED:20240130T075848Z
LAST-MODIFIED:20240202T202344Z
UID:5052-1709388000-1709397000@rickyssporttreff.de
SUMMARY:Yoga - Isi Chakra Flow
DESCRIPTION:Wünschst Du Dir mehr Sicherheit\, Stabilität und Urvertrauen unabhängig von äußeren Umständen? \n\n\n\nFließt Du gelassen mit dem sich stets verändernden Strom des Lebens oder sehnst Du Dich nach mehr Geborgenheit und Vertrauen in Dich und Deinen Körper? \n\n\n\nDann ist dieser Workshop genau das Richtige für Dich! \n\n\n\n\nAnfangsentspannung \n\n\n\nAffirmation für mehr Vertrauen \n\n\n\nYoga Chakra Flow “Wurzelchakra”\n\n\n\nTiefenentspannung\n\n\n\n\nPlane bitte 2\,5 Stunden ein.
URL:https://rickyssporttreff.de/event/yoga-isi-chakra-flow/
LOCATION:Bayern
CATEGORIES:Yoga
ATTACH;FMTTYPE=image/png:https://rickyssporttreff.de/wp-content/uploads/2024/01/Yoga-Chakra-Flow.png
END:VEVENT
BEGIN:VEVENT
DTSTART;TZID=Europe/Berlin:20240308T060000
DTEND;TZID=Europe/Berlin:20240308T210000
DTSTAMP:20260425T202701
CREATED:20240202T202356Z
LAST-MODIFIED:20240308T102818Z
UID:5241-1709877600-1709931600@rickyssporttreff.de
SUMMARY:Mädelsabend (Eintritt frei)
DESCRIPTION:Am Weltfrauentag laden wir Euch ein\, einen netten Abend in Ricky’s Sport Treff zu erleben. Nimm gern eine Freundin mit. \n\n\n\nEs erwarten Dich  \n\n\n\n\nein Secco (gratis)*\n\n\n\nCup Cakes*\n\n\n\nGewinnspiel (Warengutscheine im Wert von 100€)*\n\n\n\nModenschau (17.30)\n\nYoga/Laufen/Fitness/Outdoor/Bike\n\n\n\n\n\nLive Musik mit Sherrie & Klaus\n\n\n\nBeauty Oase – Permanent Make Up Expertin – Kosmetik\n\n\n\nMary Kay für Selfcare & Selbstliebe vor Ort\n\n\n\nWeinkeller Friedrich – Weine der Region\n\n\n\nhandmade bags & accessoires aus der Region\n\n\n\n\n \n\n\n\n* nur für reservierte Plätze\, solange Vorrat reicht.
URL:https://rickyssporttreff.de/event/ladies-night/
LOCATION:Bayern
ATTACH;FMTTYPE=image/jpeg:https://rickyssporttreff.de/wp-content/uploads/2024/02/Maedelsabend2.jpg
END:VEVENT
BEGIN:VEVENT
DTSTART;TZID=Europe/Berlin:20240309T100000
DTEND;TZID=Europe/Berlin:20240309T110000
DTSTAMP:20260425T202701
CREATED:20240214T190146Z
LAST-MODIFIED:20240214T190152Z
UID:5559-1709978400-1709982000@rickyssporttreff.de
SUMMARY:Yoga am Samstag | 9 Uhr
DESCRIPTION:60 Minuten Yoga mit #rickyoga \n\n\n\nBring gern Deine Matte mit. Es sind aber auch Matten\, Gurte\, Klötze vorhanden. \n\n\n\n\n\nDu kannst Dir hier einen Platz reservieren\, wenn Du wirklich kommen magst. Die Plätze sind begrenzt und es wäre schade\, wenn jemand anderes nicht kommen kann\, weil vermeintlich kein Platz mehr ist. Danke.
URL:https://rickyssporttreff.de/event/yoga-samstag-24-feb-2024-2-2/
LOCATION:Ricky´s Sporttreff\, Mitteltorstrasse 13\, Marktheidenfeld\, Bayern\, 97828\, Deutschland
CATEGORIES:Yoga
ORGANIZER;CN="Ricky B%C3%B6hm-Hennes":MAILTO:ricky@boehm-hennes.de
END:VEVENT
BEGIN:VEVENT
DTSTART;TZID=Europe/Berlin:20240309T113000
DTEND;TZID=Europe/Berlin:20240309T123000
DTSTAMP:20260425T202701
CREATED:20240228T204358Z
LAST-MODIFIED:20240228T210213Z
UID:5979-1709983800-1709987400@rickyssporttreff.de
SUMMARY:Yoga für Kinder
DESCRIPTION:Yoga für Kinder \n\n\n\nIhr Kind darf spielerisch Bewegung und Entspannung als Gegensatzzum oft leistungsorientierten Alltag finden. Es bekommt Raum\,sich aus der Reizüberflutung zu lösen und seine eigene Kreativitätausleben zu dürfen. \n\n\n\nDurch Bewegungsspiele\, Yoga Tierfiguren\, Phantasiereisen wird IhrKind spielerisch angehalten “tief” durchzuatmen und nach “Innen”zu lauschen. Zudem bauen die Übungen einen kräftigen Körper aufund stärken den Geist. \n\n\n\n\nAnleitung durch Evi\n\n\n\n5€ / Teilnehmer\n\n\n\n\nMittwoch 09.03.2024
URL:https://rickyssporttreff.de/event/yoga-fuer-kinder-2-2/
LOCATION:Bayern
CATEGORIES:Yoga,Yoga für Kinder
END:VEVENT
BEGIN:VEVENT
DTSTART;TZID=Europe/Berlin:20240313T190000
DTEND;TZID=Europe/Berlin:20240313T200000
DTSTAMP:20260425T202701
CREATED:20240214T193817Z
LAST-MODIFIED:20240214T193823Z
UID:5593-1710356400-1710360000@rickyssporttreff.de
SUMMARY:Yoga Mittwoch | 18.00
DESCRIPTION:60 Minuten Yoga mit #rickyoga \n\n\n\nBring gern Deine Matte mit. Es sind aber auch Matten\, Gurte\, Klötze vorhanden. \n\n\n\n\n\nDu kannst Dir hier einen Platz reservieren\, wenn Du wirklich kommen magst. Die Plätze sind begrenzt und es wäre schade\, wenn jemand anderes nicht kommen kann\, weil vermeintlich kein Platz mehr ist. Danke.
URL:https://rickyssporttreff.de/event/yoga-mittwoch-13-maerz/
LOCATION:Ricky´s Sporttreff\, Mitteltorstrasse 13\, Marktheidenfeld\, Bayern\, 97828\, Deutschland
CATEGORIES:Yoga
ORGANIZER;CN="Ricky B%C3%B6hm-Hennes":MAILTO:ricky@boehm-hennes.de
END:VEVENT
BEGIN:VEVENT
DTSTART;TZID=Europe/Berlin:20240316T100000
DTEND;TZID=Europe/Berlin:20240316T110000
DTSTAMP:20260425T202701
CREATED:20240214T191357Z
LAST-MODIFIED:20240312T091742Z
UID:5563-1710583200-1710586800@rickyssporttreff.de
SUMMARY:Yoga am Samstag | 9 Uhr
DESCRIPTION:60 Minuten Yoga mit #rickyoga \n\n\n\nBring gern Deine Matte mit. Es sind aber auch Matten\, Gurte\, Klötze vorhanden. \n\n\n\n\n\nDu kannst Dir hier einen Platz reservieren\, wenn Du wirklich kommen magst. Die Plätze sind begrenzt und es wäre schade\, wenn jemand anderes nicht kommen kann\, weil vermeintlich kein Platz mehr ist. Danke.
URL:https://rickyssporttreff.de/event/yoga-samstag-24-feb-2024-2-2-2/
LOCATION:Ricky´s Sporttreff\, Mitteltorstrasse 13\, Marktheidenfeld\, Bayern\, 97828\, Deutschland
CATEGORIES:Yoga
ORGANIZER;CN="Ricky B%C3%B6hm-Hennes":MAILTO:ricky@boehm-hennes.de
END:VEVENT
BEGIN:VEVENT
DTSTART;TZID=Europe/Berlin:20240316T113000
DTEND;TZID=Europe/Berlin:20240316T123000
DTSTAMP:20260425T202701
CREATED:20240228T205653Z
LAST-MODIFIED:20240228T205658Z
UID:5989-1710588600-1710592200@rickyssporttreff.de
SUMMARY:Yoga für Kinder
DESCRIPTION:Yoga für Kinder \n\n\n\nIhr Kind darf spielerisch Bewegung und Entspannung als Gegensatzzum oft leistungsorientierten Alltag finden. Es bekommt Raum\,sich aus der Reizüberflutung zu lösen und seine eigene Kreativitätausleben zu dürfen. \n\n\n\nDurch Bewegungsspiele\, Yoga Tierfiguren\, Phantasiereisen wird IhrKind spielerisch angehalten “tief” durchzuatmen und nach “Innen”zu lauschen. Zudem bauen die Übungen einen kräftigen Körper aufund stärken den Geist. \n\n\n\n\nAnleitung durch Evi\n\n\n\n5€ / Teilnehmer\n\n\n\n\nMittwoch 16.03.2024
URL:https://rickyssporttreff.de/event/yoga-fuer-kinder-2-2-2/
LOCATION:Bayern
CATEGORIES:Yoga,Yoga für Kinder
END:VEVENT
BEGIN:VEVENT
DTSTART;TZID=Europe/Berlin:20240316T140000
DTEND;TZID=Europe/Berlin:20240316T153000
DTSTAMP:20260425T202701
CREATED:20240130T074939Z
LAST-MODIFIED:20240227T062527Z
UID:5046-1710597600-1710603000@rickyssporttreff.de
SUMMARY:HIIT meets Yoga
DESCRIPTION:Es erwartet Dich eine sportliche 90-Minuten-Einheit\, in der Du gemeinsam mit Michaela Wehner das Trainingsprinzip Intervall als Fitness-Block und im Anschluß eine Yogaeinheit in der Ausrichtung Haltung / Entspannung mit Ricky genießen darfst.
URL:https://rickyssporttreff.de/event/intervall-meets-yoga/
LOCATION:Bayern
CATEGORIES:Fitness,Yoga
ATTACH;FMTTYPE=image/jpeg:https://rickyssporttreff.de/wp-content/uploads/2024/01/WhatsApp-Image-2024-02-26-at-20.04.46.jpeg
END:VEVENT
BEGIN:VEVENT
DTSTART;TZID=Europe/Berlin:20240320T190000
DTEND;TZID=Europe/Berlin:20240320T200000
DTSTAMP:20260425T202701
CREATED:20240214T193240Z
LAST-MODIFIED:20240214T193248Z
UID:5588-1710961200-1710964800@rickyssporttreff.de
SUMMARY:Yoga Mittwoch | 18.00
DESCRIPTION:60 Minuten Yoga mit #rickyoga \n\n\n\nBring gern Deine Matte mit. Es sind aber auch Matten\, Gurte\, Klötze vorhanden. \n\n\n\n\n\nDu kannst Dir hier einen Platz reservieren\, wenn Du wirklich kommen magst. Die Plätze sind begrenzt und es wäre schade\, wenn jemand anderes nicht kommen kann\, weil vermeintlich kein Platz mehr ist. Danke.
URL:https://rickyssporttreff.de/event/yoga-mittwoch-20-maerz/
LOCATION:Ricky´s Sporttreff\, Mitteltorstrasse 13\, Marktheidenfeld\, Bayern\, 97828\, Deutschland
CATEGORIES:Yoga
ORGANIZER;CN="Ricky B%C3%B6hm-Hennes":MAILTO:ricky@boehm-hennes.de
END:VEVENT
BEGIN:VEVENT
DTSTART;TZID=Europe/Berlin:20240323T100000
DTEND;TZID=Europe/Berlin:20240323T110000
DTSTAMP:20260425T202701
CREATED:20240214T191729Z
LAST-MODIFIED:20240214T191734Z
UID:5567-1711188000-1711191600@rickyssporttreff.de
SUMMARY:Yoga am Samstag | 9 Uhr
DESCRIPTION:60 Minuten Yoga mit #rickyoga \n\n\n\nBring gern Deine Matte mit. Es sind aber auch Matten\, Gurte\, Klötze vorhanden. \n\n\n\n\n\nDu kannst Dir hier einen Platz reservieren\, wenn Du wirklich kommen magst. Die Plätze sind begrenzt und es wäre schade\, wenn jemand anderes nicht kommen kann\, weil vermeintlich kein Platz mehr ist. Danke.
URL:https://rickyssporttreff.de/event/yoga-samstag-23-maerz/
LOCATION:Ricky´s Sporttreff\, Mitteltorstrasse 13\, Marktheidenfeld\, Bayern\, 97828\, Deutschland
CATEGORIES:Yoga
ORGANIZER;CN="Ricky B%C3%B6hm-Hennes":MAILTO:ricky@boehm-hennes.de
END:VEVENT
BEGIN:VEVENT
DTSTART;TZID=Europe/Berlin:20240323T113000
DTEND;TZID=Europe/Berlin:20240323T123000
DTSTAMP:20260425T202701
CREATED:20240228T205818Z
LAST-MODIFIED:20240228T205824Z
UID:5993-1711193400-1711197000@rickyssporttreff.de
SUMMARY:Yoga für Kinder
DESCRIPTION:Yoga für Kinder \n\n\n\nIhr Kind darf spielerisch Bewegung und Entspannung als Gegensatzzum oft leistungsorientierten Alltag finden. Es bekommt Raum\,sich aus der Reizüberflutung zu lösen und seine eigene Kreativitätausleben zu dürfen. \n\n\n\nDurch Bewegungsspiele\, Yoga Tierfiguren\, Phantasiereisen wird IhrKind spielerisch angehalten “tief” durchzuatmen und nach “Innen”zu lauschen. Zudem bauen die Übungen einen kräftigen Körper aufund stärken den Geist. \n\n\n\n\nAnleitung durch Evi\n\n\n\n5€ / Teilnehmer\n\n\n\n\nMittwoch 23.03.2024
URL:https://rickyssporttreff.de/event/yoga-fuer-kinder-2-2-2-2/
LOCATION:Bayern
CATEGORIES:Yoga,Yoga für Kinder
END:VEVENT
BEGIN:VEVENT
DTSTART;TZID=Europe/Berlin:20240323T130000
DTEND;TZID=Europe/Berlin:20240323T143000
DTSTAMP:20260425T202701
CREATED:20240124T193944Z
LAST-MODIFIED:20240321T101610Z
UID:4855-1711198800-1711204200@rickyssporttreff.de
SUMMARY:Lauf Coach
DESCRIPTION:Wir laufen und Du kannst Basics für Deinregelmäßiges Training mitnehmen. \n\n\n\n\nMobilisierung & Lauf ABC (Grundlagen)\n\n\n\nLauftechnik / Techniktraining / Videoanalyse\n\n\n\nverschiedene Laufübungen (Dauerlauf/Intervall)\n\n\n\nunterstützendes Coretraining & Dehnungen\n\n\n\nmit Ricky (zert. Lauftrainer)\n\n\n\n5\,-€ / Teilnehmer\n\n\n\n\nSamstag 30.03.2024 | 13 – 14.30 UhrRicky’s Sport TreffMitteltorstrasse 13 | Marktheidenfeld
URL:https://rickyssporttreff.de/event/1x1-des-laufens-2-2/
LOCATION:Bayern
CATEGORIES:Laufen
END:VEVENT
BEGIN:VEVENT
DTSTART;TZID=Europe/Berlin:20240327T190000
DTEND;TZID=Europe/Berlin:20240327T200000
DTSTAMP:20260425T202701
CREATED:20240214T194025Z
LAST-MODIFIED:20240214T194135Z
UID:5597-1711566000-1711569600@rickyssporttreff.de
SUMMARY:Yoga Mittwoch | 18.00
DESCRIPTION:60 Minuten Yoga mit #rickyoga \n\n\n\nBring gern Deine Matte mit. Es sind aber auch Matten\, Gurte\, Klötze vorhanden. \n\n\n\n\n\nDu kannst Dir hier einen Platz reservieren\, wenn Du wirklich kommen magst. Die Plätze sind begrenzt und es wäre schade\, wenn jemand anderes nicht kommen kann\, weil vermeintlich kein Platz mehr ist. Danke.
URL:https://rickyssporttreff.de/event/yoga-mittwoch-27-maerz-2/
LOCATION:Ricky´s Sporttreff\, Mitteltorstrasse 13\, Marktheidenfeld\, Bayern\, 97828\, Deutschland
CATEGORIES:Yoga
ORGANIZER;CN="Ricky B%C3%B6hm-Hennes":MAILTO:ricky@boehm-hennes.de
END:VEVENT
BEGIN:VEVENT
DTSTART;TZID=Europe/Berlin:20240330T100000
DTEND;TZID=Europe/Berlin:20240330T110000
DTSTAMP:20260425T202701
CREATED:20240214T192343Z
LAST-MODIFIED:20240214T192349Z
UID:5573-1711792800-1711796400@rickyssporttreff.de
SUMMARY:Yoga am Samstag | 9 Uhr
DESCRIPTION:60 Minuten Yoga mit #rickyoga \n\n\n\nBring gern Deine Matte mit. Es sind aber auch Matten\, Gurte\, Klötze vorhanden. \n\n\n\n\n\nDu kannst Dir hier einen Platz reservieren\, wenn Du wirklich kommen magst. Die Plätze sind begrenzt und es wäre schade\, wenn jemand anderes nicht kommen kann\, weil vermeintlich kein Platz mehr ist. Danke.
URL:https://rickyssporttreff.de/event/yoga-samstag-30-maerz/
LOCATION:Ricky´s Sporttreff\, Mitteltorstrasse 13\, Marktheidenfeld\, Bayern\, 97828\, Deutschland
CATEGORIES:Yoga
ORGANIZER;CN="Ricky B%C3%B6hm-Hennes":MAILTO:ricky@boehm-hennes.de
END:VEVENT
BEGIN:VEVENT
DTSTART;TZID=Europe/Berlin:20240330T113000
DTEND;TZID=Europe/Berlin:20240330T123000
DTSTAMP:20260425T202701
CREATED:20240323T063754Z
LAST-MODIFIED:20240329T112905Z
UID:6741-1711798200-1711801800@rickyssporttreff.de
SUMMARY:Yoga für Kinder - findet nicht statt! ( zu geringe TN-Zahl)
DESCRIPTION:Yoga für Kinder \n\n\n\nIhr Kind darf spielerisch Bewegung und Entspannung als Gegensatzzum oft leistungsorientierten Alltag finden. Es bekommt Raum\,sich aus der Reizüberflutung zu lösen und seine eigene Kreativitätausleben zu dürfen. \n\n\n\nDurch Bewegungsspiele\, Yoga Tierfiguren\, Phantasiereisen wird IhrKind spielerisch angehalten “tief” durchzuatmen und nach “Innen”zu lauschen. Zudem bauen die Übungen einen kräftigen Körper aufund stärken den Geist. \n\n\n\n\nAnleitung durch Evi\n\n\n\n5€ / Teilnehmer\n\n\n\nfindet ab 5 Teilnehmer statt\n\n\n\n\nMittwoch 30.03.2024
URL:https://rickyssporttreff.de/event/yoga-fuer-kinder-2-2-2-2-2/
LOCATION:Bayern
CATEGORIES:Yoga,Yoga für Kinder
END:VEVENT
END:VCALENDAR