BEGIN:VCALENDAR
VERSION:2.0
PRODID:-//Ricky&#039;s Sport Treff - Marktheidenfeld - ECPv6.15.20//NONSGML v1.0//EN
CALSCALE:GREGORIAN
METHOD:PUBLISH
X-ORIGINAL-URL:https://rickyssporttreff.de
X-WR-CALDESC:Veranstaltungen für Ricky&#039;s Sport Treff - Marktheidenfeld
REFRESH-INTERVAL;VALUE=DURATION:PT1H
X-Robots-Tag:noindex
X-PUBLISHED-TTL:PT1H
BEGIN:VTIMEZONE
TZID:Europe/Berlin
BEGIN:DAYLIGHT
TZOFFSETFROM:+0100
TZOFFSETTO:+0200
TZNAME:CEST
DTSTART:20230326T010000
END:DAYLIGHT
BEGIN:STANDARD
TZOFFSETFROM:+0200
TZOFFSETTO:+0100
TZNAME:CET
DTSTART:20231029T010000
END:STANDARD
BEGIN:DAYLIGHT
TZOFFSETFROM:+0100
TZOFFSETTO:+0200
TZNAME:CEST
DTSTART:20240331T010000
END:DAYLIGHT
BEGIN:STANDARD
TZOFFSETFROM:+0200
TZOFFSETTO:+0100
TZNAME:CET
DTSTART:20241027T010000
END:STANDARD
BEGIN:DAYLIGHT
TZOFFSETFROM:+0100
TZOFFSETTO:+0200
TZNAME:CEST
DTSTART:20250330T010000
END:DAYLIGHT
BEGIN:STANDARD
TZOFFSETFROM:+0200
TZOFFSETTO:+0100
TZNAME:CET
DTSTART:20251026T010000
END:STANDARD
END:VTIMEZONE
BEGIN:VEVENT
DTSTART;TZID=Europe/Berlin:20240503T203000
DTEND;TZID=Europe/Berlin:20240503T213000
DTSTAMP:20260425T172259
CREATED:20240318T115813Z
LAST-MODIFIED:20240327T204513Z
UID:6580-1714768200-1714771800@rickyssporttreff.de
SUMMARY:Klangreise mit Anja & Lutz
DESCRIPTION:Erlebe eine besondere Klangreise mit verschiedenen obertonreichen Instrumenten wie der Handpan\, Zungentrommel\, Sansula\, Udu-Drum\, Klangschalen\, Tibetglocken\, Pentaboard\, Balafon\, Wha Wha Pipes\, Gong. \n\n\n\nDas Klangerlebnis dauert 60 Minuten. Als Ausgleich darf jeder selbst entscheiden\, was er gern geben möchte. \n\n\n\nAnja-Amaia und Lutz freuen sich auf Euch.
URL:https://rickyssporttreff.de/event/klangreise/
LOCATION:Ricky´s Sporttreff\, Mitteltorstrasse 13\, Marktheidenfeld\, Bayern\, 97828\, Deutschland
CATEGORIES:Yoga
ATTACH;FMTTYPE=image/jpeg:https://rickyssporttreff.de/wp-content/uploads/2024/03/Klangreise-anja.jpg
ORGANIZER;CN="Ricky B%C3%B6hm-Hennes":MAILTO:ricky@boehm-hennes.de
END:VEVENT
BEGIN:VEVENT
DTSTART;TZID=Europe/Berlin:20240504T110000
DTEND;TZID=Europe/Berlin:20240504T120000
DTSTAMP:20260425T172259
CREATED:20240422T161021Z
LAST-MODIFIED:20240422T161026Z
UID:7669-1714820400-1714824000@rickyssporttreff.de
SUMMARY:Yoga am Samstag | 9 Uhr
DESCRIPTION:60 Minuten Yoga mit #rickyoga \n\n\n\nBring gern Deine Matte mit. Es sind aber auch Matten\, Gurte\, Klötze vorhanden. \n\n\n\n\n\nDu kannst Dir hier einen Platz reservieren\, wenn Du wirklich kommen magst. Die Plätze sind begrenzt und es wäre schade\, wenn jemand anderes nicht kommen kann\, weil vermeintlich kein Platz mehr ist. Danke.
URL:https://rickyssporttreff.de/event/yoga-samstag-04-mai/
LOCATION:Ricky´s Sporttreff\, Mitteltorstrasse 13\, Marktheidenfeld\, Bayern\, 97828\, Deutschland
CATEGORIES:Yoga
ORGANIZER;CN="Ricky B%C3%B6hm-Hennes":MAILTO:ricky@boehm-hennes.de
END:VEVENT
BEGIN:VEVENT
DTSTART;TZID=Europe/Berlin:20240504T123000
DTEND;TZID=Europe/Berlin:20240504T133000
DTSTAMP:20260425T172259
CREATED:20240407T161104Z
LAST-MODIFIED:20240407T161108Z
UID:7214-1714825800-1714829400@rickyssporttreff.de
SUMMARY:Yoga für Kinder
DESCRIPTION:Yoga für Kinder \n\n\n\n🌟 Willkommen zu unserem Kinderyoga-Abenteuer! 🌟 \n\n\n\nTauche ein in eine Welt voller Spaß\, Bewegung und Fantasie! Unsere Kinderyoga-Kurse sind nicht nur eine großartige Möglichkeit für deine Kleinen\, sich zu bewegen\, sondern auch eine Reise zu sich selbst. 🚀 \n\n\n\n🐾 Mit Bewegungsspielen bringen wir Schwung in den Alltag und fördern spielerisch die motorische Entwicklung. \n\n\n\n🦁 Mit Yoga-Tierfiguren schlüpfen wir in die Haut unserer Lieblingswesen und erleben\, wie kraftvoll und geschmeidig unser Körper sein kann. \n\n\n\n🌈 Und mit unseren Phantasiereisen entdecken wir neue Welten und lassen unsere Vorstellungskraft grenzenlos werden! \n\n\n\n\nAnleitung durch Evi\n\n\n\nidealerweise zwischen 6 und 10 Jahren\n\n\n\n5€ / Kind\n\n\n\nfindet ab 5 Kindern statt
URL:https://rickyssporttreff.de/event/yoga-fuer-kinder-27-april-2/
LOCATION:Ricky´s Sporttreff\, Mitteltorstrasse 13\, Marktheidenfeld\, Bayern\, 97828\, Deutschland
CATEGORIES:Yoga,Yoga für Kinder
ATTACH;FMTTYPE=image/png:https://rickyssporttreff.de/wp-content/uploads/2024/04/MIND-SOUL1.png
END:VEVENT
BEGIN:VEVENT
DTSTART;TZID=Europe/Berlin:20240508T200000
DTEND;TZID=Europe/Berlin:20240508T210000
DTSTAMP:20260425T172259
CREATED:20240422T162651Z
LAST-MODIFIED:20240422T162655Z
UID:7685-1715198400-1715202000@rickyssporttreff.de
SUMMARY:Yoga Mittwoch | 18.00
DESCRIPTION:60 Minuten Yoga mit #rickyoga \n\n\n\nBring gern Deine Matte mit. Es sind aber auch Matten\, Gurte\, Klötze vorhanden. \n\n\n\n\n\nDu kannst Dir hier einen Platz reservieren\, wenn Du wirklich kommen magst. Die Plätze sind begrenzt und es wäre schade\, wenn jemand anderes nicht kommen kann\, weil vermeintlich kein Platz mehr ist. Danke.
URL:https://rickyssporttreff.de/event/yoga-mittwoch-08-mai/
LOCATION:Ricky´s Sporttreff\, Mitteltorstrasse 13\, Marktheidenfeld\, Bayern\, 97828\, Deutschland
CATEGORIES:Yoga
ORGANIZER;CN="Ricky B%C3%B6hm-Hennes":MAILTO:ricky@boehm-hennes.de
END:VEVENT
BEGIN:VEVENT
DTSTART;TZID=Europe/Berlin:20240510T170000
DTEND;TZID=Europe/Berlin:20240510T200000
DTSTAMP:20260425T172259
CREATED:20240422T164745Z
LAST-MODIFIED:20240502T033947Z
UID:7705-1715360400-1715371200@rickyssporttreff.de
SUMMARY:Laufschuh - Testlauf Altra
DESCRIPTION:Du hast die Gelegenheit die Neuen Mizuno Laufschuhe draußen gern intensiv einem kleinen Lauftraining in Marktheidenfeld zu testen. \n\n\n\nKomm einfach in den Laden\, nimm Dein Laufzeug mit\, Umkleiden vorhanden und los geht es.
URL:https://rickyssporttreff.de/event/laufevent-testlauf-altra/
LOCATION:Ricky´s Sporttreff\, Mitteltorstrasse 13\, Marktheidenfeld\, Bayern\, 97828\, Deutschland
CATEGORIES:Laufen
ATTACH;FMTTYPE=image/png:https://rickyssporttreff.de/wp-content/uploads/2024/04/Laufschuh-Testlauf2.png
ORGANIZER;CN="Ricky B%C3%B6hm-Hennes":MAILTO:ricky@boehm-hennes.de
END:VEVENT
BEGIN:VEVENT
DTSTART;TZID=Europe/Berlin:20240511T110000
DTEND;TZID=Europe/Berlin:20240511T120000
DTSTAMP:20260425T172259
CREATED:20240422T161556Z
LAST-MODIFIED:20240422T161600Z
UID:7673-1715425200-1715428800@rickyssporttreff.de
SUMMARY:Yoga am Samstag | 9 Uhr
DESCRIPTION:60 Minuten Yoga mit #rickyoga \n\n\n\nBring gern Deine Matte mit. Es sind aber auch Matten\, Gurte\, Klötze vorhanden. \n\n\n\n\n\nDu kannst Dir hier einen Platz reservieren\, wenn Du wirklich kommen magst. Die Plätze sind begrenzt und es wäre schade\, wenn jemand anderes nicht kommen kann\, weil vermeintlich kein Platz mehr ist. Danke.
URL:https://rickyssporttreff.de/event/yoga-samstag-11-mai/
LOCATION:Ricky´s Sporttreff\, Mitteltorstrasse 13\, Marktheidenfeld\, Bayern\, 97828\, Deutschland
CATEGORIES:Yoga
ORGANIZER;CN="Ricky B%C3%B6hm-Hennes":MAILTO:ricky@boehm-hennes.de
END:VEVENT
BEGIN:VEVENT
DTSTART;TZID=Europe/Berlin:20240515T200000
DTEND;TZID=Europe/Berlin:20240515T210000
DTSTAMP:20260425T172259
CREATED:20240422T163107Z
LAST-MODIFIED:20240422T163111Z
UID:7690-1715803200-1715806800@rickyssporttreff.de
SUMMARY:Yoga Mittwoch | 18.00
DESCRIPTION:60 Minuten Yoga mit #rickyoga \n\n\n\nBring gern Deine Matte mit. Es sind aber auch Matten\, Gurte\, Klötze vorhanden. \n\n\n\n\n\nDu kannst Dir hier einen Platz reservieren\, wenn Du wirklich kommen magst. Die Plätze sind begrenzt und es wäre schade\, wenn jemand anderes nicht kommen kann\, weil vermeintlich kein Platz mehr ist. Danke.
URL:https://rickyssporttreff.de/event/yoga-mittwoch-15-mai/
LOCATION:Ricky´s Sporttreff\, Mitteltorstrasse 13\, Marktheidenfeld\, Bayern\, 97828\, Deutschland
CATEGORIES:Yoga
ORGANIZER;CN="Ricky B%C3%B6hm-Hennes":MAILTO:ricky@boehm-hennes.de
END:VEVENT
BEGIN:VEVENT
DTSTART;TZID=Europe/Berlin:20240518T110000
DTEND;TZID=Europe/Berlin:20240518T120000
DTSTAMP:20260425T172259
CREATED:20240422T161813Z
LAST-MODIFIED:20240422T161817Z
UID:7677-1716030000-1716033600@rickyssporttreff.de
SUMMARY:Yoga am Samstag | 9 Uhr
DESCRIPTION:60 Minuten Yoga mit #rickyoga \n\n\n\nBring gern Deine Matte mit. Es sind aber auch Matten\, Gurte\, Klötze vorhanden. \n\n\n\n\n\nDu kannst Dir hier einen Platz reservieren\, wenn Du wirklich kommen magst. Die Plätze sind begrenzt und es wäre schade\, wenn jemand anderes nicht kommen kann\, weil vermeintlich kein Platz mehr ist. Danke.
URL:https://rickyssporttreff.de/event/yoga-samstag-18-mai/
LOCATION:Ricky´s Sporttreff\, Mitteltorstrasse 13\, Marktheidenfeld\, Bayern\, 97828\, Deutschland
CATEGORIES:Yoga
ORGANIZER;CN="Ricky B%C3%B6hm-Hennes":MAILTO:ricky@boehm-hennes.de
END:VEVENT
BEGIN:VEVENT
DTSTART;TZID=Europe/Berlin:20240522T200000
DTEND;TZID=Europe/Berlin:20240522T210000
DTSTAMP:20260425T172259
CREATED:20240422T163715Z
LAST-MODIFIED:20240422T163719Z
UID:7695-1716408000-1716411600@rickyssporttreff.de
SUMMARY:Yoga Mittwoch | 18.00
DESCRIPTION:60 Minuten Yoga mit #rickyoga \n\n\n\nBring gern Deine Matte mit. Es sind aber auch Matten\, Gurte\, Klötze vorhanden. \n\n\n\n\n\nDu kannst Dir hier einen Platz reservieren\, wenn Du wirklich kommen magst. Die Plätze sind begrenzt und es wäre schade\, wenn jemand anderes nicht kommen kann\, weil vermeintlich kein Platz mehr ist. Danke.
URL:https://rickyssporttreff.de/event/yoga-mittwoch-22-mai/
LOCATION:Ricky´s Sporttreff\, Mitteltorstrasse 13\, Marktheidenfeld\, Bayern\, 97828\, Deutschland
CATEGORIES:Yoga
ORGANIZER;CN="Ricky B%C3%B6hm-Hennes":MAILTO:ricky@boehm-hennes.de
END:VEVENT
BEGIN:VEVENT
DTSTART;TZID=Europe/Berlin:20240523T170000
DTEND;TZID=Europe/Berlin:20240523T190000
DTSTAMP:20260425T172259
CREATED:20240502T032709Z
LAST-MODIFIED:20240503T064124Z
UID:7707-1716483600-1716490800@rickyssporttreff.de
SUMMARY:Laufschuh - Testlauf Mizuno
DESCRIPTION:Du hast die Gelegenheit die Neuen Mizuno Laufschuhe draußen gern intensiv einem kleinen Lauftraining in Marktheidenfeld zu testen. \n\n\n\nKomm einfach in den Laden\, nimm Dein Laufzeug mit\, Umkleiden vorhanden und los geht es.
URL:https://rickyssporttreff.de/event/laufevent-testlauf-mizuno/
LOCATION:Ricky´s Sporttreff\, Mitteltorstrasse 13\, Marktheidenfeld\, Bayern\, 97828\, Deutschland
CATEGORIES:Laufen
ATTACH;FMTTYPE=image/png:https://rickyssporttreff.de/wp-content/uploads/2024/05/Laufschuh-Testlauf.png
ORGANIZER;CN="Ricky B%C3%B6hm-Hennes":MAILTO:ricky@boehm-hennes.de
END:VEVENT
BEGIN:VEVENT
DTSTART;TZID=Europe/Berlin:20240524T150000
DTEND;TZID=Europe/Berlin:20240524T190000
DTSTAMP:20260425T172259
CREATED:20240514T140030Z
LAST-MODIFIED:20240514T140033Z
UID:8301-1716562800-1716577200@rickyssporttreff.de
SUMMARY:Laufschuh - Testlauf Altra
DESCRIPTION:Du hast die Gelegenheit die Neuen Altra Laufschuhe draußen gern intensiv einem kleinen Lauftraining in Marktheidenfeld zu testen. \n\n\n\nKomm einfach in den Laden\, nimm Dein Laufzeug mit\, Umkleiden vorhanden und los geht es.
URL:https://rickyssporttreff.de/event/laufevent-testlauf-mizuno-2/
LOCATION:Ricky´s Sporttreff\, Mitteltorstrasse 13\, Marktheidenfeld\, Bayern\, 97828\, Deutschland
CATEGORIES:Laufen
ATTACH;FMTTYPE=image/jpeg:https://rickyssporttreff.de/wp-content/uploads/2024/05/Laufschuh-Testlauf_altra-update-1.jpg
ORGANIZER;CN="Ricky B%C3%B6hm-Hennes":MAILTO:ricky@boehm-hennes.de
END:VEVENT
BEGIN:VEVENT
DTSTART;TZID=Europe/Berlin:20240525T110000
DTEND;TZID=Europe/Berlin:20240525T120000
DTSTAMP:20260425T172259
CREATED:20240422T162141Z
LAST-MODIFIED:20240422T162145Z
UID:7681-1716634800-1716638400@rickyssporttreff.de
SUMMARY:Yoga am Samstag | 9 Uhr
DESCRIPTION:60 Minuten Yoga mit #rickyoga \n\n\n\nBring gern Deine Matte mit. Es sind aber auch Matten\, Gurte\, Klötze vorhanden. \n\n\n\n\n\nDu kannst Dir hier einen Platz reservieren\, wenn Du wirklich kommen magst. Die Plätze sind begrenzt und es wäre schade\, wenn jemand anderes nicht kommen kann\, weil vermeintlich kein Platz mehr ist. Danke.
URL:https://rickyssporttreff.de/event/yoga-samstag-25-mai/
LOCATION:Ricky´s Sporttreff\, Mitteltorstrasse 13\, Marktheidenfeld\, Bayern\, 97828\, Deutschland
CATEGORIES:Yoga
ORGANIZER;CN="Ricky B%C3%B6hm-Hennes":MAILTO:ricky@boehm-hennes.de
END:VEVENT
BEGIN:VEVENT
DTSTART;TZID=Europe/Berlin:20240525T123000
DTEND;TZID=Europe/Berlin:20240525T133000
DTSTAMP:20260425T172300
CREATED:20240523T112210Z
LAST-MODIFIED:20240523T112249Z
UID:8502-1716640200-1716643800@rickyssporttreff.de
SUMMARY:Yoga für Kinder
DESCRIPTION:Yoga für Kinder \n\n\n\n🌟 Willkommen zu unserem Kinderyoga-Abenteuer! 🌟 \n\n\n\nTauche ein in eine Welt voller Spaß\, Bewegung und Fantasie! Unsere Kinderyoga-Kurse sind nicht nur eine großartige Möglichkeit für deine Kleinen\, sich zu bewegen\, sondern auch eine Reise zu sich selbst. 🚀 \n\n\n\n🐾 Mit Bewegungsspielen bringen wir Schwung in den Alltag und fördern spielerisch die motorische Entwicklung. \n\n\n\n🦁 Mit Yoga-Tierfiguren schlüpfen wir in die Haut unserer Lieblingswesen und erleben\, wie kraftvoll und geschmeidig unser Körper sein kann. \n\n\n\n🌈 Und mit unseren Phantasiereisen entdecken wir neue Welten und lassen unsere Vorstellungskraft grenzenlos werden! \n\n\n\n\nAnleitung durch Evi\n\n\n\nidealerweise zwischen 6 und 10 Jahren\n\n\n\n5€ / Kind\n\n\n\nfindet ab 5 Kindern statt
URL:https://rickyssporttreff.de/event/yoga-fuer-kinder-25-mai/
LOCATION:Ricky´s Sporttreff\, Mitteltorstrasse 13\, Marktheidenfeld\, Bayern\, 97828\, Deutschland
CATEGORIES:Yoga,Yoga für Kinder
ATTACH;FMTTYPE=image/png:https://rickyssporttreff.de/wp-content/uploads/2024/04/MIND-SOUL1.png
END:VEVENT
END:VCALENDAR