BEGIN:VCALENDAR
VERSION:2.0
PRODID:-//Ricky&#039;s Sport Treff - Marktheidenfeld - ECPv6.15.20//NONSGML v1.0//EN
CALSCALE:GREGORIAN
METHOD:PUBLISH
X-ORIGINAL-URL:https://rickyssporttreff.de
X-WR-CALDESC:Veranstaltungen für Ricky&#039;s Sport Treff - Marktheidenfeld
REFRESH-INTERVAL;VALUE=DURATION:PT1H
X-Robots-Tag:noindex
X-PUBLISHED-TTL:PT1H
BEGIN:VTIMEZONE
TZID:Europe/Berlin
BEGIN:DAYLIGHT
TZOFFSETFROM:+0100
TZOFFSETTO:+0200
TZNAME:CEST
DTSTART:20230326T010000
END:DAYLIGHT
BEGIN:STANDARD
TZOFFSETFROM:+0200
TZOFFSETTO:+0100
TZNAME:CET
DTSTART:20231029T010000
END:STANDARD
BEGIN:DAYLIGHT
TZOFFSETFROM:+0100
TZOFFSETTO:+0200
TZNAME:CEST
DTSTART:20240331T010000
END:DAYLIGHT
BEGIN:STANDARD
TZOFFSETFROM:+0200
TZOFFSETTO:+0100
TZNAME:CET
DTSTART:20241027T010000
END:STANDARD
BEGIN:DAYLIGHT
TZOFFSETFROM:+0100
TZOFFSETTO:+0200
TZNAME:CEST
DTSTART:20250330T010000
END:DAYLIGHT
BEGIN:STANDARD
TZOFFSETFROM:+0200
TZOFFSETTO:+0100
TZNAME:CET
DTSTART:20251026T010000
END:STANDARD
END:VTIMEZONE
BEGIN:VEVENT
DTSTART;TZID=Europe/Berlin:20240601T110000
DTEND;TZID=Europe/Berlin:20240601T120000
DTSTAMP:20260425T152533
CREATED:20240525T065027Z
LAST-MODIFIED:20240527T081428Z
UID:8585-1717239600-1717243200@rickyssporttreff.de
SUMMARY:Yoga am Samstag | 9 Uhr
DESCRIPTION:60 Minuten Yoga mit #rickyoga \n\n\n\nBring gern Deine Matte mit. Es sind aber auch Matten\, Gurte\, Klötze vorhanden. \n\n\n\n\n\nDu kannst Dir hier einen Platz reservieren\, wenn Du wirklich kommen magst. Die Plätze sind begrenzt und es wäre schade\, wenn jemand anderes nicht kommen kann\, weil vermeintlich kein Platz mehr ist. Danke.
URL:https://rickyssporttreff.de/event/yoga-samstag-01-juni/
LOCATION:Ricky´s Sporttreff\, Mitteltorstrasse 13\, Marktheidenfeld\, Bayern\, 97828\, Deutschland
CATEGORIES:Yoga
ORGANIZER;CN="Ricky B%C3%B6hm-Hennes":MAILTO:ricky@boehm-hennes.de
END:VEVENT
BEGIN:VEVENT
DTSTART;TZID=Europe/Berlin:20240605T200000
DTEND;TZID=Europe/Berlin:20240605T210000
DTSTAMP:20260425T152533
CREATED:20240527T083813Z
LAST-MODIFIED:20240527T084332Z
UID:8637-1717617600-1717621200@rickyssporttreff.de
SUMMARY:Yoga Mittwoch | 18.00
DESCRIPTION:60 Minuten Yoga mit #rickyoga \n\n\n\nBring gern Deine Matte mit. Es sind aber auch Matten\, Gurte\, Klötze vorhanden. \n\n\n\n\n\nDu kannst Dir hier einen Platz reservieren\, wenn Du wirklich kommen magst. Die Plätze sind begrenzt und es wäre schade\, wenn jemand anderes nicht kommen kann\, weil vermeintlich kein Platz mehr ist. Danke.
URL:https://rickyssporttreff.de/event/yoga-mittwoch-22-mai-2/
LOCATION:Ricky´s Sporttreff\, Mitteltorstrasse 13\, Marktheidenfeld\, Bayern\, 97828\, Deutschland
CATEGORIES:Yoga
ORGANIZER;CN="Ricky B%C3%B6hm-Hennes":MAILTO:ricky@boehm-hennes.de
END:VEVENT
BEGIN:VEVENT
DTSTART;TZID=Europe/Berlin:20240608T110000
DTEND;TZID=Europe/Berlin:20240608T120000
DTSTAMP:20260425T152533
CREATED:20240525T065136Z
LAST-MODIFIED:20240527T081637Z
UID:8589-1717844400-1717848000@rickyssporttreff.de
SUMMARY:Yoga am Samstag | 9 Uhr
DESCRIPTION:60 Minuten Yoga mit #rickyoga \n\n\n\nBring gern Deine Matte mit. Es sind aber auch Matten\, Gurte\, Klötze vorhanden. \n\n\n\n\n\nDu kannst Dir hier einen Platz reservieren\, wenn Du wirklich kommen magst. Die Plätze sind begrenzt und es wäre schade\, wenn jemand anderes nicht kommen kann\, weil vermeintlich kein Platz mehr ist. Danke.
URL:https://rickyssporttreff.de/event/yoga-samstag-8-juni/
LOCATION:Ricky´s Sporttreff\, Mitteltorstrasse 13\, Marktheidenfeld\, Bayern\, 97828\, Deutschland
CATEGORIES:Yoga
ORGANIZER;CN="Ricky B%C3%B6hm-Hennes":MAILTO:ricky@boehm-hennes.de
END:VEVENT
BEGIN:VEVENT
DTSTART;TZID=Europe/Berlin:20240608T123000
DTEND;TZID=Europe/Berlin:20240608T133000
DTSTAMP:20260425T152533
CREATED:20240605T044807Z
LAST-MODIFIED:20240605T051426Z
UID:8781-1717849800-1717853400@rickyssporttreff.de
SUMMARY:Yoga für Kinder
DESCRIPTION:Yoga für Kinder \n\n\n\n🌟 Willkommen zu unserem Kinderyoga-Abenteuer! 🌟 \n\n\n\nTauche ein in eine Welt voller Spaß\, Bewegung und Fantasie! Unsere Kinderyoga-Kurse sind nicht nur eine großartige Möglichkeit für deine Kleinen\, sich zu bewegen\, sondern auch eine Reise zu sich selbst. 🚀 \n\n\n\n🐾 Mit Bewegungsspielen bringen wir Schwung in den Alltag und fördern spielerisch die motorische Entwicklung. \n\n\n\n🦁 Mit Yoga-Tierfiguren schlüpfen wir in die Haut unserer Lieblingswesen und erleben\, wie kraftvoll und geschmeidig unser Körper sein kann. \n\n\n\n🌈 Und mit unseren Phantasiereisen entdecken wir neue Welten und lassen unsere Vorstellungskraft grenzenlos werden! \n\n\n\n\nAnleitung durch Evi\n\n\n\nidealerweise zwischen 6 und 10 Jahren\n\n\n\n5€ / Kind\n\n\n\nfindet ab 5 Kindern statt
URL:https://rickyssporttreff.de/event/yoga-fuer-kinder-08-juni/
LOCATION:Ricky´s Sporttreff\, Mitteltorstrasse 13\, Marktheidenfeld\, Bayern\, 97828\, Deutschland
CATEGORIES:Yoga,Yoga für Kinder
ATTACH;FMTTYPE=image/png:https://rickyssporttreff.de/wp-content/uploads/2024/04/MIND-SOUL1.png
END:VEVENT
BEGIN:VEVENT
DTSTART;TZID=Europe/Berlin:20240609T110000
DTEND;TZID=Europe/Berlin:20240609T190000
DTSTAMP:20260425T152533
CREATED:20240119T143803Z
LAST-MODIFIED:20240119T143809Z
UID:4706-1717930800-1717959600@rickyssporttreff.de
SUMMARY:Weinbergschneckenlauf | Homburg
DESCRIPTION:Wann & Wo?\n\n\n\nSonntag 09.06.2024 \n\n\n\nSportplatz \n\n\n\n97855 Homburg am Main \n\n\n\nWettbewerbe:\n\n\n\n\nBambini-Weinbergschneckenlauf 1km\n\nmehr dazu hier…\n\n\n\n\n\nSchüler-Weinbergschneckenlauf 2\,5km\n\nmehr dazu hier…\n\n\n\n\n\nWeinbergschneckenlauf 5km\n\nmehr dazu hier…\n\n\n\n\n\nWeinberglauf 10km\n\nmehr dazu hier…\n\n\n\n\n\n\nAblauf:\n\n\n\nStartnummernausgabe ab 8.00Uhr im Vereinsheim (am Sportplatz). Nachmeldungen sind gegen Aufpreis von 3€ bis 8.30 am Starttag möglich. \n\n\n\n9:00 Start Weinbergschneckenlauf 5km & Weinberglauf 10km \n\n\n\n10:15 Ehrung Weinbergschneckenlauf 5km \n\n\n\n10:45 Ehrung Weinberglauf 10km \n\n\n\n11:00 Start Schüler-Weinbergschneckenlauf 2\,5km \n\n\n\n11:30 Start Bambini-Weinbergschneckenlauf 1km \n\n\n\n12:00 Ehrung Schüler & Bambini \n\n\n\nWertungen:\n\n\n\nBambini-Lauf -> nur Teilnahme Medaille / kleine Preise \n\n\n\nSchülerlauf -> Wertung U12 m/w U14 m/w U16 m/w jeweils Top3 \n\n\n\nWBSL 5km -> Wertung Top3 m/w -> Wertung Team 1.Platz (3 Beste aus Team) \n\n\n\nWBL 10km -> Wertung Top3 m/w -> Wertung Team 1.Platz (3 Beste aus Team) \n\n\n\nTeilnehmerstärkstes Team \n\n\n\nAnreise:\n\n\n\nSportplatz des TSV Victoria Homburg \n\n\n\nIdealerweise sollten Fahrgemeinschaften gebildet werden. Beim Parken bitte auf ausreichend Platz für durchfahrende Fahrzeuge / Landmaschinen achten!
URL:https://rickyssporttreff.de/event/weinbergschneckenlauf-homburg/
LOCATION:Bayern
CATEGORIES:Laufen
ATTACH;FMTTYPE=image/jpeg:https://rickyssporttreff.de/wp-content/uploads/2024/01/WBSL_A5-Karte.jpg
ORGANIZER;CN="TSV Viktoria Homburg":MAILTO:info@weinbergschneckenlauf.de
END:VEVENT
BEGIN:VEVENT
DTSTART;TZID=Europe/Berlin:20240612T200000
DTEND;TZID=Europe/Berlin:20240612T210000
DTSTAMP:20260425T152533
CREATED:20240527T083943Z
LAST-MODIFIED:20240606T202649Z
UID:8642-1718222400-1718226000@rickyssporttreff.de
SUMMARY:Yoga Mittwoch | 18.00
DESCRIPTION:60 Minuten Yoga mit #rickyoga \n\n\n\nBring gern Deine Matte mit. Es sind aber auch Matten\, Gurte\, Klötze vorhanden. \n\n\n\n\n\nDu kannst Dir hier einen Platz reservieren\, wenn Du wirklich kommen magst. Die Plätze sind begrenzt und es wäre schade\, wenn jemand anderes nicht kommen kann\, weil vermeintlich kein Platz mehr ist. Danke.
URL:https://rickyssporttreff.de/event/yoga-mittwoch-12-juni/
LOCATION:Ricky´s Sporttreff\, Mitteltorstrasse 13\, Marktheidenfeld\, Bayern\, 97828\, Deutschland
CATEGORIES:Yoga
ORGANIZER;CN="Ricky B%C3%B6hm-Hennes":MAILTO:ricky@boehm-hennes.de
END:VEVENT
BEGIN:VEVENT
DTSTART;TZID=Europe/Berlin:20240615T110000
DTEND;TZID=Europe/Berlin:20240615T120000
DTSTAMP:20260425T152533
CREATED:20240527T082423Z
LAST-MODIFIED:20240527T082850Z
UID:8625-1718449200-1718452800@rickyssporttreff.de
SUMMARY:Yoga am Samstag | 9 Uhr
DESCRIPTION:60 Minuten Yoga mit #rickyoga \n\n\n\nBring gern Deine Matte mit. Es sind aber auch Matten\, Gurte\, Klötze vorhanden. \n\n\n\n\n\nDu kannst Dir hier einen Platz reservieren\, wenn Du wirklich kommen magst. Die Plätze sind begrenzt und es wäre schade\, wenn jemand anderes nicht kommen kann\, weil vermeintlich kein Platz mehr ist. Danke.
URL:https://rickyssporttreff.de/event/yoga-samstag-15-juni/
LOCATION:Ricky´s Sporttreff\, Mitteltorstrasse 13\, Marktheidenfeld\, Bayern\, 97828\, Deutschland
CATEGORIES:Yoga
ORGANIZER;CN="Ricky B%C3%B6hm-Hennes":MAILTO:ricky@boehm-hennes.de
END:VEVENT
BEGIN:VEVENT
DTSTART;TZID=Europe/Berlin:20240619T080000
DTEND;TZID=Europe/Berlin:20240619T170000
DTSTAMP:20260425T152533
CREATED:20240619T062727Z
LAST-MODIFIED:20240619T062810Z
UID:9112-1718784000-1718816400@rickyssporttreff.de
SUMMARY:Kreuzemer Landschaftslauf 2\,2 / 7 /14km
DESCRIPTION:Sonntag\, 23.06.2024\n\n\n\nLauf 1 – 9:00 Uhr14 km „Lauf ins Himmelreich“ ab 16 JahreStrecke: Circa 300 Höhenmeter; anspruchsvoller\, interessanter Rundkurs durch ein Landschaftsschutzgebiet und die Weinberge; 2 Getränkestellen bei ca. 4\,5 und 10\,6 km.Einzelwertung und Teamwertung: 2er-Teams möglich (Männer-Team\, Frauen-Team oder Mixed-Team). Die Wertung erfolgt durch Addition der beiden Zielzeiten.Der Sieger/in und die Platzierungen 1–3 jeder Altersklasse sowie dieSieger/innen der 2er-Teams erhalten Sachpreise. 5er-Altersklassenwertung.Lauf 2 – 9:10 Uhr7 km der NEUE „Lauf um den Kaffelstein“ ab 16 JahreStrecke: geringe Steigungen entlang der Weinberge; mit Blick auf das Maintal; ohne Bergab-Passage nach dem Start; Getränkestelle bei ca. 3\,7 km.Der Sieger/in und die Platzierungen 1–3 jeder Altersklasse erhalten Sachpreise.5er-Altersklassenwertung. Der schnellste TSV-Läufer/in erhält den Wanderpokal.Lauf 3 – 9:15 Uhr2\,2 km „Schützenwaldlauf“ (Schülerlauf) für Kids & Teens ab 7–15 JahreStrecke: hügeliger Waldlauf.Der Sieger/in erhält einen „Goldenen Laufschuh“. Alle anderen Teilnehmer/innen erhalten einen „Silbernen Laufschuh“ und Urkunden. 2er-Altersklassenwertung.weitere Informationen:Start/Ziel: Sportplatz Kreuzwertheim\, Philipp-Günzelmann-WegStartgeld: 14 km => 15€ / 7 km => 9€ / 2\,2 km => 4€ \n\n\n\nVoranmeldung: Bis Freitag\, 21.6.2024\, 23:59 Uhr unter www.tsv-jahn-kreuzwertheim.de \n\n\n\nNachmeldung: NUR ONLINE ab Samstag\, 22.6.2024 bis 1 Std. vor dem jeweiligen Lauf; Nachmeldegebühr 4€ (außer Schülerlauf).Alle Läuferinnen erwartet im Ziel eine blumige Überraschung.Teamwertung: 14 km Lauf / 2er TeamsSonderpreis für teilnehmerstärksten Verein und FirmaVerpflegung: Für Essen und Getränke ist bestens gesorgt.Ergebnislisten: www.tsv-jahn-kreuzwertheim.de · Urkunden können ausgedruckt werden.Kontakt: E-Mail: runningteamkreuzwertheim@web.de oder Tel. 09342/38097Datenschutz: Mit der Anmeldung akzeptieren Sie die Kriterien unserer Datenschutzerklärung\, wie sie auf unserer Homepage dargestellt ist. \n\n\n\n\nANMELDUNG HIER
URL:https://rickyssporttreff.de/event/kreuzemer-landschaftslauf/
LOCATION:Bayern
CATEGORIES:Laufen
ATTACH;FMTTYPE=image/jpeg:https://rickyssporttreff.de/wp-content/uploads/2024/06/Plakat-Landschaftslaeufe-2024-scaled-e1711404805224-930x620-1.jpg
END:VEVENT
BEGIN:VEVENT
DTSTART;TZID=Europe/Berlin:20240621T183000
DTEND;TZID=Europe/Berlin:20240621T200000
DTSTAMP:20260425T152533
CREATED:20240614T114514Z
LAST-MODIFIED:20240620T150130Z
UID:9018-1718994600-1719000000@rickyssporttreff.de
SUMMARY:Welt-Yogatag - EVENT im Stadtgärtchen Marktheidenfeld
DESCRIPTION:Genieße eine Yoga-Einheit mit im grünen Stadtgärtchen in Marktheidenfeld. \n\n\n\nGemeinsam mit der VHS Marktheidenfeld biete ich Euch \n\n\n\n90 Minuten – Anfangsentspannung – Pranayama – Asana – Shavasana – Mantra \n\n\n\nDie Einheit wird von Ricky (Yogalehrer BYV | #rickyoga)
URL:https://rickyssporttreff.de/event/welt-yogatag-event-im-stadtgaertchen-marktheidenfeld/
LOCATION:Bayern
CATEGORIES:Yoga
ATTACH;FMTTYPE=image/png:https://rickyssporttreff.de/wp-content/uploads/2024/06/Yoga-im-Stadtgaertchen.png
END:VEVENT
BEGIN:VEVENT
DTSTART;TZID=Europe/Berlin:20240622T110000
DTEND;TZID=Europe/Berlin:20240622T120000
DTSTAMP:20260425T152533
CREATED:20240527T083155Z
LAST-MODIFIED:20240620T140800Z
UID:8629-1719054000-1719057600@rickyssporttreff.de
SUMMARY:Yoga am Samstag | 9 Uhr
DESCRIPTION:60 Minuten Yoga mit #rickyoga \n\n\n\nBring gern Deine Matte mit. Es sind aber auch Matten\, Gurte\, Klötze vorhanden. \n\n\n\n\n\nDu kannst Dir hier einen Platz reservieren\, wenn Du wirklich kommen magst. Die Plätze sind begrenzt und es wäre schade\, wenn jemand anderes nicht kommen kann\, weil vermeintlich kein Platz mehr ist. Danke.
URL:https://rickyssporttreff.de/event/yoga-samstag-22-juni/
LOCATION:Ricky´s Sporttreff\, Mitteltorstrasse 13\, Marktheidenfeld\, Bayern\, 97828\, Deutschland
CATEGORIES:Yoga
ORGANIZER;CN="Ricky B%C3%B6hm-Hennes":MAILTO:ricky@boehm-hennes.de
END:VEVENT
BEGIN:VEVENT
DTSTART;TZID=Europe/Berlin:20240629T110000
DTEND;TZID=Europe/Berlin:20240629T120000
DTSTAMP:20260425T152533
CREATED:20240527T083611Z
LAST-MODIFIED:20240625T112534Z
UID:8634-1719658800-1719662400@rickyssporttreff.de
SUMMARY:Yoga am Samstag | 9 Uhr
DESCRIPTION:60 Minuten Yoga mit #rickyoga \n\n\n\nBring gern Deine Matte mit. Es sind aber auch Matten\, Gurte\, Klötze vorhanden. \n\n\n\n\n\nDu kannst Dir hier einen Platz reservieren\, wenn Du wirklich kommen magst. Die Plätze sind begrenzt und es wäre schade\, wenn jemand anderes nicht kommen kann\, weil vermeintlich kein Platz mehr ist. Danke.
URL:https://rickyssporttreff.de/event/yoga-samstag-29-juni-2/
LOCATION:Ricky´s Sporttreff\, Mitteltorstrasse 13\, Marktheidenfeld\, Bayern\, 97828\, Deutschland
CATEGORIES:Yoga
ORGANIZER;CN="Ricky B%C3%B6hm-Hennes":MAILTO:ricky@boehm-hennes.de
END:VEVENT
END:VCALENDAR