BEGIN:VCALENDAR
VERSION:2.0
PRODID:-//Ricky&#039;s Sport Treff - Marktheidenfeld - ECPv6.15.20//NONSGML v1.0//EN
CALSCALE:GREGORIAN
METHOD:PUBLISH
X-ORIGINAL-URL:https://rickyssporttreff.de
X-WR-CALDESC:Veranstaltungen für Ricky&#039;s Sport Treff - Marktheidenfeld
REFRESH-INTERVAL;VALUE=DURATION:PT1H
X-Robots-Tag:noindex
X-PUBLISHED-TTL:PT1H
BEGIN:VTIMEZONE
TZID:Europe/Berlin
BEGIN:DAYLIGHT
TZOFFSETFROM:+0100
TZOFFSETTO:+0200
TZNAME:CEST
DTSTART:20230326T010000
END:DAYLIGHT
BEGIN:STANDARD
TZOFFSETFROM:+0200
TZOFFSETTO:+0100
TZNAME:CET
DTSTART:20231029T010000
END:STANDARD
BEGIN:DAYLIGHT
TZOFFSETFROM:+0100
TZOFFSETTO:+0200
TZNAME:CEST
DTSTART:20240331T010000
END:DAYLIGHT
BEGIN:STANDARD
TZOFFSETFROM:+0200
TZOFFSETTO:+0100
TZNAME:CET
DTSTART:20241027T010000
END:STANDARD
BEGIN:DAYLIGHT
TZOFFSETFROM:+0100
TZOFFSETTO:+0200
TZNAME:CEST
DTSTART:20250330T010000
END:DAYLIGHT
BEGIN:STANDARD
TZOFFSETFROM:+0200
TZOFFSETTO:+0100
TZNAME:CET
DTSTART:20251026T010000
END:STANDARD
END:VTIMEZONE
BEGIN:VEVENT
DTSTART;TZID=Europe/Berlin:20240703T200000
DTEND;TZID=Europe/Berlin:20240703T210000
DTSTAMP:20260425T133457
CREATED:20240624T110807Z
LAST-MODIFIED:20240624T111215Z
UID:9341-1720036800-1720040400@rickyssporttreff.de
SUMMARY:Yoga am Mittwoch | 18 Uhr
DESCRIPTION:60 Minuten Yoga mit #rickyoga \n\n\n\nBring gern Deine Matte mit. Es sind aber auch Matten\, Gurte\, Klötze vorhanden. \n\n\n\n\n\nDu kannst Dir hier einen Platz reservieren\, wenn Du wirklich kommen magst. Die Plätze sind begrenzt und es wäre schade\, wenn jemand anderes nicht kommen kann\, weil vermeintlich kein Platz mehr ist. Danke.
URL:https://rickyssporttreff.de/event/yoga-samstag-22-juni-2-3/
LOCATION:Ricky´s Sporttreff\, Mitteltorstrasse 13\, Marktheidenfeld\, Bayern\, 97828\, Deutschland
CATEGORIES:Yoga
ORGANIZER;CN="Ricky B%C3%B6hm-Hennes":MAILTO:ricky@boehm-hennes.de
END:VEVENT
BEGIN:VEVENT
DTSTART;TZID=Europe/Berlin:20240706T110000
DTEND;TZID=Europe/Berlin:20240706T120000
DTSTAMP:20260425T133457
CREATED:20240624T122917Z
LAST-MODIFIED:20240624T122921Z
UID:9346-1720263600-1720267200@rickyssporttreff.de
SUMMARY:Yoga am Samstag | 9 Uhr
DESCRIPTION:60 Minuten Yoga mit #rickyoga \n\n\n\nBring gern Deine Matte mit. Es sind aber auch Matten\, Gurte\, Klötze vorhanden. \n\n\n\n\n\nDu kannst Dir hier einen Platz reservieren\, wenn Du wirklich kommen magst. Die Plätze sind begrenzt und es wäre schade\, wenn jemand anderes nicht kommen kann\, weil vermeintlich kein Platz mehr ist. Danke.
URL:https://rickyssporttreff.de/event/yoga-samstag-29-juni/
LOCATION:Ricky´s Sporttreff\, Mitteltorstrasse 13\, Marktheidenfeld\, Bayern\, 97828\, Deutschland
CATEGORIES:Yoga
ORGANIZER;CN="Ricky B%C3%B6hm-Hennes":MAILTO:ricky@boehm-hennes.de
END:VEVENT
BEGIN:VEVENT
DTSTART;TZID=Europe/Berlin:20240710T200000
DTEND;TZID=Europe/Berlin:20240710T210000
DTSTAMP:20260425T133457
CREATED:20240624T110818Z
LAST-MODIFIED:20240625T121315Z
UID:9339-1720641600-1720645200@rickyssporttreff.de
SUMMARY:Yoga am Mittwoch | 18 Uhr
DESCRIPTION:60 Minuten Yoga mit #rickyoga \n\n\n\nBring gern Deine Matte mit. Es sind aber auch Matten\, Gurte\, Klötze vorhanden. \n\n\n\n\n\nDu kannst Dir hier einen Platz reservieren\, wenn Du wirklich kommen magst. Die Plätze sind begrenzt und es wäre schade\, wenn jemand anderes nicht kommen kann\, weil vermeintlich kein Platz mehr ist. Danke.
URL:https://rickyssporttreff.de/event/yoga-samstag-22-juni-2/
LOCATION:Ricky´s Sporttreff\, Mitteltorstrasse 13\, Marktheidenfeld\, Bayern\, 97828\, Deutschland
CATEGORIES:Yoga
ORGANIZER;CN="Ricky B%C3%B6hm-Hennes":MAILTO:ricky@boehm-hennes.de
END:VEVENT
BEGIN:VEVENT
DTSTART;TZID=Europe/Berlin:20240712T193000
DTEND;TZID=Europe/Berlin:20240712T230000
DTSTAMP:20260425T133457
CREATED:20240319T051737Z
LAST-MODIFIED:20240712T100104Z
UID:6620-1720812600-1720825200@rickyssporttreff.de
SUMMARY:#Sundowner Yoga&Wein
DESCRIPTION:In den Homburger Weinbergen findet ein besonderes Event statt. Ab 17.30 Uhr genießt Du eine Yogaeinheit mit Isi & Ricky. \n\n\n\nIn den Sonnenuntergang hinein erlebst Du eine Auswahl von Weinen (Weinprobe Weingut Huller). So lassen wir den Abend dann gemeinsam ausklingen. \n\n\n\nBilder aus 2023: \n\n\n\nNach den Yogaeinheiten durften wir vergangenes Jahr Isabella Huller in den Weinbergen bei der Weinprobe lauschen und genießen.
URL:https://rickyssporttreff.de/event/sundowner-yogawein/
LOCATION:Homburg am Main / Edelfrau\, Triefenstein-Homburg\, 97855\, Deutschland
CATEGORIES:Yoga
ATTACH;FMTTYPE=image/jpeg:https://rickyssporttreff.de/wp-content/uploads/2024/03/sundowner-huller-arbeitsdatei_2024_900px.jpg
ORGANIZER;CN="Ricky B%C3%B6hm-Hennes":MAILTO:ricky@boehm-hennes.de
END:VEVENT
BEGIN:VEVENT
DTSTART;TZID=Europe/Berlin:20240713T110000
DTEND;TZID=Europe/Berlin:20240713T120000
DTSTAMP:20260425T133457
CREATED:20240624T123041Z
LAST-MODIFIED:20240709T120114Z
UID:9357-1720868400-1720872000@rickyssporttreff.de
SUMMARY:Yoga am Samstag | 9 Uhr
DESCRIPTION:60 Minuten Yoga mit #rickyoga \n\n\n\nBring gern Deine Matte mit. Es sind aber auch Matten\, Gurte\, Klötze vorhanden. \n\n\n\n\n\nDu kannst Dir hier einen Platz reservieren\, wenn Du wirklich kommen magst. Die Plätze sind begrenzt und es wäre schade\, wenn jemand anderes nicht kommen kann\, weil vermeintlich kein Platz mehr ist. Danke.
URL:https://rickyssporttreff.de/event/yoga-samstag-29-juni-13/
LOCATION:Ricky´s Sporttreff\, Mitteltorstrasse 13\, Marktheidenfeld\, Bayern\, 97828\, Deutschland
CATEGORIES:Yoga
ORGANIZER;CN="Ricky B%C3%B6hm-Hennes":MAILTO:ricky@boehm-hennes.de
END:VEVENT
BEGIN:VEVENT
DTSTART;TZID=Europe/Berlin:20240714T000000
DTEND;TZID=Europe/Berlin:20240714T235959
DTSTAMP:20260425T133457
CREATED:20240709T092956Z
LAST-MODIFIED:20240709T114836Z
UID:9752-1720915200-1721001599@rickyssporttreff.de
SUMMARY:Sportakulum - 14.07. - Greussenheim Yoga & Laufen Bambini - Schüler - 6\,5km - 9\,8km
DESCRIPTION:Start/Ziel: Sportplatz Greußenheim \n\n\n\n8:00 Wake-up-Yoga mit Ricky (gratis) \n\n\n\n9:15 1\,3km Schüler Lauf \n\n\n\n9:30 6\,5km & 9\,8km Geisberglauf \n\n\n\n10:30 40mm Bambini (Kindergartenkinder) Lauf \n\n\n\n13:00 BIG Family Games
URL:https://rickyssporttreff.de/event/kreuzemer-landschaftslauf-2-2-2/
LOCATION:Bayern
CATEGORIES:Laufen
ATTACH;FMTTYPE=image/jpeg:https://rickyssporttreff.de/wp-content/uploads/2024/07/Sportakulum.jpg
END:VEVENT
BEGIN:VEVENT
DTSTART;TZID=Europe/Berlin:20240714T100000
DTEND;TZID=Europe/Berlin:20240714T104500
DTSTAMP:20260425T133457
CREATED:20240709T093818Z
LAST-MODIFIED:20240710T085046Z
UID:9720-1720951200-1720953900@rickyssporttreff.de
SUMMARY:Wake-Up Yoga im Greußenheim
DESCRIPTION:45 Minuten Yoga mit #rickyoga \n\n\n\nOrt: Greußenheim (Sportplatz) \n\n\n\nKosten: gratis \n\n\n\nVoranmeldung: nicht nötig \n\n\n\nAusrüstung: bitte Matte & Trinken mitbringen \n\n\n\n\n\n.
URL:https://rickyssporttreff.de/event/yoga-freitag-26-juli-2/
LOCATION:Ricky´s Sporttreff\, Mitteltorstrasse 13\, Marktheidenfeld\, Bayern\, 97828\, Deutschland
CATEGORIES:Yoga
ATTACH;FMTTYPE=image/jpeg:https://rickyssporttreff.de/wp-content/uploads/2024/07/Sportakulum.jpg
ORGANIZER;CN="Ricky B%C3%B6hm-Hennes":MAILTO:ricky@boehm-hennes.de
END:VEVENT
BEGIN:VEVENT
DTSTART;TZID=Europe/Berlin:20240717T200000
DTEND;TZID=Europe/Berlin:20240717T210000
DTSTAMP:20260425T133457
CREATED:20240624T123216Z
LAST-MODIFIED:20240715T060812Z
UID:9361-1721246400-1721250000@rickyssporttreff.de
SUMMARY:Yoga am Mittwoch | 18 Uhr
DESCRIPTION:60 Minuten Yoga mit #rickyoga \n\n\n\nBring gern Deine Matte mit. Es sind aber auch Matten\, Gurte\, Klötze vorhanden. \n\n\n\n\n\nDu kannst Dir hier einen Platz reservieren\, wenn Du wirklich kommen magst. Die Plätze sind begrenzt und es wäre schade\, wenn jemand anderes nicht kommen kann\, weil vermeintlich kein Platz mehr ist. Danke.
URL:https://rickyssporttreff.de/event/yoga-samstag-17-juli/
LOCATION:Ricky´s Sporttreff\, Mitteltorstrasse 13\, Marktheidenfeld\, Bayern\, 97828\, Deutschland
CATEGORIES:Yoga
ATTACH;FMTTYPE=image/png:https://rickyssporttreff.de/wp-content/uploads/2024/07/1.png
ORGANIZER;CN="Ricky B%C3%B6hm-Hennes":MAILTO:ricky@boehm-hennes.de
END:VEVENT
BEGIN:VEVENT
DTSTART;TZID=Europe/Berlin:20240719T000000
DTEND;TZID=Europe/Berlin:20240719T235959
DTSTAMP:20260425T133457
CREATED:20240625T113406Z
LAST-MODIFIED:20240625T115400Z
UID:9381-1721347200-1721433599@rickyssporttreff.de
SUMMARY:WAREMA-Lauf 19.07.2024
DESCRIPTION:Samstag\, 19.07.2024\n\n\n\nProgrammablauf \n\n\n\n16:00 – 18:00 Uhr Startnummernausgabe/Nachmeldungen16:50 Uhr Ansprachen17:00 Uhr Start Bambini Lauf 630 m17:15 Uhr Start Schüler Lauf 1260 m17:30 Uhr Start Schülerstaffellauf 4 x 630 m18:00 Uhr Start 5 km Firmenlauf18:45 Uhr Start 10 km Lauf \n\n\n\nStart/ZielKreissportanlage (Stadion)-Äußerer Ring \n\n\n\nStreckenverlauf\n\n\n\nGelaufen wird auf einer attraktiven Geländestrecke außerhalbvon Marktheidenfeld. Start und Ziel befinden sich im Stadion. DieLäufe über 5/10 km werden als Wendepunktstrecke angeboten. \n\n\n\nZeitmessung\n\n\n\nDie Zeitmessung erfolgt automatisch und ausschließlich mit demSAS Startnummernchip. Die Startnummer mit dem Chip ist einEinwegprodukt und muss im Ziel nicht zurückgegeben werden.Achtung! Die Startnummer darf nicht in der Größe verändertoder gefaltet werden. Sie ist flach und deutlich sichtbar vorne aufBrusthöhe zu tragen. \n\n\n\nStreckenversorgung\n\n\n\nNach 2\,5 km\, 5 km\, 7\,5 km und im Stadion werden an einerVerpflegungsstation Getränke gereicht.KlasseneinteilungenTeilnahmeberechtigt ist jeder!Bambini-Lauf 630 mW3/M3 Jg. 2021 – W6/M6 Jg. 2018Schüler-Lauf 1260 mW7/M7 Jg. 2017 – W15/M15 Jg. 2009 \n\n\n\n5 km Firmenlauf / 10 km LaufU18\, U20 Hauptklasse\, ab W30/M30 in 5er Wertung \n\n\n\n4 x 630 m SchülerstaffellaufW7/M7 Jg. 2017 – W15/M15 Jg. 2009gemeinsame Wertung ohne Altersklassen \n\n\n\n5 km Firmenlauf TeamwertungVier Läufer/-innen einer Firma oder einer Laufgemeinschaft bildenein Team. Die jeweils 4 schnellsten jeder Firma/Laufgemeinschaftwerden automatisch über den Teamnamen erfasst\, ebenso dienächsten 4 usw.. Somit ist keine Teamumstellung nötig durchkurzfristige Änderungen. \n\n\n\nErgebnislisten\n\n\n\nEin Aushang der Ergebnislisten erfolgt laufend amVeranstaltungstag im Umfeld des Stadions. Ein Ergebnisdienstbesteht über die Zielzeit Info App bzw. überwww.sas-zeitmesssysteme.de. \n\n\n\n\nANMELDUNG HIER
URL:https://rickyssporttreff.de/event/kreuzemer-landschaftslauf-2/
LOCATION:Bayern
CATEGORIES:Laufen
ATTACH;FMTTYPE=application/pdf:https://rickyssporttreff.de/wp-content/uploads/2024/06/warema-lauf_programmflyer_20240301_low.pdf
END:VEVENT
BEGIN:VEVENT
DTSTART;TZID=Europe/Berlin:20240719T000000
DTEND;TZID=Europe/Berlin:20240719T235959
DTSTAMP:20260425T133457
CREATED:20240626T123503Z
LAST-MODIFIED:20240626T123504Z
UID:9421-1721347200-1721433599@rickyssporttreff.de
SUMMARY:Buchenthal Crosslauf 13.07. Steinfeld-Hausen
DESCRIPTION:Start/Ziel: Sportplatz Hausen \n\n\n\nStreckenführung:1 Runde 7\,5 km bzw. 4\,5 km durch das Buchental(Asphalt\, Schotter\, Waldwege mit kurzen Anstiegen) \n\n\n\nInfos/Kontakt:Gerhard Seidel\, Am Forst 45\, 97854 HausenTelefon: 09359/1500\, Email: gerhard.seidel@online.deAnmeldung Online möglich unterwww.sv-hausen-rohrbach.deAnmeldeschluß 10.07.2024 \n\n\n\nNachmeldung bis 1 Stunde vor dem jeweiligen Start möglich.Startunterlagen/Startgebühren: Die Ausgabe der Startunterlagenund Zahlung der Gebühren erfolgt am 13.07. ab 11:00 Uhr imStart/Ziel Bereich.Die Siegerehrungen finden im Zielbereich statt.Klasseneinteilung: \n\n\n\nBambini – Jahrgang 2018 und jünger\,Schüler 1 – Jahrgang 2015 – 2017Schüler 2 – Jahrgang 2012 – 2014Kurzstrecke (4\,5 km): Schüler ab Jahrgang 2011 und älterHauptlauf (7\,5 km): Schüler ab Jahrgang 2009 und älterGetrennte Mädchen- und Jungenwertung \n\n\n\nStartzeit:12:30 Uhr Schüler-Lauf 1\,5 km (Schüler 1)12:45 Uhr Schüler-Lauf 3\,0 km (Schüler 2)13:15 Uhr Bambini – Jahrgang 2018 und jünger(ohne Zeitnahme)13:30 Uhr Siegerehrung Schüler + Bambini14:00 Uhr Kurzstrecke 4\,5 km(Läufer\, Walker)15:15 Uhr Hauptlauf 7\,5 km(Läufer) \n\n\n\nim Anschluss Siegerehrung im Zielbereich \n\n\n\nOrganisationsbeitrag: 10€ Hauptlauf\, 8€ Kurzstrecke\,Schüler 2€ und Bambini frei. \n\n\n\nTeilnehmer am Schüler- und Bambinilauf erhalten ein Läuferge-schenk! (So lange der Vorrat reicht) \n\n\n\n\nANMELDUNG HIER
URL:https://rickyssporttreff.de/event/kreuzemer-landschaftslauf-2-2/
LOCATION:Bayern
CATEGORIES:Laufen
ATTACH;FMTTYPE=application/pdf:https://rickyssporttreff.de/wp-content/uploads/2024/06/warema-lauf_programmflyer_20240301_low.pdf
END:VEVENT
BEGIN:VEVENT
DTSTART;TZID=Europe/Berlin:20240720T110000
DTEND;TZID=Europe/Berlin:20240720T120000
DTSTAMP:20260425T133457
CREATED:20240626T130011Z
LAST-MODIFIED:20240706T122809Z
UID:9365-1721473200-1721476800@rickyssporttreff.de
SUMMARY:Yoga am Samstag | 9 Uhr
DESCRIPTION:60 Minuten Yoga mit #rickyoga \n\n\n\nBring gern Deine Matte mit. Es sind aber auch Matten\, Gurte\, Klötze vorhanden. \n\n\n\n\n\nDu kannst Dir hier einen Platz reservieren\, wenn Du wirklich kommen magst. Die Plätze sind begrenzt und es wäre schade\, wenn jemand anderes nicht kommen kann\, weil vermeintlich kein Platz mehr ist. Danke.
URL:https://rickyssporttreff.de/event/yoga-samstag-29-juni-20/
LOCATION:Ricky´s Sporttreff\, Mitteltorstrasse 13\, Marktheidenfeld\, Bayern\, 97828\, Deutschland
CATEGORIES:Yoga
ORGANIZER;CN="Ricky B%C3%B6hm-Hennes":MAILTO:ricky@boehm-hennes.de
END:VEVENT
BEGIN:VEVENT
DTSTART;TZID=Europe/Berlin:20240724T200000
DTEND;TZID=Europe/Berlin:20240724T210000
DTSTAMP:20260425T133457
CREATED:20240709T114950Z
LAST-MODIFIED:20240709T115007Z
UID:9772-1721851200-1721854800@rickyssporttreff.de
SUMMARY:Yoga am Mittwoch | 18 Uhr
DESCRIPTION:60 Minuten Yoga mit #rickyoga \n\n\n\nBring gern Deine Matte mit. Es sind aber auch Matten\, Gurte\, Klötze vorhanden. \n\n\n\n\n\nDu kannst Dir hier einen Platz reservieren\, wenn Du wirklich kommen magst. Die Plätze sind begrenzt und es wäre schade\, wenn jemand anderes nicht kommen kann\, weil vermeintlich kein Platz mehr ist. Danke.
URL:https://rickyssporttreff.de/event/yoga-samstag-24-juli/
LOCATION:Ricky´s Sporttreff\, Mitteltorstrasse 13\, Marktheidenfeld\, Bayern\, 97828\, Deutschland
CATEGORIES:Yoga
ATTACH;FMTTYPE=image/png:https://rickyssporttreff.de/wp-content/uploads/2024/07/1.png
ORGANIZER;CN="Ricky B%C3%B6hm-Hennes":MAILTO:ricky@boehm-hennes.de
END:VEVENT
BEGIN:VEVENT
DTSTART;TZID=Europe/Berlin:20240726T110000
DTEND;TZID=Europe/Berlin:20240726T120000
DTSTAMP:20260425T133457
CREATED:20240706T162023Z
LAST-MODIFIED:20240709T115857Z
UID:9713-1721991600-1721995200@rickyssporttreff.de
SUMMARY:Yoga am Freitag | 9 Uhr
DESCRIPTION:60 Minuten Yoga mit #rickyoga \n\n\n\nBring gern Deine Matte mit. Es sind aber auch Matten\, Gurte\, Klötze vorhanden. \n\n\n\n\n\nDu kannst Dir hier einen Platz reservieren\, wenn Du wirklich kommen magst. Die Plätze sind begrenzt und es wäre schade\, wenn jemand anderes nicht kommen kann\, weil vermeintlich kein Platz mehr ist. Danke.
URL:https://rickyssporttreff.de/event/yoga-freitag-26-juli/
LOCATION:Ricky´s Sporttreff\, Mitteltorstrasse 13\, Marktheidenfeld\, Bayern\, 97828\, Deutschland
CATEGORIES:Yoga
ATTACH;FMTTYPE=image/png:https://rickyssporttreff.de/wp-content/uploads/2024/07/1.png
ORGANIZER;CN="Ricky B%C3%B6hm-Hennes":MAILTO:ricky@boehm-hennes.de
END:VEVENT
BEGIN:VEVENT
DTSTART;TZID=Europe/Berlin:20240727T110000
DTEND;TZID=Europe/Berlin:20240727T120000
DTSTAMP:20260425T133457
CREATED:20240709T094307Z
LAST-MODIFIED:20240709T114829Z
UID:9755-1722078000-1722081600@rickyssporttreff.de
SUMMARY:Yoga am Samstag | 9 Uhr
DESCRIPTION:60 Minuten Yoga mit #rickyoga \n\n\n\nBring gern Deine Matte mit. Es sind aber auch Matten\, Gurte\, Klötze vorhanden. \n\n\n\n\n\nDu kannst Dir hier einen Platz reservieren\, wenn Du wirklich kommen magst. Die Plätze sind begrenzt und es wäre schade\, wenn jemand anderes nicht kommen kann\, weil vermeintlich kein Platz mehr ist. Danke.
URL:https://rickyssporttreff.de/event/yoga-samstag-27-juli/
LOCATION:Ricky´s Sporttreff\, Mitteltorstrasse 13\, Marktheidenfeld\, Bayern\, 97828\, Deutschland
CATEGORIES:Yoga
ATTACH;FMTTYPE=image/png:https://rickyssporttreff.de/wp-content/uploads/2024/07/1.png
ORGANIZER;CN="Ricky B%C3%B6hm-Hennes":MAILTO:ricky@boehm-hennes.de
END:VEVENT
BEGIN:VEVENT
DTSTART;TZID=Europe/Berlin:20240731T200000
DTEND;TZID=Europe/Berlin:20240731T210000
DTSTAMP:20260425T133457
CREATED:20240709T115155Z
LAST-MODIFIED:20240709T115157Z
UID:9776-1722456000-1722459600@rickyssporttreff.de
SUMMARY:Yoga am Mittwoch | 18 Uhr
DESCRIPTION:60 Minuten Yoga mit #rickyoga \n\n\n\nBring gern Deine Matte mit. Es sind aber auch Matten\, Gurte\, Klötze vorhanden. \n\n\n\n\n\nDu kannst Dir hier einen Platz reservieren\, wenn Du wirklich kommen magst. Die Plätze sind begrenzt und es wäre schade\, wenn jemand anderes nicht kommen kann\, weil vermeintlich kein Platz mehr ist. Danke.
URL:https://rickyssporttreff.de/event/yoga-samstag-31-juli/
LOCATION:Ricky´s Sporttreff\, Mitteltorstrasse 13\, Marktheidenfeld\, Bayern\, 97828\, Deutschland
CATEGORIES:Yoga
ATTACH;FMTTYPE=image/png:https://rickyssporttreff.de/wp-content/uploads/2024/07/1.png
ORGANIZER;CN="Ricky B%C3%B6hm-Hennes":MAILTO:ricky@boehm-hennes.de
END:VEVENT
END:VCALENDAR