BEGIN:VCALENDAR
VERSION:2.0
PRODID:-//Ricky&#039;s Sport Treff - Marktheidenfeld - ECPv6.15.20//NONSGML v1.0//EN
CALSCALE:GREGORIAN
METHOD:PUBLISH
X-ORIGINAL-URL:https://rickyssporttreff.de
X-WR-CALDESC:Veranstaltungen für Ricky&#039;s Sport Treff - Marktheidenfeld
REFRESH-INTERVAL;VALUE=DURATION:PT1H
X-Robots-Tag:noindex
X-PUBLISHED-TTL:PT1H
BEGIN:VTIMEZONE
TZID:Europe/Berlin
BEGIN:DAYLIGHT
TZOFFSETFROM:+0100
TZOFFSETTO:+0200
TZNAME:CEST
DTSTART:20230326T010000
END:DAYLIGHT
BEGIN:STANDARD
TZOFFSETFROM:+0200
TZOFFSETTO:+0100
TZNAME:CET
DTSTART:20231029T010000
END:STANDARD
BEGIN:DAYLIGHT
TZOFFSETFROM:+0100
TZOFFSETTO:+0200
TZNAME:CEST
DTSTART:20240331T010000
END:DAYLIGHT
BEGIN:STANDARD
TZOFFSETFROM:+0200
TZOFFSETTO:+0100
TZNAME:CET
DTSTART:20241027T010000
END:STANDARD
BEGIN:DAYLIGHT
TZOFFSETFROM:+0100
TZOFFSETTO:+0200
TZNAME:CEST
DTSTART:20250330T010000
END:DAYLIGHT
BEGIN:STANDARD
TZOFFSETFROM:+0200
TZOFFSETTO:+0100
TZNAME:CET
DTSTART:20251026T010000
END:STANDARD
END:VTIMEZONE
BEGIN:VEVENT
DTSTART;TZID=Europe/Berlin:20241203T093000
DTEND;TZID=Europe/Berlin:20241203T103000
DTSTAMP:20260425T001517
CREATED:20241121T110848Z
LAST-MODIFIED:20241121T110920Z
UID:14657-1733218200-1733221800@rickyssporttreff.de
SUMMARY:Yoga am Dienstag | 8.30 Uhr
DESCRIPTION:60 Minuten Yoga mit #rickyoga \n\n\n\nBring gern Deine Matte mit. Es sind aber auch Matten\, Gurte\, Klötze vorhanden. \n\n\n\n\n\nDu kannst Dir hier einen Platz reservieren\, wenn Du wirklich kommen magst. Die Plätze sind begrenzt und es wäre schade\, wenn jemand anderes nicht kommen kann\, weil vermeintlich kein Platz mehr ist. Danke.
URL:https://rickyssporttreff.de/event/yoga-dienstag-12-03/
LOCATION:Ricky´s Sporttreff\, Mitteltorstrasse 13\, Marktheidenfeld\, Bayern\, 97828\, Deutschland
CATEGORIES:Yoga
ATTACH;FMTTYPE=image/png:https://rickyssporttreff.de/wp-content/uploads/2024/10/Offene-Stunde1.png
ORGANIZER;CN="Ricky B%C3%B6hm-Hennes":MAILTO:ricky@boehm-hennes.de
END:VEVENT
BEGIN:VEVENT
DTSTART;TZID=Europe/Berlin:20241204T190000
DTEND;TZID=Europe/Berlin:20241204T200000
DTSTAMP:20260425T001517
CREATED:20241123T111216Z
LAST-MODIFIED:20241123T111218Z
UID:14804-1733338800-1733342400@rickyssporttreff.de
SUMMARY:Yoga am Mittwoch | 18 Uhr
DESCRIPTION:60 Minuten Yoga mit #rickyoga \n\n\n\nBring gern Deine Matte mit. Es sind aber auch Matten\, Gurte\, Klötze vorhanden. \n\n\n\n\n\nAn diesem Tag bekommst Du bei einem Einkauf Du kannst Dir hier einen Platz reservieren\, wenn Du wirklich kommen magst. Die Plätze sind begrenzt und es wäre schade\, wenn jemand anderes nicht kommen kann\, weil vermeintlich kein Platz mehr ist. Danke.
URL:https://rickyssporttreff.de/event/yoga-samstag-04-12/
LOCATION:Ricky´s Sporttreff\, Mitteltorstrasse 13\, Marktheidenfeld\, Bayern\, 97828\, Deutschland
CATEGORIES:Yoga
ATTACH;FMTTYPE=image/png:https://rickyssporttreff.de/wp-content/uploads/2024/07/1.png
ORGANIZER;CN="Ricky B%C3%B6hm-Hennes":MAILTO:ricky@boehm-hennes.de
END:VEVENT
BEGIN:VEVENT
DTSTART;TZID=Europe/Berlin:20241204T201500
DTEND;TZID=Europe/Berlin:20241204T211500
DTSTAMP:20260425T001517
CREATED:20241107T133446Z
LAST-MODIFIED:20241121T111524Z
UID:14228-1733343300-1733346900@rickyssporttreff.de
SUMMARY:Yoga am Mittwoch | 19.15 Uhr
DESCRIPTION:60 Minuten Yoga mit #rickyoga \n\n\n\nBring gern Deine Matte mit. Es sind aber auch Matten\, Gurte\, Klötze vorhanden. \n\n\n\n\n\nAn diesem Tag bekommst Du bei einem Einkauf Du kannst Dir hier einen Platz reservieren\, wenn Du wirklich kommen magst. Die Plätze sind begrenzt und es wäre schade\, wenn jemand anderes nicht kommen kann\, weil vermeintlich kein Platz mehr ist. Danke.
URL:https://rickyssporttreff.de/event/yoga-samstag-12-4-19uhr/
LOCATION:Ricky´s Sporttreff\, Mitteltorstrasse 13\, Marktheidenfeld\, Bayern\, 97828\, Deutschland
CATEGORIES:Yoga
ATTACH;FMTTYPE=image/png:https://rickyssporttreff.de/wp-content/uploads/2024/11/Yoga-Rickyssporttreff-nov.png
ORGANIZER;CN="Ricky B%C3%B6hm-Hennes":MAILTO:ricky@boehm-hennes.de
END:VEVENT
BEGIN:VEVENT
DTSTART;TZID=Europe/Berlin:20241205T191500
DTEND;TZID=Europe/Berlin:20241205T203000
DTSTAMP:20260425T001517
CREATED:20241127T110645Z
LAST-MODIFIED:20241127T125344Z
UID:14947-1733426100-1733430600@rickyssporttreff.de
SUMMARY:Yoga am Donnerstag | 18.15 Uhr
DESCRIPTION:75 Minuten Yoga mit Isabel Schneider \n\n\n\nBring gern Deine Matte mit. Es sind aber auch Matten\, Gurte\, Klötze vorhanden. \n\n\n\n\n\nDu kannst Dir hier einen Platz reservieren\, wenn Du wirklich kommen magst. Die Plätze sind begrenzt und es wäre schade\, wenn jemand anderes nicht kommen kann\, weil vermeintlich kein Platz mehr ist. Danke. \n\n\n\n\n\nVeranstalter:\n\n\n\n\n\nOrt:
URL:https://rickyssporttreff.de/event/yoga-isi_05-12/
LOCATION:Ricky´s Sporttreff\, Mitteltorstrasse 13\, Marktheidenfeld\, Bayern\, 97828\, Deutschland
CATEGORIES:Yoga,Yoga-mit-Isi
ATTACH;FMTTYPE=image/png:https://rickyssporttreff.de/wp-content/uploads/2024/10/For-better-Healthy-Flexibility.png
END:VEVENT
BEGIN:VEVENT
DTSTART;TZID=Europe/Berlin:20241206T100000
DTEND;TZID=Europe/Berlin:20241206T110000
DTSTAMP:20260425T001517
CREATED:20241119T211807Z
LAST-MODIFIED:20241123T111111Z
UID:14621-1733479200-1733482800@rickyssporttreff.de
SUMMARY:Yoga am Freitag Nikolaus | 9 Uhr
DESCRIPTION:60 Minuten Yoga mit #rickyoga \n\n\n\nBring gern Deine Matte mit. Es sind aber auch Matten\, Gurte\, Klötze vorhanden. \n\n\n\n\n\nDu kannst Dir hier einen Platz reservieren\, wenn Du wirklich kommen magst. Die Plätze sind begrenzt und es wäre schade\, wenn jemand anderes nicht kommen kann\, weil vermeintlich kein Platz mehr ist. Danke.
URL:https://rickyssporttreff.de/event/yoga-freitag-06-12/
LOCATION:Ricky´s Sporttreff\, Mitteltorstrasse 13\, Marktheidenfeld\, Bayern\, 97828\, Deutschland
CATEGORIES:Yoga
ATTACH;FMTTYPE=image/png:https://rickyssporttreff.de/wp-content/uploads/2024/11/nikolaus-yoga.png
ORGANIZER;CN="Ricky B%C3%B6hm-Hennes":MAILTO:ricky@boehm-hennes.de
END:VEVENT
BEGIN:VEVENT
DTSTART;TZID=Europe/Berlin:20241207T084500
DTEND;TZID=Europe/Berlin:20241207T094500
DTSTAMP:20260425T001517
CREATED:20241123T100256Z
LAST-MODIFIED:20241203T200922Z
UID:14781-1733561100-1733564700@rickyssporttreff.de
SUMMARY:Yoga am Samstag - Asana Intensiv | 7:45 Uhr
DESCRIPTION:60 Minuten Yoga mit #rickyoga \n\n\n\nNiveau – Asana Fortgeschritten – Zielstellungen z.B. Skorpion – Handstand – Pfau… \n\n\n\nStundenaufbau Hatha: \n\n\n\nAnfangsentspannung (kurz) – Sonnengrüße – Vorübungen zur jeweiligen Haltung – Hilfestellung durch Yogalehrer – Korrekturen – Endentspannung \n\n\n\nBei Fragen\, bitte vorab Kontakt aufnehmen!! \n\n\n\n\n\nHinweis: Wenn Du an dem Tag etwas im Laden kaufst\, bekommst Du 2€ auf Deinen Kauf gutgeschrieben. \n\n\n\nBring gern Deine Matte mit. Es sind aber auch Matten\, Gurte\, Klötze vorhanden. \n\n\n\nDu kannst Dir hier einen Platz reservieren\, wenn Du wirklich kommen magst. Die Plätze sind begrenzt und es wäre schade\, wenn jemand anderes nicht kommen kann\, weil vermeintlich kein Platz mehr ist. Danke.
URL:https://rickyssporttreff.de/event/yoga-samstag-307-12-intensiv11-3/
LOCATION:Ricky´s Sporttreff\, Mitteltorstrasse 13\, Marktheidenfeld\, Bayern\, 97828\, Deutschland
CATEGORIES:Yoga
ATTACH;FMTTYPE=image/png:https://rickyssporttreff.de/wp-content/uploads/2024/09/Yoga-Intensiv.png
ORGANIZER;CN="Ricky B%C3%B6hm-Hennes":MAILTO:ricky@boehm-hennes.de
END:VEVENT
BEGIN:VEVENT
DTSTART;TZID=Europe/Berlin:20241207T100000
DTEND;TZID=Europe/Berlin:20241207T110000
DTSTAMP:20260425T001517
CREATED:20241123T092212Z
LAST-MODIFIED:20241123T092214Z
UID:14766-1733565600-1733569200@rickyssporttreff.de
SUMMARY:Yoga am Samstag | 9 Uhr
DESCRIPTION:60 Minuten Yoga mit #rickyoga \n\n\n\nBring gern Deine Matte mit. Es sind aber auch Matten\, Gurte\, Klötze vorhanden. \n\n\n\n\n\nDu kannst Dir hier einen Platz reservieren\, wenn Du wirklich kommen magst. Die Plätze sind begrenzt und es wäre schade\, wenn jemand anderes nicht kommen kann\, weil vermeintlich kein Platz mehr ist. Danke.
URL:https://rickyssporttreff.de/event/yoga-samstag-07-12/
LOCATION:Ricky´s Sporttreff\, Mitteltorstrasse 13\, Marktheidenfeld\, Bayern\, 97828\, Deutschland
CATEGORIES:Yoga
ATTACH;FMTTYPE=image/png:https://rickyssporttreff.de/wp-content/uploads/2024/07/1.png
ORGANIZER;CN="Ricky B%C3%B6hm-Hennes":MAILTO:ricky@boehm-hennes.de
END:VEVENT
BEGIN:VEVENT
DTSTART;TZID=Europe/Berlin:20241210T093000
DTEND;TZID=Europe/Berlin:20241210T103000
DTSTAMP:20260425T001517
CREATED:20241121T111053Z
LAST-MODIFIED:20241121T111055Z
UID:14673-1733823000-1733826600@rickyssporttreff.de
SUMMARY:Yoga am Dienstag | 8.30 Uhr
DESCRIPTION:60 Minuten Yoga mit #rickyoga \n\n\n\nBring gern Deine Matte mit. Es sind aber auch Matten\, Gurte\, Klötze vorhanden. \n\n\n\n\n\nDu kannst Dir hier einen Platz reservieren\, wenn Du wirklich kommen magst. Die Plätze sind begrenzt und es wäre schade\, wenn jemand anderes nicht kommen kann\, weil vermeintlich kein Platz mehr ist. Danke.
URL:https://rickyssporttreff.de/event/yoga-dienstag-12-10/
LOCATION:Ricky´s Sporttreff\, Mitteltorstrasse 13\, Marktheidenfeld\, Bayern\, 97828\, Deutschland
CATEGORIES:Yoga
ATTACH;FMTTYPE=image/png:https://rickyssporttreff.de/wp-content/uploads/2024/10/Offene-Stunde1.png
ORGANIZER;CN="Ricky B%C3%B6hm-Hennes":MAILTO:ricky@boehm-hennes.de
END:VEVENT
BEGIN:VEVENT
DTSTART;TZID=Europe/Berlin:20241211T190000
DTEND;TZID=Europe/Berlin:20241211T200000
DTSTAMP:20260425T001517
CREATED:20241123T111457Z
LAST-MODIFIED:20241211T130306Z
UID:14808-1733943600-1733947200@rickyssporttreff.de
SUMMARY:Yoga am Mittwoch | 18 Uhr
DESCRIPTION:60 Minuten Yoga mit #rickyoga \n\n\n\nBring gern Deine Matte mit. Es sind aber auch Matten\, Gurte\, Klötze vorhanden. \n\n\n\n\n\nAn diesem Tag bekommst Du bei einem Einkauf Du kannst Dir hier einen Platz reservieren\, wenn Du wirklich kommen magst. Die Plätze sind begrenzt und es wäre schade\, wenn jemand anderes nicht kommen kann\, weil vermeintlich kein Platz mehr ist. Danke.
URL:https://rickyssporttreff.de/event/yoga-samstag-11-12/
LOCATION:Ricky´s Sporttreff\, Mitteltorstrasse 13\, Marktheidenfeld\, Bayern\, 97828\, Deutschland
CATEGORIES:Yoga
ATTACH;FMTTYPE=image/png:https://rickyssporttreff.de/wp-content/uploads/2024/11/Yoga-Rickyssporttreff-nov.png
ORGANIZER;CN="Ricky B%C3%B6hm-Hennes":MAILTO:ricky@boehm-hennes.de
END:VEVENT
BEGIN:VEVENT
DTSTART;TZID=Europe/Berlin:20241211T201500
DTEND;TZID=Europe/Berlin:20241211T211500
DTSTAMP:20260425T001517
CREATED:20241121T112013Z
LAST-MODIFIED:20241211T130308Z
UID:14684-1733948100-1733951700@rickyssporttreff.de
SUMMARY:Yoga am Mittwoch | 19.15 Uhr
DESCRIPTION:60 Minuten Yoga mit #rickyoga \n\n\n\nBring gern Deine Matte mit. Es sind aber auch Matten\, Gurte\, Klötze vorhanden. \n\n\n\n\n\nAn diesem Tag bekommst Du bei einem Einkauf Du kannst Dir hier einen Platz reservieren\, wenn Du wirklich kommen magst. Die Plätze sind begrenzt und es wäre schade\, wenn jemand anderes nicht kommen kann\, weil vermeintlich kein Platz mehr ist. Danke.
URL:https://rickyssporttreff.de/event/yoga-samstag-12-11-19uhr/
LOCATION:Ricky´s Sporttreff\, Mitteltorstrasse 13\, Marktheidenfeld\, Bayern\, 97828\, Deutschland
CATEGORIES:Yoga
ATTACH;FMTTYPE=image/png:https://rickyssporttreff.de/wp-content/uploads/2024/11/Yoga-Rickyssporttreff-nov.png
ORGANIZER;CN="Ricky B%C3%B6hm-Hennes":MAILTO:ricky@boehm-hennes.de
END:VEVENT
BEGIN:VEVENT
DTSTART;TZID=Europe/Berlin:20241213T100000
DTEND;TZID=Europe/Berlin:20241213T110000
DTSTAMP:20260425T001517
CREATED:20241206T100846Z
LAST-MODIFIED:20241206T100848Z
UID:15343-1734084000-1734087600@rickyssporttreff.de
SUMMARY:Yoga am Freitag | 9 Uhr
DESCRIPTION:Bring gern Deine Matte mit. Es sind aber auch Matten\, Gurte\, Klötze vorhanden. \n\n\n\n60 Minuten Yoga mit #rickyoga \n\n\n\n\n\nDu kannst Dir hier einen Platz reservieren\, wenn Du wirklich kommen magst. Die Plätze sind begrenzt und es wäre schade\, wenn jemand anderes nicht kommen kann\, weil vermeintlich kein Platz mehr ist. Danke.
URL:https://rickyssporttreff.de/event/yoga-freitag-13-11/
LOCATION:Ricky´s Sporttreff\, Mitteltorstrasse 13\, Marktheidenfeld\, Bayern\, 97828\, Deutschland
CATEGORIES:Yoga
ATTACH;FMTTYPE=image/png:https://rickyssporttreff.de/wp-content/uploads/2024/07/1.png
ORGANIZER;CN="Ricky B%C3%B6hm-Hennes":MAILTO:ricky@boehm-hennes.de
END:VEVENT
BEGIN:VEVENT
DTSTART;TZID=Europe/Berlin:20241213T180000
DTEND;TZID=Europe/Berlin:20241213T200000
DTSTAMP:20260425T001517
CREATED:20241127T203450Z
LAST-MODIFIED:20241128T112430Z
UID:14979-1734112800-1734120000@rickyssporttreff.de
SUMMARY:Mondgruß - Yoga Workshop
DESCRIPTION:mit Ylenia eine ganz besondere Yoga Einheit.
URL:https://rickyssporttreff.de/event/mondgruss-yoga-workshop/
LOCATION:Bayern
CATEGORIES:Yoga
ATTACH;FMTTYPE=image/png:https://rickyssporttreff.de/wp-content/uploads/2024/11/Mond1.png
END:VEVENT
BEGIN:VEVENT
DTSTART;TZID=Europe/Berlin:20241214T084500
DTEND;TZID=Europe/Berlin:20241214T094500
DTSTAMP:20260425T001517
CREATED:20241123T100900Z
LAST-MODIFIED:20241123T100902Z
UID:14786-1734165900-1734169500@rickyssporttreff.de
SUMMARY:Yoga am Samstag - Asana Intensiv | 7:45 Uhr
DESCRIPTION:60 Minuten Yoga mit #rickyoga \n\n\n\nNiveau – Asana Fortgeschritten – Zielstellungen z.B. Skorpion – Handstand – Pfau… \n\n\n\nStundenaufbau Hatha: \n\n\n\nAnfangsentspannung (kurz) – Sonnengrüße – Vorübungen zur jeweiligen Haltung – Hilfestellung durch Yogalehrer – Korrekturen – Endentspannung \n\n\n\nBei Fragen\, bitte vorab Kontakt aufnehmen!! \n\n\n\n\n\nHinweis: Wenn Du an dem Tag etwas im Laden kaufst\, bekommst Du 2€ auf Deinen Kauf gutgeschrieben. \n\n\n\nBring gern Deine Matte mit. Es sind aber auch Matten\, Gurte\, Klötze vorhanden. \n\n\n\nDu kannst Dir hier einen Platz reservieren\, wenn Du wirklich kommen magst. Die Plätze sind begrenzt und es wäre schade\, wenn jemand anderes nicht kommen kann\, weil vermeintlich kein Platz mehr ist. Danke.
URL:https://rickyssporttreff.de/event/yoga-samstag-14-12-intensiv-3/
LOCATION:Ricky´s Sporttreff\, Mitteltorstrasse 13\, Marktheidenfeld\, Bayern\, 97828\, Deutschland
CATEGORIES:Yoga
ATTACH;FMTTYPE=image/png:https://rickyssporttreff.de/wp-content/uploads/2024/09/Yoga-Intensiv.png
ORGANIZER;CN="Ricky B%C3%B6hm-Hennes":MAILTO:ricky@boehm-hennes.de
END:VEVENT
BEGIN:VEVENT
DTSTART;TZID=Europe/Berlin:20241214T100000
DTEND;TZID=Europe/Berlin:20241214T110000
DTSTAMP:20260425T001517
CREATED:20241123T094528Z
LAST-MODIFIED:20241123T094635Z
UID:14771-1734170400-1734174000@rickyssporttreff.de
SUMMARY:Yoga am Samstag | 9 Uhr
DESCRIPTION:60 Minuten Yoga mit #rickyoga \n\n\n\nBring gern Deine Matte mit. Es sind aber auch Matten\, Gurte\, Klötze vorhanden. \n\n\n\n\n\nDu kannst Dir hier einen Platz reservieren\, wenn Du wirklich kommen magst. Die Plätze sind begrenzt und es wäre schade\, wenn jemand anderes nicht kommen kann\, weil vermeintlich kein Platz mehr ist. Danke.
URL:https://rickyssporttreff.de/event/yoga-samstag-14-12/
LOCATION:Ricky´s Sporttreff\, Mitteltorstrasse 13\, Marktheidenfeld\, Bayern\, 97828\, Deutschland
CATEGORIES:Yoga
ATTACH;FMTTYPE=image/png:https://rickyssporttreff.de/wp-content/uploads/2024/07/1.png
ORGANIZER;CN="Ricky B%C3%B6hm-Hennes":MAILTO:ricky@boehm-hennes.de
END:VEVENT
BEGIN:VEVENT
DTSTART;TZID=Europe/Berlin:20241217T093000
DTEND;TZID=Europe/Berlin:20241217T103000
DTSTAMP:20260425T001517
CREATED:20241121T111212Z
LAST-MODIFIED:20241216T104952Z
UID:14677-1734427800-1734431400@rickyssporttreff.de
SUMMARY:Yoga am Dienstag | 8.30 Uhr
DESCRIPTION:60 Minuten Yoga mit #rickyoga \n\n\n\nBring gern Deine Matte mit. Es sind aber auch Matten\, Gurte\, Klötze vorhanden. \n\n\n\n\n\nDu kannst Dir hier einen Platz reservieren\, wenn Du wirklich kommen magst. Die Plätze sind begrenzt und es wäre schade\, wenn jemand anderes nicht kommen kann\, weil vermeintlich kein Platz mehr ist. Danke.
URL:https://rickyssporttreff.de/event/yoga-dienstag-12-17/
LOCATION:Ricky´s Sporttreff\, Mitteltorstrasse 13\, Marktheidenfeld\, Bayern\, 97828\, Deutschland
CATEGORIES:Yoga
ATTACH;FMTTYPE=image/png:https://rickyssporttreff.de/wp-content/uploads/2024/10/Offene-Stunde1.png
ORGANIZER;CN="Ricky B%C3%B6hm-Hennes":MAILTO:ricky@boehm-hennes.de
END:VEVENT
BEGIN:VEVENT
DTSTART;TZID=Europe/Berlin:20241218T190000
DTEND;TZID=Europe/Berlin:20241218T200000
DTSTAMP:20260425T001517
CREATED:20241123T112939Z
LAST-MODIFIED:20241123T113057Z
UID:14812-1734548400-1734552000@rickyssporttreff.de
SUMMARY:Yoga am Mittwoch | 18 Uhr
DESCRIPTION:60 Minuten Yoga mit #rickyoga \n\n\n\nBring gern Deine Matte mit. Es sind aber auch Matten\, Gurte\, Klötze vorhanden. \n\n\n\n\n\nAn diesem Tag bekommst Du bei einem Einkauf Du kannst Dir hier einen Platz reservieren\, wenn Du wirklich kommen magst. Die Plätze sind begrenzt und es wäre schade\, wenn jemand anderes nicht kommen kann\, weil vermeintlich kein Platz mehr ist. Danke.
URL:https://rickyssporttreff.de/event/yoga-samstag-18-12/
LOCATION:Ricky´s Sporttreff\, Mitteltorstrasse 13\, Marktheidenfeld\, Bayern\, 97828\, Deutschland
CATEGORIES:Yoga
ATTACH;FMTTYPE=image/png:https://rickyssporttreff.de/wp-content/uploads/2024/11/Yoga-Rickyssporttreff-nov.png
ORGANIZER;CN="Ricky B%C3%B6hm-Hennes":MAILTO:ricky@boehm-hennes.de
END:VEVENT
BEGIN:VEVENT
DTSTART;TZID=Europe/Berlin:20241218T201500
DTEND;TZID=Europe/Berlin:20241218T211500
DTSTAMP:20260425T001517
CREATED:20241121T160010Z
LAST-MODIFIED:20241216T104724Z
UID:14693-1734552900-1734556500@rickyssporttreff.de
SUMMARY:Yoga am Mittwoch | 19.15 Uhr
DESCRIPTION:60 Minuten Yoga mit #rickyoga \n\n\n\nBring gern Deine Matte mit. Es sind aber auch Matten\, Gurte\, Klötze vorhanden. \n\n\n\n\n\nAn diesem Tag bekommst Du bei einem Einkauf Du kannst Dir hier einen Platz reservieren\, wenn Du wirklich kommen magst. Die Plätze sind begrenzt und es wäre schade\, wenn jemand anderes nicht kommen kann\, weil vermeintlich kein Platz mehr ist. Danke.
URL:https://rickyssporttreff.de/event/yoga-samstag-12-18-19uhr/
LOCATION:Ricky´s Sporttreff\, Mitteltorstrasse 13\, Marktheidenfeld\, Bayern\, 97828\, Deutschland
CATEGORIES:Yoga
ATTACH;FMTTYPE=image/png:https://rickyssporttreff.de/wp-content/uploads/2024/11/Yoga-Rickyssporttreff-nov.png
ORGANIZER;CN="Ricky B%C3%B6hm-Hennes":MAILTO:ricky@boehm-hennes.de
END:VEVENT
BEGIN:VEVENT
DTSTART;TZID=Europe/Berlin:20241220T100000
DTEND;TZID=Europe/Berlin:20241220T110000
DTSTAMP:20260425T001517
CREATED:20241206T101415Z
LAST-MODIFIED:20241217T201621Z
UID:15355-1734688800-1734692400@rickyssporttreff.de
SUMMARY:Yoga am Freitag | 9 Uhr
DESCRIPTION:Bring gern Deine Matte mit. Es sind aber auch Matten\, Gurte\, Klötze vorhanden. \n\n\n\n60 Minuten Yoga mit #rickyoga \n\n\n\n\n\nDu kannst Dir hier einen Platz reservieren\, wenn Du wirklich kommen magst. Die Plätze sind begrenzt und es wäre schade\, wenn jemand anderes nicht kommen kann\, weil vermeintlich kein Platz mehr ist. Danke.
URL:https://rickyssporttreff.de/event/yoga-freitag-20-12/
LOCATION:Ricky´s Sporttreff\, Mitteltorstrasse 13\, Marktheidenfeld\, Bayern\, 97828\, Deutschland
CATEGORIES:Yoga
ATTACH;FMTTYPE=image/png:https://rickyssporttreff.de/wp-content/uploads/2024/07/1.png
ORGANIZER;CN="Ricky B%C3%B6hm-Hennes":MAILTO:ricky@boehm-hennes.de
END:VEVENT
BEGIN:VEVENT
DTSTART;TZID=Europe/Berlin:20241221T100000
DTEND;TZID=Europe/Berlin:20241221T110000
DTSTAMP:20260425T001517
CREATED:20241123T095331Z
LAST-MODIFIED:20241218T083725Z
UID:14775-1734775200-1734778800@rickyssporttreff.de
SUMMARY:Yoga am Samstag | 9 Uhr
DESCRIPTION:60 Minuten Yoga mit #rickyoga \n\n\n\nBring gern Deine Matte mit. Es sind aber auch Matten\, Gurte\, Klötze vorhanden. \n\n\n\n\n\nDu kannst Dir hier einen Platz reservieren\, wenn Du wirklich kommen magst. Die Plätze sind begrenzt und es wäre schade\, wenn jemand anderes nicht kommen kann\, weil vermeintlich kein Platz mehr ist. Danke.
URL:https://rickyssporttreff.de/event/yoga-samstag-21-12/
LOCATION:Ricky´s Sporttreff\, Mitteltorstrasse 13\, Marktheidenfeld\, Bayern\, 97828\, Deutschland
CATEGORIES:Yoga
ATTACH;FMTTYPE=image/png:https://rickyssporttreff.de/wp-content/uploads/2024/07/1.png
ORGANIZER;CN="Ricky B%C3%B6hm-Hennes":MAILTO:ricky@boehm-hennes.de
END:VEVENT
END:VCALENDAR