BEGIN:VCALENDAR
VERSION:2.0
PRODID:-//Ricky&#039;s Sport Treff - Marktheidenfeld - ECPv6.15.20//NONSGML v1.0//EN
CALSCALE:GREGORIAN
METHOD:PUBLISH
X-WR-CALNAME:Ricky&#039;s Sport Treff - Marktheidenfeld
X-ORIGINAL-URL:https://rickyssporttreff.de
X-WR-CALDESC:Veranstaltungen für Ricky&#039;s Sport Treff - Marktheidenfeld
REFRESH-INTERVAL;VALUE=DURATION:PT1H
X-Robots-Tag:noindex
X-PUBLISHED-TTL:PT1H
BEGIN:VTIMEZONE
TZID:Europe/Berlin
BEGIN:DAYLIGHT
TZOFFSETFROM:+0100
TZOFFSETTO:+0200
TZNAME:CEST
DTSTART:20240331T010000
END:DAYLIGHT
BEGIN:STANDARD
TZOFFSETFROM:+0200
TZOFFSETTO:+0100
TZNAME:CET
DTSTART:20241027T010000
END:STANDARD
BEGIN:DAYLIGHT
TZOFFSETFROM:+0100
TZOFFSETTO:+0200
TZNAME:CEST
DTSTART:20250330T010000
END:DAYLIGHT
BEGIN:STANDARD
TZOFFSETFROM:+0200
TZOFFSETTO:+0100
TZNAME:CET
DTSTART:20251026T010000
END:STANDARD
BEGIN:DAYLIGHT
TZOFFSETFROM:+0100
TZOFFSETTO:+0200
TZNAME:CEST
DTSTART:20260329T010000
END:DAYLIGHT
BEGIN:STANDARD
TZOFFSETFROM:+0200
TZOFFSETTO:+0100
TZNAME:CET
DTSTART:20261025T010000
END:STANDARD
END:VTIMEZONE
BEGIN:VEVENT
DTSTART;TZID=Europe/Berlin:20250701T083000
DTEND;TZID=Europe/Berlin:20250701T093000
DTSTAMP:20260420T182415
CREATED:20250630T063042Z
LAST-MODIFIED:20250630T063044Z
UID:21548-1751358600-1751362200@rickyssporttreff.de
SUMMARY:Yoga am Dienstag | 8.30 Uhr
DESCRIPTION:60 Minuten Yoga mit #rickyoga \n\n\n\nBring gern Deine Matte mit. Es sind aber auch Matten\, Gurte\, Klötze vorhanden. \n\n\n\n\n\nDu kannst Dir hier einen Platz reservieren\, wenn Du wirklich kommen magst. Die Plätze sind begrenzt und es wäre schade\, wenn jemand anderes nicht kommen kann\, weil vermeintlich kein Platz mehr ist. Danke.
URL:https://rickyssporttreff.de/event/yoga-dienstag-01-07-2025/
LOCATION:Ricky´s Sporttreff\, Mitteltorstrasse 13\, Marktheidenfeld\, Bayern\, 97828\, Deutschland
CATEGORIES:Yoga
ATTACH;FMTTYPE=image/png:https://rickyssporttreff.de/wp-content/uploads/2024/10/Offene-Stunde1.png
ORGANIZER;CN="Ricky B%C3%B6hm-Hennes":MAILTO:ricky@boehm-hennes.de
END:VEVENT
BEGIN:VEVENT
DTSTART;TZID=Europe/Berlin:20250703T181500
DTEND;TZID=Europe/Berlin:20250703T193000
DTSTAMP:20260420T182415
CREATED:20250630T205330Z
LAST-MODIFIED:20250630T205332Z
UID:21639-1751566500-1751571000@rickyssporttreff.de
SUMMARY:Yoga am Donnerstag | 18.15 Uhr
DESCRIPTION:75 Minuten Yoga mit Isabel Schneider \n\n\n\nBring gern Deine Matte mit. Es sind aber auch Matten\, Gurte\, Klötze vorhanden. \n\n\n\n\n\nDu kannst Dir hier einen Platz reservieren\, wenn Du wirklich kommen magst. Die Plätze sind begrenzt und es wäre schade\, wenn jemand anderes nicht kommen kann\, weil vermeintlich kein Platz mehr ist. Danke. \n\n\n\n\n\nVeranstalter:\n\n\n\n\n\nOrt:
URL:https://rickyssporttreff.de/event/yoga-isi_03-07/
LOCATION:Ricky´s Sporttreff\, Mitteltorstrasse 13\, Marktheidenfeld\, Bayern\, 97828\, Deutschland
CATEGORIES:Yoga,Yoga-mit-Isi
ATTACH;FMTTYPE=image/png:https://rickyssporttreff.de/wp-content/uploads/2024/10/For-better-Healthy-Flexibility.png
END:VEVENT
BEGIN:VEVENT
DTSTART;TZID=Europe/Berlin:20250704T090000
DTEND;TZID=Europe/Berlin:20250704T100000
DTSTAMP:20260420T182415
CREATED:20250630T210237Z
LAST-MODIFIED:20250630T210827Z
UID:21645-1751619600-1751623200@rickyssporttreff.de
SUMMARY:Yoga am Freitag | 9 Uhr
DESCRIPTION:Bring gern Deine Matte mit. Es sind aber auch Matten\, Gurte\, Klötze vorhanden. \n\n\n\n60 Minuten Yoga mit #rickyoga \n\n\n\n\n\nDu kannst Dir hier einen Platz reservieren\, wenn Du wirklich kommen magst. Die Plätze sind begrenzt und es wäre schade\, wenn jemand anderes nicht kommen kann\, weil vermeintlich kein Platz mehr ist. Danke.
URL:https://rickyssporttreff.de/event/yoga-freitag-04-07-2025/
LOCATION:Ricky´s Sporttreff\, Mitteltorstrasse 13\, Marktheidenfeld\, Bayern\, 97828\, Deutschland
CATEGORIES:Yoga
ATTACH;FMTTYPE=image/png:https://rickyssporttreff.de/wp-content/uploads/2024/07/1.png
ORGANIZER;CN="Ricky B%C3%B6hm-Hennes":MAILTO:ricky@boehm-hennes.de
END:VEVENT
BEGIN:VEVENT
DTSTART;TZID=Europe/Berlin:20250705T090000
DTEND;TZID=Europe/Berlin:20250705T100000
DTSTAMP:20260420T182415
CREATED:20250623T143008Z
LAST-MODIFIED:20250623T144000Z
UID:21370-1751706000-1751709600@rickyssporttreff.de
SUMMARY:Yoga am Samstag | 9 Uhr
DESCRIPTION:60 Minuten Yoga mit #rickyoga \n\n\n\nBring gern Deine Matte mit. Es sind aber auch Matten\, Gurte\, Klötze vorhanden. \n\n\n\n\n\nDu kannst Dir hier einen Platz reservieren\, wenn Du wirklich kommen magst. Die Plätze sind begrenzt und es wäre schade\, wenn jemand anderes nicht kommen kann\, weil vermeintlich kein Platz mehr ist. Danke.
URL:https://rickyssporttreff.de/event/yoga-samstag-05-07-25/
LOCATION:Ricky´s Sporttreff\, Mitteltorstrasse 13\, Marktheidenfeld\, Bayern\, 97828\, Deutschland
CATEGORIES:Yoga
ATTACH;FMTTYPE=image/png:https://rickyssporttreff.de/wp-content/uploads/2024/07/1.png
ORGANIZER;CN="Ricky B%C3%B6hm-Hennes":MAILTO:ricky@boehm-hennes.de
END:VEVENT
BEGIN:VEVENT
DTSTART;TZID=Europe/Berlin:20250708T083000
DTEND;TZID=Europe/Berlin:20250708T093000
DTSTAMP:20260420T182415
CREATED:20250705T114330Z
LAST-MODIFIED:20250705T114332Z
UID:21778-1751963400-1751967000@rickyssporttreff.de
SUMMARY:Yoga am Dienstag | 8.30 Uhr
DESCRIPTION:60 Minuten Yoga mit #rickyoga \n\n\n\nBring gern Deine Matte mit. Es sind aber auch Matten\, Gurte\, Klötze vorhanden. \n\n\n\n\n\nDu kannst Dir hier einen Platz reservieren\, wenn Du wirklich kommen magst. Die Plätze sind begrenzt und es wäre schade\, wenn jemand anderes nicht kommen kann\, weil vermeintlich kein Platz mehr ist. Danke.
URL:https://rickyssporttreff.de/event/yoga-dienstag-08-07-2025/
LOCATION:Ricky´s Sporttreff\, Mitteltorstrasse 13\, Marktheidenfeld\, Bayern\, 97828\, Deutschland
CATEGORIES:Yoga
ATTACH;FMTTYPE=image/png:https://rickyssporttreff.de/wp-content/uploads/2024/10/Offene-Stunde1.png
ORGANIZER;CN="Ricky B%C3%B6hm-Hennes":MAILTO:ricky@boehm-hennes.de
END:VEVENT
BEGIN:VEVENT
DTSTART;TZID=Europe/Berlin:20250709T180000
DTEND;TZID=Europe/Berlin:20250709T190000
DTSTAMP:20260420T182415
CREATED:20250619T072252Z
LAST-MODIFIED:20250619T072312Z
UID:21279-1752084000-1752087600@rickyssporttreff.de
SUMMARY:Yoga am Mittwoch | 18 Uhr
DESCRIPTION:60 Minuten Yoga mit #rickyoga \n\n\n\nBring gern Deine Matte mit. Es sind aber auch Matten\, Gurte\, Klötze vorhanden. \n\n\n\n\n\nAn diesem Tag bekommst Du bei einem Einkauf Du kannst Dir hier einen Platz reservieren\, wenn Du wirklich kommen magst. Die Plätze sind begrenzt und es wäre schade\, wenn jemand anderes nicht kommen kann\, weil vermeintlich kein Platz mehr ist. Danke.
URL:https://rickyssporttreff.de/event/yoga-mittwoch-09-07-25/
LOCATION:Ricky´s Sporttreff\, Mitteltorstrasse 13\, Marktheidenfeld\, Bayern\, 97828\, Deutschland
CATEGORIES:Yoga
ATTACH;FMTTYPE=image/png:https://rickyssporttreff.de/wp-content/uploads/2024/11/Yoga-Rickyssporttreff-nov.png
ORGANIZER;CN="Ricky B%C3%B6hm-Hennes":MAILTO:ricky@boehm-hennes.de
END:VEVENT
BEGIN:VEVENT
DTSTART;TZID=Europe/Berlin:20250709T191500
DTEND;TZID=Europe/Berlin:20250709T201500
DTSTAMP:20260420T182415
CREATED:20250619T081429Z
LAST-MODIFIED:20250619T081432Z
UID:21295-1752088500-1752092100@rickyssporttreff.de
SUMMARY:Yoga am Mittwoch | 19.15 Uhr
DESCRIPTION:60 Minuten Yoga mit #rickyoga \n\n\n\nBring gern Deine Matte mit. Es sind aber auch Matten\, Gurte\, Klötze vorhanden. \n\n\n\n\n\nAn diesem Tag bekommst Du bei einem Einkauf Du kannst Dir hier einen Platz reservieren\, wenn Du wirklich kommen magst. Die Plätze sind begrenzt und es wäre schade\, wenn jemand anderes nicht kommen kann\, weil vermeintlich kein Platz mehr ist. Danke.
URL:https://rickyssporttreff.de/event/yoga-mittwoch-09-07-19uhr/
LOCATION:Ricky´s Sporttreff\, Mitteltorstrasse 13\, Marktheidenfeld\, Bayern\, 97828\, Deutschland
CATEGORIES:Yoga
ATTACH;FMTTYPE=image/png:https://rickyssporttreff.de/wp-content/uploads/2024/11/Yoga-Rickyssporttreff-nov.png
ORGANIZER;CN="Ricky B%C3%B6hm-Hennes":MAILTO:ricky@boehm-hennes.de
END:VEVENT
BEGIN:VEVENT
DTSTART;TZID=Europe/Berlin:20250710T181500
DTEND;TZID=Europe/Berlin:20250710T193000
DTSTAMP:20260420T182415
CREATED:20250709T110523Z
LAST-MODIFIED:20250709T110605Z
UID:21846-1752171300-1752175800@rickyssporttreff.de
SUMMARY:Yoga am Donnerstag | 18.15 Uhr
DESCRIPTION:75 Minuten Yoga mit Isabel Schneider \n\n\n\nBring gern Deine Matte mit. Es sind aber auch Matten\, Gurte\, Klötze vorhanden. \n\n\n\n\n\nDu kannst Dir hier einen Platz reservieren\, wenn Du wirklich kommen magst. Die Plätze sind begrenzt und es wäre schade\, wenn jemand anderes nicht kommen kann\, weil vermeintlich kein Platz mehr ist. Danke. \n\n\n\n\n\nVeranstalter:\n\n\n\n\n\nOrt:
URL:https://rickyssporttreff.de/event/yoga-isi_10-07/
LOCATION:Ricky´s Sporttreff\, Mitteltorstrasse 13\, Marktheidenfeld\, Bayern\, 97828\, Deutschland
CATEGORIES:Yoga,Yoga-mit-Isi
ATTACH;FMTTYPE=image/png:https://rickyssporttreff.de/wp-content/uploads/2024/10/For-better-Healthy-Flexibility.png
END:VEVENT
BEGIN:VEVENT
DTSTART;TZID=Europe/Berlin:20250710T193000
DTEND;TZID=Europe/Berlin:20250710T203000
DTSTAMP:20260420T182415
CREATED:20250614T111337Z
LAST-MODIFIED:20250709T073617Z
UID:21146-1752175800-1752179400@rickyssporttreff.de
SUMMARY:Vollmond Community Run&Walk 5 & 10km #RST Juli
DESCRIPTION:Lasst uns gemeinsam den Vollmond in Bewegung genießen. \n\n\n\nDazu lade ich Euch ein\, eine Strecke von 5km bzw. 10km zu absolvieren\, in Deinem Zieltempo (Hinweis in der Anmeldung erbeten). Es ist KEIN WETTKAMPF! \n\n\n\nStrecke: Die Strecke ist so konzipiert\, dass wir permanent auf befestigtem Boden laufen. Wir sind nur auf dem Fußweg bzw. verkehrsberuhigerter Bereich unterwegs und kaum Höhenmeter. Du wirst begeistert sein\, das ein oder andere beleuchtete Highlight in der Stadt zu entdecken\, am gegenüberliegenden Mainufer die Skyline Hädefeld zu geniessen. Da der Sonnenuntergang für 21:18 prognostiziert ist\, wir der Vollmond nur spärlich zu sehen sein. \n\n\n\nEs gilt auf der Strecke trotz sportlicher Atmosphäre das Prinzip der gegenseitigen Rücksichtnahme\, vorausschauendes Verhalten und die Einhaltung der StVO. \n\n\n\nHighlight\n\n\n\n\nKaltgetränke für angemeldete Läufer\n\n\n\n6 Tempogruppen (siehe Anmeldeformular)\n\n\n\nUmkleide / Toiletten vor Ort\n\n\n\nAfter-Run Networken im Laden
URL:https://rickyssporttreff.de/event/vollmondlauf-juli-25/
LOCATION:Ricky´s Sporttreff\, Mitteltorstrasse 13\, Marktheidenfeld\, Bayern\, 97828\, Deutschland
CATEGORIES:Laufen
ATTACH;FMTTYPE=image/png:https://rickyssporttreff.de/wp-content/uploads/2025/06/vollmond-juli25.png
ORGANIZER;CN="Ricky B%C3%B6hm-Hennes":MAILTO:ricky@boehm-hennes.de
END:VEVENT
BEGIN:VEVENT
DTSTART;TZID=Europe/Berlin:20250711T090000
DTEND;TZID=Europe/Berlin:20250711T100000
DTSTAMP:20260420T182415
CREATED:20250630T211056Z
LAST-MODIFIED:20250630T211100Z
UID:21651-1752224400-1752228000@rickyssporttreff.de
SUMMARY:Yoga am Freitag | 9 Uhr
DESCRIPTION:Bring gern Deine Matte mit. Es sind aber auch Matten\, Gurte\, Klötze vorhanden. \n\n\n\n60 Minuten Yoga mit #rickyoga \n\n\n\n\n\nDu kannst Dir hier einen Platz reservieren\, wenn Du wirklich kommen magst. Die Plätze sind begrenzt und es wäre schade\, wenn jemand anderes nicht kommen kann\, weil vermeintlich kein Platz mehr ist. Danke.
URL:https://rickyssporttreff.de/event/yoga-freitag-11-07-2025/
LOCATION:Ricky´s Sporttreff\, Mitteltorstrasse 13\, Marktheidenfeld\, Bayern\, 97828\, Deutschland
CATEGORIES:Yoga
ATTACH;FMTTYPE=image/png:https://rickyssporttreff.de/wp-content/uploads/2024/07/1.png
ORGANIZER;CN="Ricky B%C3%B6hm-Hennes":MAILTO:ricky@boehm-hennes.de
END:VEVENT
BEGIN:VEVENT
DTSTART;TZID=Europe/Berlin:20250711T180000
DTEND;TZID=Europe/Berlin:20250711T220000
DTSTAMP:20260420T182415
CREATED:20250519T080918Z
LAST-MODIFIED:20250627T145117Z
UID:20637-1752256800-1752271200@rickyssporttreff.de
SUMMARY:#Sundowner Yoga&Wein in Homburg
DESCRIPTION:In den Homburger Weinbergen findet ein besonderes Event statt. 18:00 Uhr treffen wir uns und nach einem kleinen Aufstieg zur Edelfrau genießt Du im Anschluß eine Yogaeinheit mit Isi & Ricky. \n\n\n\nIn den Sonnenuntergang hinein erlebst Du eine Auswahl von Weinen (Weinprobe Weingut Huller)\, auch alkoholfreier Wein und Secco im Angebot. So lassen wir den Abend dann gemeinsam ausklingen. \n\n\n\nBilder aus vergangenen Events: \n\n\n\nNach den Yogaeinheiten durften wir vergangenes Jahr Isabella Huller in den Weinbergen bei der Weinprobe lauschen und genießen. \n\n\n\n\n\n\n\n\n\n\n			\n				\n			\n		\n\n\n\n\n\n\n			\n				\n			\n		\n\n\n\n\n\n\n\n\n\n\n\n\n\n\n\nVeranstalter\n\n\n\n\n\nLocation
URL:https://rickyssporttreff.de/event/sundowner-yogawein-2025/
LOCATION:Homburg am Main / Edelfrau\, Triefenstein-Homburg\, 97855\, Deutschland
CATEGORIES:Yoga
END:VEVENT
BEGIN:VEVENT
DTSTART;TZID=Europe/Berlin:20250712T000000
DTEND;TZID=Europe/Berlin:20250712T235959
DTSTAMP:20260420T182415
CREATED:20241104T134921Z
LAST-MODIFIED:20241104T142844Z
UID:14105-1752278400-1752364799@rickyssporttreff.de
SUMMARY:Taubertal-Trail 0\,5 | 5 | 11\,5 | 23\,4 | 33\,7 | 64\,3 km | Trail&Hike
DESCRIPTION:T 64 – Ultra\n\n\n\nTrail \n\n\n\nDie Königsdisziplin! Natürlich wollen wir euch den Genuss unserer 33er Distanz nicht vorenthalten. Dann geht es aber weiter! Die Rothenburger Ecke ist abgeklappert\, ab nach Creglingen an die Landesgrenze (Bayern/Baden Württemberg). Hoch in die Weinberge des Tauberzeller Hasennestles\, begleitet durch den Neustetter Bach geht es bergauf-bergab auf Höhenmeterjagd. Der von Wanderern gern genutzte Panoramaweg\, wird euer stetiger Begleiter sein. Nach der Schirmbachschleife beginnt euer vielseitiger aber arbeitsreicher Rückweg über Tauberscheckenbach zu uns ins Stadion. \n\n\n\nStrecke ansehen \n\n\n\n64\,3 km – 1.120 m \n\n\n\n \n\n\n\n \n\n\n\n\n\n \n\n\n\n\nLink ANMELDUNG
URL:https://rickyssporttreff.de/event/weinbergschneckenlauf-08-25-5-10km-2/
LOCATION:Bayern
CATEGORIES:Laufen
END:VEVENT
BEGIN:VEVENT
DTSTART;TZID=Europe/Berlin:20250712T090000
DTEND;TZID=Europe/Berlin:20250712T100000
DTSTAMP:20260420T182415
CREATED:20250630T212325Z
LAST-MODIFIED:20250630T212341Z
UID:21669-1752310800-1752314400@rickyssporttreff.de
SUMMARY:Yoga am Samstag mit Isi | 9 Uhr
DESCRIPTION:60 Minuten Yoga mit Isabel Schneider. \n\n\n\nBring gern Deine Matte mit. Es sind aber auch Matten\, Gurte\, Klötze vorhanden. \n\n\n\n\n\nDu kannst Dir hier einen Platz reservieren\, wenn Du wirklich kommen magst. Die Plätze sind begrenzt und es wäre schade\, wenn jemand anderes nicht kommen kann\, weil vermeintlich kein Platz mehr ist. Danke.
URL:https://rickyssporttreff.de/event/yoga-samstag-12-07-25/
LOCATION:Ricky´s Sporttreff\, Mitteltorstrasse 13\, Marktheidenfeld\, Bayern\, 97828\, Deutschland
CATEGORIES:Yoga
ORGANIZER;CN="Ricky B%C3%B6hm-Hennes":MAILTO:ricky@boehm-hennes.de
END:VEVENT
BEGIN:VEVENT
DTSTART;TZID=Europe/Berlin:20250715T083000
DTEND;TZID=Europe/Berlin:20250715T093000
DTSTAMP:20260420T182415
CREATED:20250709T112321Z
LAST-MODIFIED:20250709T112829Z
UID:21850-1752568200-1752571800@rickyssporttreff.de
SUMMARY:Yoga am Dienstag | 8.30 Uhr
DESCRIPTION:60 Minuten Yoga mit #rickyoga \n\n\n\nBring gern Deine Matte mit. Es sind aber auch Matten\, Gurte\, Klötze vorhanden. \n\n\n\n\n\nDu kannst Dir hier einen Platz reservieren\, wenn Du wirklich kommen magst. Die Plätze sind begrenzt und es wäre schade\, wenn jemand anderes nicht kommen kann\, weil vermeintlich kein Platz mehr ist. Danke.
URL:https://rickyssporttreff.de/event/yoga-dienstag-15-07-2025/
LOCATION:Ricky´s Sporttreff\, Mitteltorstrasse 13\, Marktheidenfeld\, Bayern\, 97828\, Deutschland
CATEGORIES:Yoga
ATTACH;FMTTYPE=image/png:https://rickyssporttreff.de/wp-content/uploads/2024/10/Offene-Stunde1.png
ORGANIZER;CN="Ricky B%C3%B6hm-Hennes":MAILTO:ricky@boehm-hennes.de
END:VEVENT
BEGIN:VEVENT
DTSTART;TZID=Europe/Berlin:20250716T180000
DTEND;TZID=Europe/Berlin:20250716T190000
DTSTAMP:20260420T182415
CREATED:20250619T072731Z
LAST-MODIFIED:20250619T072734Z
UID:21283-1752688800-1752692400@rickyssporttreff.de
SUMMARY:Yoga am Mittwoch | 18 Uhr
DESCRIPTION:60 Minuten Yoga mit #rickyoga \n\n\n\nBring gern Deine Matte mit. Es sind aber auch Matten\, Gurte\, Klötze vorhanden. \n\n\n\n\n\nAn diesem Tag bekommst Du bei einem Einkauf Du kannst Dir hier einen Platz reservieren\, wenn Du wirklich kommen magst. Die Plätze sind begrenzt und es wäre schade\, wenn jemand anderes nicht kommen kann\, weil vermeintlich kein Platz mehr ist. Danke.
URL:https://rickyssporttreff.de/event/yoga-mittwoch-16-07-25/
LOCATION:Ricky´s Sporttreff\, Mitteltorstrasse 13\, Marktheidenfeld\, Bayern\, 97828\, Deutschland
CATEGORIES:Yoga
ATTACH;FMTTYPE=image/png:https://rickyssporttreff.de/wp-content/uploads/2024/11/Yoga-Rickyssporttreff-nov.png
ORGANIZER;CN="Ricky B%C3%B6hm-Hennes":MAILTO:ricky@boehm-hennes.de
END:VEVENT
BEGIN:VEVENT
DTSTART;TZID=Europe/Berlin:20250717T181500
DTEND;TZID=Europe/Berlin:20250717T193000
DTSTAMP:20260420T182415
CREATED:20250717T094200Z
LAST-MODIFIED:20250717T094451Z
UID:21949-1752776100-1752780600@rickyssporttreff.de
SUMMARY:Yoga am Donnerstag | 18.15 Uhr
DESCRIPTION:75 Minuten Yoga mit Isabel Schneider \n\n\n\nBring gern Deine Matte mit. Es sind aber auch Matten\, Gurte\, Klötze vorhanden. \n\n\n\n\n\nDu kannst Dir hier einen Platz reservieren\, wenn Du wirklich kommen magst. Die Plätze sind begrenzt und es wäre schade\, wenn jemand anderes nicht kommen kann\, weil vermeintlich kein Platz mehr ist. Danke. \n\n\n\n\n\nVeranstalter:\n\n\n\n\n\nOrt:
URL:https://rickyssporttreff.de/event/yoga-isi_17-07/
LOCATION:Ricky´s Sporttreff\, Mitteltorstrasse 13\, Marktheidenfeld\, Bayern\, 97828\, Deutschland
CATEGORIES:Yoga,Yoga-mit-Isi
ATTACH;FMTTYPE=image/png:https://rickyssporttreff.de/wp-content/uploads/2024/10/For-better-Healthy-Flexibility.png
END:VEVENT
BEGIN:VEVENT
DTSTART;TZID=Europe/Berlin:20250718T090000
DTEND;TZID=Europe/Berlin:20250718T100000
DTSTAMP:20260420T182415
CREATED:20250630T211309Z
LAST-MODIFIED:20250630T211349Z
UID:21657-1752829200-1752832800@rickyssporttreff.de
SUMMARY:Yoga am Freitag | 9 Uhr
DESCRIPTION:Bring gern Deine Matte mit. Es sind aber auch Matten\, Gurte\, Klötze vorhanden. \n\n\n\n60 Minuten Yoga mit #rickyoga \n\n\n\n\n\nDu kannst Dir hier einen Platz reservieren\, wenn Du wirklich kommen magst. Die Plätze sind begrenzt und es wäre schade\, wenn jemand anderes nicht kommen kann\, weil vermeintlich kein Platz mehr ist. Danke.
URL:https://rickyssporttreff.de/event/yoga-freitag-18-07-2025/
LOCATION:Ricky´s Sporttreff\, Mitteltorstrasse 13\, Marktheidenfeld\, Bayern\, 97828\, Deutschland
CATEGORIES:Yoga
ATTACH;FMTTYPE=image/png:https://rickyssporttreff.de/wp-content/uploads/2024/07/1.png
ORGANIZER;CN="Ricky B%C3%B6hm-Hennes":MAILTO:ricky@boehm-hennes.de
END:VEVENT
BEGIN:VEVENT
DTSTART;TZID=Europe/Berlin:20250719T090000
DTEND;TZID=Europe/Berlin:20250719T100000
DTSTAMP:20260420T182415
CREATED:20250623T145108Z
LAST-MODIFIED:20250623T145111Z
UID:21378-1752915600-1752919200@rickyssporttreff.de
SUMMARY:Yoga am Samstag | 9 Uhr
DESCRIPTION:60 Minuten Yoga mit #rickyoga \n\n\n\nBring gern Deine Matte mit. Es sind aber auch Matten\, Gurte\, Klötze vorhanden. \n\n\n\n\n\nDu kannst Dir hier einen Platz reservieren\, wenn Du wirklich kommen magst. Die Plätze sind begrenzt und es wäre schade\, wenn jemand anderes nicht kommen kann\, weil vermeintlich kein Platz mehr ist. Danke.
URL:https://rickyssporttreff.de/event/yoga-samstag-19-07-25/
LOCATION:Ricky´s Sporttreff\, Mitteltorstrasse 13\, Marktheidenfeld\, Bayern\, 97828\, Deutschland
CATEGORIES:Yoga
ATTACH;FMTTYPE=image/png:https://rickyssporttreff.de/wp-content/uploads/2024/07/1.png
ORGANIZER;CN="Ricky B%C3%B6hm-Hennes":MAILTO:ricky@boehm-hennes.de
END:VEVENT
BEGIN:VEVENT
DTSTART;TZID=Europe/Berlin:20250722T083000
DTEND;TZID=Europe/Berlin:20250722T093000
DTSTAMP:20260420T182415
CREATED:20250709T114156Z
LAST-MODIFIED:20250709T114159Z
UID:21856-1753173000-1753176600@rickyssporttreff.de
SUMMARY:Yoga am Dienstag | 8.30 Uhr
DESCRIPTION:60 Minuten Yoga mit #rickyoga \n\n\n\nBring gern Deine Matte mit. Es sind aber auch Matten\, Gurte\, Klötze vorhanden. \n\n\n\n\n\nDu kannst Dir hier einen Platz reservieren\, wenn Du wirklich kommen magst. Die Plätze sind begrenzt und es wäre schade\, wenn jemand anderes nicht kommen kann\, weil vermeintlich kein Platz mehr ist. Danke.
URL:https://rickyssporttreff.de/event/yoga-dienstag-22-07-2025/
LOCATION:Ricky´s Sporttreff\, Mitteltorstrasse 13\, Marktheidenfeld\, Bayern\, 97828\, Deutschland
CATEGORIES:Yoga
ATTACH;FMTTYPE=image/png:https://rickyssporttreff.de/wp-content/uploads/2024/10/Offene-Stunde1.png
ORGANIZER;CN="Ricky B%C3%B6hm-Hennes":MAILTO:ricky@boehm-hennes.de
END:VEVENT
BEGIN:VEVENT
DTSTART;TZID=Europe/Berlin:20250723T180000
DTEND;TZID=Europe/Berlin:20250723T190000
DTSTAMP:20260420T182415
CREATED:20250619T073003Z
LAST-MODIFIED:20250619T073022Z
UID:21287-1753293600-1753297200@rickyssporttreff.de
SUMMARY:Yoga am Mittwoch | 18 Uhr
DESCRIPTION:60 Minuten Yoga mit #rickyoga \n\n\n\nBring gern Deine Matte mit. Es sind aber auch Matten\, Gurte\, Klötze vorhanden. \n\n\n\n\n\nAn diesem Tag bekommst Du bei einem Einkauf Du kannst Dir hier einen Platz reservieren\, wenn Du wirklich kommen magst. Die Plätze sind begrenzt und es wäre schade\, wenn jemand anderes nicht kommen kann\, weil vermeintlich kein Platz mehr ist. Danke.
URL:https://rickyssporttreff.de/event/yoga-mittwoch-23-07-25/
LOCATION:Ricky´s Sporttreff\, Mitteltorstrasse 13\, Marktheidenfeld\, Bayern\, 97828\, Deutschland
CATEGORIES:Yoga
ATTACH;FMTTYPE=image/png:https://rickyssporttreff.de/wp-content/uploads/2024/11/Yoga-Rickyssporttreff-nov.png
ORGANIZER;CN="Ricky B%C3%B6hm-Hennes":MAILTO:ricky@boehm-hennes.de
END:VEVENT
BEGIN:VEVENT
DTSTART;TZID=Europe/Berlin:20250723T191500
DTEND;TZID=Europe/Berlin:20250723T201500
DTSTAMP:20260420T182415
CREATED:20250619T095620Z
LAST-MODIFIED:20250619T095637Z
UID:21303-1753298100-1753301700@rickyssporttreff.de
SUMMARY:Yoga am Mittwoch | 19.15 Uhr
DESCRIPTION:60 Minuten Yoga mit #rickyoga \n\n\n\nBring gern Deine Matte mit. Es sind aber auch Matten\, Gurte\, Klötze vorhanden. \n\n\n\n\n\nAn diesem Tag bekommst Du bei einem Einkauf Du kannst Dir hier einen Platz reservieren\, wenn Du wirklich kommen magst. Die Plätze sind begrenzt und es wäre schade\, wenn jemand anderes nicht kommen kann\, weil vermeintlich kein Platz mehr ist. Danke.
URL:https://rickyssporttreff.de/event/yoga-mittwoch-23-07-19uhr/
LOCATION:Ricky´s Sporttreff\, Mitteltorstrasse 13\, Marktheidenfeld\, Bayern\, 97828\, Deutschland
CATEGORIES:Yoga
ATTACH;FMTTYPE=image/png:https://rickyssporttreff.de/wp-content/uploads/2024/11/Yoga-Rickyssporttreff-nov.png
ORGANIZER;CN="Ricky B%C3%B6hm-Hennes":MAILTO:ricky@boehm-hennes.de
END:VEVENT
BEGIN:VEVENT
DTSTART;TZID=Europe/Berlin:20250725T000000
DTEND;TZID=Europe/Berlin:20250725T235959
DTSTAMP:20260420T182415
CREATED:20250322T061844Z
LAST-MODIFIED:20250324T120624Z
UID:18928-1753401600-1753487999@rickyssporttreff.de
SUMMARY:WAREMA Lauf
DESCRIPTION:und wieder findet in Marktheidenfeld der bekannten Lauf in seiner 20. Auflage statt. \n\n\n\nMehr dazu demnächst…
URL:https://rickyssporttreff.de/event/warema-lauf/
LOCATION:Bayern
END:VEVENT
BEGIN:VEVENT
DTSTART;TZID=Europe/Berlin:20250725T090000
DTEND;TZID=Europe/Berlin:20250725T100000
DTSTAMP:20260420T182415
CREATED:20250630T211505Z
LAST-MODIFIED:20250630T211507Z
UID:21663-1753434000-1753437600@rickyssporttreff.de
SUMMARY:Yoga am Freitag | 9 Uhr
DESCRIPTION:Bring gern Deine Matte mit. Es sind aber auch Matten\, Gurte\, Klötze vorhanden. \n\n\n\n60 Minuten Yoga mit #rickyoga \n\n\n\n\n\nDu kannst Dir hier einen Platz reservieren\, wenn Du wirklich kommen magst. Die Plätze sind begrenzt und es wäre schade\, wenn jemand anderes nicht kommen kann\, weil vermeintlich kein Platz mehr ist. Danke.
URL:https://rickyssporttreff.de/event/yoga-freitag-25-07-2025/
LOCATION:Ricky´s Sporttreff\, Mitteltorstrasse 13\, Marktheidenfeld\, Bayern\, 97828\, Deutschland
CATEGORIES:Yoga
ATTACH;FMTTYPE=image/png:https://rickyssporttreff.de/wp-content/uploads/2024/07/1.png
ORGANIZER;CN="Ricky B%C3%B6hm-Hennes":MAILTO:ricky@boehm-hennes.de
END:VEVENT
BEGIN:VEVENT
DTSTART;TZID=Europe/Berlin:20250726T090000
DTEND;TZID=Europe/Berlin:20250726T100000
DTSTAMP:20260420T182415
CREATED:20250719T122044Z
LAST-MODIFIED:20250719T190741Z
UID:22002-1753520400-1753524000@rickyssporttreff.de
SUMMARY:Yoga am Samstag | 9 Uhr
DESCRIPTION:60 Minuten Yoga mit #rickyoga \n\n\n\nBring gern Deine Matte mit. Es sind aber auch Matten\, Gurte\, Klötze vorhanden. \n\n\n\n\n\nDu kannst Dir hier einen Platz reservieren\, wenn Du wirklich kommen magst. Die Plätze sind begrenzt und es wäre schade\, wenn jemand anderes nicht kommen kann\, weil vermeintlich kein Platz mehr ist. Danke.
URL:https://rickyssporttreff.de/event/yoga-samstag-26-07-25/
LOCATION:Ricky´s Sporttreff\, Mitteltorstrasse 13\, Marktheidenfeld\, Bayern\, 97828\, Deutschland
CATEGORIES:Yoga
ATTACH;FMTTYPE=image/png:https://rickyssporttreff.de/wp-content/uploads/2024/07/1.png
ORGANIZER;CN="Ricky B%C3%B6hm-Hennes":MAILTO:ricky@boehm-hennes.de
END:VEVENT
BEGIN:VEVENT
DTSTART;TZID=Europe/Berlin:20250726T103000
DTEND;TZID=Europe/Berlin:20250726T113000
DTSTAMP:20260420T182415
CREATED:20250702T151143Z
LAST-MODIFIED:20250724T105546Z
UID:21735-1753525800-1753529400@rickyssporttreff.de
SUMMARY:Yoga für Kinder
DESCRIPTION:Familien-Yoga mit Sabrina \n\n\n\nFamilien-Yoga \n\n\n\nLöwenmut \n\n\n\nFür Kinder von 3-ca. 7 Jahren mit einer Begleitperson \n\n\n\nKomm mit auf ein Abenteuer in die Savanne Afrikas! Entdecke auf spielerische Art und Weise\, dass in jedem von uns ein mutiger Löwe steckt – selbst wenn man sich manchmal klein wie eine Maus fühlt. \n\n\n\nDie Kinder lernen\, dass Mut nicht laut oder groß sein muss – sondern oft ganz leise beginnt: im eigenen Herzen. \n\n\n\nDiese Yogastunde fördert auf achtsame Weise: \n\n\n\n\nSelbstvertrauen & emotionale Stärke\n\n\n\nKörperbewusstsein & Bewegungsfreude\n\n\n\nEinen liebevollen Umgang mit sich und anderen\n\n\n\nDie Bindung zwischen Kind und Begleitperson\n\n\n\n\nBitte bringt eine Yoga oder Gymnastikmatte je Familie mit.
URL:https://rickyssporttreff.de/event/yoga-fuer-kinder-08-juni-2/
LOCATION:Ricky´s Sporttreff\, Mitteltorstrasse 13\, Marktheidenfeld\, Bayern\, 97828\, Deutschland
CATEGORIES:Yoga,Yoga für Kinder
ATTACH;FMTTYPE=image/png:https://rickyssporttreff.de/wp-content/uploads/2025/07/Kopie-von-Kopie-von-Kopie-von-Beige-Creme-Olivgruen-Organisch-Yoga-Studio-Kurse-Flyer-1080-x-1350-px-1.png
END:VEVENT
BEGIN:VEVENT
DTSTART;TZID=Europe/Berlin:20250729T083000
DTEND;TZID=Europe/Berlin:20250729T093000
DTSTAMP:20260420T182415
CREATED:20250719T213253Z
LAST-MODIFIED:20250719T213256Z
UID:22049-1753777800-1753781400@rickyssporttreff.de
SUMMARY:Yoga am Dienstag | 8.30 Uhr
DESCRIPTION:60 Minuten Yoga mit #rickyoga \n\n\n\nBring gern Deine Matte mit. Es sind aber auch Matten\, Gurte\, Klötze vorhanden. \n\n\n\n\n\nDu kannst Dir hier einen Platz reservieren\, wenn Du wirklich kommen magst. Die Plätze sind begrenzt und es wäre schade\, wenn jemand anderes nicht kommen kann\, weil vermeintlich kein Platz mehr ist. Danke.
URL:https://rickyssporttreff.de/event/yoga-dienstag-29-07-2025/
LOCATION:Ricky´s Sporttreff\, Mitteltorstrasse 13\, Marktheidenfeld\, Bayern\, 97828\, Deutschland
CATEGORIES:Yoga
ATTACH;FMTTYPE=image/png:https://rickyssporttreff.de/wp-content/uploads/2024/10/Offene-Stunde1.png
ORGANIZER;CN="Ricky B%C3%B6hm-Hennes":MAILTO:ricky@boehm-hennes.de
END:VEVENT
BEGIN:VEVENT
DTSTART;TZID=Europe/Berlin:20250730T180000
DTEND;TZID=Europe/Berlin:20250730T190000
DTSTAMP:20260420T182415
CREATED:20250619T073232Z
LAST-MODIFIED:20250619T074955Z
UID:21291-1753898400-1753902000@rickyssporttreff.de
SUMMARY:Yoga am Mittwoch | 18 Uhr
DESCRIPTION:60 Minuten Yoga mit #rickyoga \n\n\n\nBring gern Deine Matte mit. Es sind aber auch Matten\, Gurte\, Klötze vorhanden. \n\n\n\n\n\nAn diesem Tag bekommst Du bei einem Einkauf Du kannst Dir hier einen Platz reservieren\, wenn Du wirklich kommen magst. Die Plätze sind begrenzt und es wäre schade\, wenn jemand anderes nicht kommen kann\, weil vermeintlich kein Platz mehr ist. Danke.
URL:https://rickyssporttreff.de/event/yoga-mittwoch-30-07-25/
LOCATION:Ricky´s Sporttreff\, Mitteltorstrasse 13\, Marktheidenfeld\, Bayern\, 97828\, Deutschland
CATEGORIES:Yoga
ATTACH;FMTTYPE=image/png:https://rickyssporttreff.de/wp-content/uploads/2024/11/Yoga-Rickyssporttreff-nov.png
ORGANIZER;CN="Ricky B%C3%B6hm-Hennes":MAILTO:ricky@boehm-hennes.de
END:VEVENT
BEGIN:VEVENT
DTSTART;TZID=Europe/Berlin:20250730T191500
DTEND;TZID=Europe/Berlin:20250730T201500
DTSTAMP:20260420T182415
CREATED:20250621T104657Z
LAST-MODIFIED:20250621T104659Z
UID:21307-1753902900-1753906500@rickyssporttreff.de
SUMMARY:Yoga am Mittwoch | 19.15 Uhr
DESCRIPTION:60 Minuten Yoga mit #rickyoga \n\n\n\nBring gern Deine Matte mit. Es sind aber auch Matten\, Gurte\, Klötze vorhanden. \n\n\n\n\n\nAn diesem Tag bekommst Du bei einem Einkauf Du kannst Dir hier einen Platz reservieren\, wenn Du wirklich kommen magst. Die Plätze sind begrenzt und es wäre schade\, wenn jemand anderes nicht kommen kann\, weil vermeintlich kein Platz mehr ist. Danke.
URL:https://rickyssporttreff.de/event/yoga-mittwoch-30-07-19uhr/
LOCATION:Ricky´s Sporttreff\, Mitteltorstrasse 13\, Marktheidenfeld\, Bayern\, 97828\, Deutschland
CATEGORIES:Yoga
ATTACH;FMTTYPE=image/png:https://rickyssporttreff.de/wp-content/uploads/2024/11/Yoga-Rickyssporttreff-nov.png
ORGANIZER;CN="Ricky B%C3%B6hm-Hennes":MAILTO:ricky@boehm-hennes.de
END:VEVENT
END:VCALENDAR