BEGIN:VCALENDAR
VERSION:2.0
PRODID:-//Ricky&#039;s Sport Treff - Marktheidenfeld - ECPv6.15.20//NONSGML v1.0//EN
CALSCALE:GREGORIAN
METHOD:PUBLISH
X-ORIGINAL-URL:https://rickyssporttreff.de
X-WR-CALDESC:Veranstaltungen für Ricky&#039;s Sport Treff - Marktheidenfeld
REFRESH-INTERVAL;VALUE=DURATION:PT1H
X-Robots-Tag:noindex
X-PUBLISHED-TTL:PT1H
BEGIN:VTIMEZONE
TZID:Europe/Berlin
BEGIN:DAYLIGHT
TZOFFSETFROM:+0100
TZOFFSETTO:+0200
TZNAME:CEST
DTSTART:20240331T010000
END:DAYLIGHT
BEGIN:STANDARD
TZOFFSETFROM:+0200
TZOFFSETTO:+0100
TZNAME:CET
DTSTART:20241027T010000
END:STANDARD
BEGIN:DAYLIGHT
TZOFFSETFROM:+0100
TZOFFSETTO:+0200
TZNAME:CEST
DTSTART:20250330T010000
END:DAYLIGHT
BEGIN:STANDARD
TZOFFSETFROM:+0200
TZOFFSETTO:+0100
TZNAME:CET
DTSTART:20251026T010000
END:STANDARD
BEGIN:DAYLIGHT
TZOFFSETFROM:+0100
TZOFFSETTO:+0200
TZNAME:CEST
DTSTART:20260329T010000
END:DAYLIGHT
BEGIN:STANDARD
TZOFFSETFROM:+0200
TZOFFSETTO:+0100
TZNAME:CET
DTSTART:20261025T010000
END:STANDARD
END:VTIMEZONE
BEGIN:VEVENT
DTSTART;TZID=Europe/Berlin:20250801T090000
DTEND;TZID=Europe/Berlin:20250801T100000
DTSTAMP:20260420T200907
CREATED:20250719T215733Z
LAST-MODIFIED:20250728T203830Z
UID:22069-1754038800-1754042400@rickyssporttreff.de
SUMMARY:Yoga am Freitag | 9 Uhr
DESCRIPTION:Bring gern Deine Matte mit. Es sind aber auch Matten\, Gurte\, Klötze vorhanden. \n\n\n\n60 Minuten Yoga mit #rickyoga \n\n\n\n\n\nDu kannst Dir hier einen Platz reservieren\, wenn Du wirklich kommen magst. Die Plätze sind begrenzt und es wäre schade\, wenn jemand anderes nicht kommen kann\, weil vermeintlich kein Platz mehr ist. Danke. \n\n\n\nDie Session findet ab 5 angemeldeten Teilnehmern statt! Anmeldungen bis 1 Stunde vor Termin werden berücksichtigt.
URL:https://rickyssporttreff.de/event/yoga-freitag-01-08-2025/
LOCATION:Ricky´s Sporttreff\, Mitteltorstrasse 13\, Marktheidenfeld\, Bayern\, 97828\, Deutschland
CATEGORIES:Yoga
ATTACH;FMTTYPE=image/png:https://rickyssporttreff.de/wp-content/uploads/2024/07/1.png
ORGANIZER;CN="Ricky B%C3%B6hm-Hennes":MAILTO:ricky@boehm-hennes.de
END:VEVENT
BEGIN:VEVENT
DTSTART;TZID=Europe/Berlin:20250802T074500
DTEND;TZID=Europe/Berlin:20250802T084500
DTSTAMP:20260420T200907
CREATED:20250728T155911Z
LAST-MODIFIED:20250728T204215Z
UID:22229-1754120700-1754124300@rickyssporttreff.de
SUMMARY:Yoga am Samstag - Asana Intensiv | 7:45 Uhr
DESCRIPTION:60 Minuten Yoga mit #rickyoga \n\n\n\nNiveau – Asana Fortgeschritten – Zielstellungen z.B. Skorpion – Handstand – Pfau… \n\n\n\nStundenaufbau Hatha: \n\n\n\nAnfangsentspannung (kurz) – Sonnengrüße – Vorübungen zur jeweiligen Haltung – Hilfestellung durch Yogalehrer – Korrekturen – Endentspannung \n\n\n\nBei Fragen\, bitte vorab Kontakt aufnehmen!! \n\n\n\n\n\nHinweis: Wenn Du an dem Tag etwas im Laden kaufst\, bekommst Du 2€ auf Deinen Kauf gutgeschrieben. \n\n\n\nBring gern Deine Matte mit. Es sind aber auch Matten\, Gurte\, Klötze vorhanden. \n\n\n\nDu kannst Dir hier einen Platz reservieren\, wenn Du wirklich kommen magst. Die Plätze sind begrenzt und es wäre schade\, wenn jemand anderes nicht kommen kann\, weil vermeintlich kein Platz mehr ist. Danke.
URL:https://rickyssporttreff.de/event/yoga-samstag-03-08-intensiv/
LOCATION:Ricky´s Sporttreff\, Mitteltorstrasse 13\, Marktheidenfeld\, Bayern\, 97828\, Deutschland
CATEGORIES:Yoga
ATTACH;FMTTYPE=image/png:https://rickyssporttreff.de/wp-content/uploads/2024/09/Yoga-Intensiv.png
ORGANIZER;CN="Ricky B%C3%B6hm-Hennes":MAILTO:ricky@boehm-hennes.de
END:VEVENT
BEGIN:VEVENT
DTSTART;TZID=Europe/Berlin:20250802T090000
DTEND;TZID=Europe/Berlin:20250802T100000
DTSTAMP:20260420T200907
CREATED:20250719T191011Z
LAST-MODIFIED:20250719T191013Z
UID:22009-1754125200-1754128800@rickyssporttreff.de
SUMMARY:Yoga am Samstag | 9 Uhr
DESCRIPTION:60 Minuten Yoga mit #rickyoga \n\n\n\nBring gern Deine Matte mit. Es sind aber auch Matten\, Gurte\, Klötze vorhanden. \n\n\n\n\n\nDu kannst Dir hier einen Platz reservieren\, wenn Du wirklich kommen magst. Die Plätze sind begrenzt und es wäre schade\, wenn jemand anderes nicht kommen kann\, weil vermeintlich kein Platz mehr ist. Danke.
URL:https://rickyssporttreff.de/event/yoga-samstag-02-08-25/
LOCATION:Ricky´s Sporttreff\, Mitteltorstrasse 13\, Marktheidenfeld\, Bayern\, 97828\, Deutschland
CATEGORIES:Yoga
ATTACH;FMTTYPE=image/png:https://rickyssporttreff.de/wp-content/uploads/2024/07/1.png
ORGANIZER;CN="Ricky B%C3%B6hm-Hennes":MAILTO:ricky@boehm-hennes.de
END:VEVENT
BEGIN:VEVENT
DTSTART;TZID=Europe/Berlin:20250805T083000
DTEND;TZID=Europe/Berlin:20250805T093000
DTSTAMP:20260420T200907
CREATED:20250719T214138Z
LAST-MODIFIED:20250719T214140Z
UID:22054-1754382600-1754386200@rickyssporttreff.de
SUMMARY:Yoga am Dienstag | 8.30 Uhr
DESCRIPTION:60 Minuten Yoga mit #rickyoga \n\n\n\nBring gern Deine Matte mit. Es sind aber auch Matten\, Gurte\, Klötze vorhanden. \n\n\n\n\n\nDu kannst Dir hier einen Platz reservieren\, wenn Du wirklich kommen magst. Die Plätze sind begrenzt und es wäre schade\, wenn jemand anderes nicht kommen kann\, weil vermeintlich kein Platz mehr ist. Danke.
URL:https://rickyssporttreff.de/event/yoga-dienstag-05-08-2025/
LOCATION:Ricky´s Sporttreff\, Mitteltorstrasse 13\, Marktheidenfeld\, Bayern\, 97828\, Deutschland
CATEGORIES:Yoga
ATTACH;FMTTYPE=image/png:https://rickyssporttreff.de/wp-content/uploads/2024/10/Offene-Stunde1.png
ORGANIZER;CN="Ricky B%C3%B6hm-Hennes":MAILTO:ricky@boehm-hennes.de
END:VEVENT
BEGIN:VEVENT
DTSTART;TZID=Europe/Berlin:20250806T180000
DTEND;TZID=Europe/Berlin:20250806T190000
DTSTAMP:20260420T200907
CREATED:20250719T193906Z
LAST-MODIFIED:20250719T193908Z
UID:22025-1754503200-1754506800@rickyssporttreff.de
SUMMARY:Yoga am Mittwoch | 18 Uhr
DESCRIPTION:60 Minuten Yoga mit #rickyoga \n\n\n\nBring gern Deine Matte mit. Es sind aber auch Matten\, Gurte\, Klötze vorhanden. \n\n\n\n\n\nAn diesem Tag bekommst Du bei einem Einkauf Du kannst Dir hier einen Platz reservieren\, wenn Du wirklich kommen magst. Die Plätze sind begrenzt und es wäre schade\, wenn jemand anderes nicht kommen kann\, weil vermeintlich kein Platz mehr ist. Danke.
URL:https://rickyssporttreff.de/event/yoga-mittwoch-06-08-25/
LOCATION:Ricky´s Sporttreff\, Mitteltorstrasse 13\, Marktheidenfeld\, Bayern\, 97828\, Deutschland
CATEGORIES:Yoga
ATTACH;FMTTYPE=image/png:https://rickyssporttreff.de/wp-content/uploads/2024/11/Yoga-Rickyssporttreff-nov.png
ORGANIZER;CN="Ricky B%C3%B6hm-Hennes":MAILTO:ricky@boehm-hennes.de
END:VEVENT
BEGIN:VEVENT
DTSTART;TZID=Europe/Berlin:20250806T191500
DTEND;TZID=Europe/Berlin:20250806T201500
DTSTAMP:20260420T200907
CREATED:20250719T202543Z
LAST-MODIFIED:20250719T202614Z
UID:22037-1754507700-1754511300@rickyssporttreff.de
SUMMARY:Yoga am Mittwoch | 19.15 Uhr
DESCRIPTION:60 Minuten Yoga mit #rickyoga \n\n\n\nBring gern Deine Matte mit. Es sind aber auch Matten\, Gurte\, Klötze vorhanden. \n\n\n\n\n\nAn diesem Tag bekommst Du bei einem Einkauf Du kannst Dir hier einen Platz reservieren\, wenn Du wirklich kommen magst. Die Plätze sind begrenzt und es wäre schade\, wenn jemand anderes nicht kommen kann\, weil vermeintlich kein Platz mehr ist. Danke. \n\n\n\nACHTUNG – Offene Stunde findet ab 5 Teilnehmer statt.
URL:https://rickyssporttreff.de/event/yoga-mittwoch-30-07-19uhr-3/
LOCATION:Ricky´s Sporttreff\, Mitteltorstrasse 13\, Marktheidenfeld\, Bayern\, 97828\, Deutschland
CATEGORIES:Yoga
ATTACH;FMTTYPE=image/png:https://rickyssporttreff.de/wp-content/uploads/2024/11/Yoga-Rickyssporttreff-nov.png
ORGANIZER;CN="Ricky B%C3%B6hm-Hennes":MAILTO:ricky@boehm-hennes.de
END:VEVENT
BEGIN:VEVENT
DTSTART;TZID=Europe/Berlin:20250807T180000
DTEND;TZID=Europe/Berlin:20250807T193000
DTSTAMP:20260420T200907
CREATED:20250729T061742Z
LAST-MODIFIED:20250729T140311Z
UID:22279-1754589600-1754595000@rickyssporttreff.de
SUMMARY:Body and Mind: Reise zu deiner inneren Mitte - mit Bobby
DESCRIPTION:Sehnst du dich nach…mehr Ruhe und Gelassenheit im Alltag? Tieferem Kontakt zu dir selbst und deiner inneren Mitte?Einer Möglichkeit\, von den täglichen Herausforderungen Abstand zu gewinnen? \n\n\n\nDann ist unser Entspannungskurs „Body and Mind: Reise zu deiner inneren Mitte“ genau das Richtige für dich! \n\n\n\nIn diesem Workshop lernst du\, dein Körperbewusstsein zu steigern und Verspannungen zu lösen durch sanfte Atemübungen: Um den Körper zu beruhigen und den Geist zu klären. \n\n\n\nQi Gong: Fließende Bewegungen\, die deine Energie aktivieren und harmonisieren. Körperwahrnehmungsübungen: Um achtsamer auf die Signale deines Körpers zu hören.Durch Achtsamkeitspraktiken\, Meditationen sowie Phantasie- und Körperreisen führen wir dich zurück zu deiner inneren Mitte. Du wirst lernen\, frühzeitig deine Bedürfnisse zu erkennen\, was deine Resilienz stärkt und dir einen wertvollen Vorsprung im hektischen Alltag verschafft.Ein achtsamer Umgang mit dir selbst ist der Schlüssel zu mehr Ruhe und Gelassenheit\, Energie und Ausgeglichenheit\, Power und Fokus. \n\n\n\nWas du im Kurs „Body and Mind“ gewinnen kannst:\n\n\n\n \n\n\n\n\nMehr innere Ruhe und Gelassenheit\n\n\n\nEin gestärktes Körperbewusstsein\n\n\n\nLösung von körperlichen und mentalen Verspannungen\n\n\n\nZugang zu deiner inneren Mitte\n\n\n\nFörderung deiner Resilienz gegenüber Stress\n\n\n\nMehr Energie\, Ausgeglichenheit\, Power und Fokus im Alltag\n\n\n\nSchenke dir selbst eine Auszeit für Körper und Geist!\n\n\n\n\nBitte mitbringen: bequeme Kleidung\, vielleicht eine Decke und ein kleines Kopfkissen. \n\n\n\nIm Yogaraum sind Decken\, Klötze und ein paar Kissen verfügbar. \n\n\n\n\nmehr zu Bobby hier…
URL:https://rickyssporttreff.de/event/body-and-mind-reise-zu-deiner-inneren-mitte-mit-bobby/
LOCATION:Bayern
CATEGORIES:Yoga
ATTACH;FMTTYPE=image/png:https://rickyssporttreff.de/wp-content/uploads/2025/07/body-mind2.png
END:VEVENT
BEGIN:VEVENT
DTSTART;TZID=Europe/Berlin:20250809T074500
DTEND;TZID=Europe/Berlin:20250809T084500
DTSTAMP:20260420T200907
CREATED:20250808T060810Z
LAST-MODIFIED:20250808T060909Z
UID:22523-1754725500-1754729100@rickyssporttreff.de
SUMMARY:Yoga am Samstag - early bird | 7:45 Uhr
DESCRIPTION:60 Minuten Yoga mit #rickyoga \n\n\n\nBring gern Deine Matte mit. Es sind aber auch Matten\, Gurte\, Klötze vorhanden. \n\n\n\n\n\nDu kannst Dir hier einen Platz reservieren\, wenn Du wirklich kommen magst. Die Plätze sind begrenzt und es wäre schade\, wenn jemand anderes nicht kommen kann\, weil vermeintlich kein Platz mehr ist. Danke.
URL:https://rickyssporttreff.de/event/yoga-samstag-early-09-08-25/
LOCATION:Ricky´s Sporttreff\, Mitteltorstrasse 13\, Marktheidenfeld\, Bayern\, 97828\, Deutschland
CATEGORIES:Yoga
ATTACH;FMTTYPE=image/png:https://rickyssporttreff.de/wp-content/uploads/2024/07/1.png
ORGANIZER;CN="Ricky B%C3%B6hm-Hennes":MAILTO:ricky@boehm-hennes.de
END:VEVENT
BEGIN:VEVENT
DTSTART;TZID=Europe/Berlin:20250809T090000
DTEND;TZID=Europe/Berlin:20250809T100000
DTSTAMP:20260420T200907
CREATED:20250719T191811Z
LAST-MODIFIED:20250719T191813Z
UID:22013-1754730000-1754733600@rickyssporttreff.de
SUMMARY:Yoga am Samstag | 9 Uhr
DESCRIPTION:60 Minuten Yoga mit #rickyoga \n\n\n\nBring gern Deine Matte mit. Es sind aber auch Matten\, Gurte\, Klötze vorhanden. \n\n\n\n\n\nDu kannst Dir hier einen Platz reservieren\, wenn Du wirklich kommen magst. Die Plätze sind begrenzt und es wäre schade\, wenn jemand anderes nicht kommen kann\, weil vermeintlich kein Platz mehr ist. Danke.
URL:https://rickyssporttreff.de/event/yoga-samstag-09-08-25/
LOCATION:Ricky´s Sporttreff\, Mitteltorstrasse 13\, Marktheidenfeld\, Bayern\, 97828\, Deutschland
CATEGORIES:Yoga
ATTACH;FMTTYPE=image/png:https://rickyssporttreff.de/wp-content/uploads/2024/07/1.png
ORGANIZER;CN="Ricky B%C3%B6hm-Hennes":MAILTO:ricky@boehm-hennes.de
END:VEVENT
BEGIN:VEVENT
DTSTART;TZID=Europe/Berlin:20250810T080000
DTEND;TZID=Europe/Berlin:20250810T100000
DTSTAMP:20260420T200907
CREATED:20250721T202218Z
LAST-MODIFIED:20250731T154154Z
UID:22115-1754812800-1754820000@rickyssporttreff.de
SUMMARY:Vollmond Community Longrun #RST
DESCRIPTION:Lasst uns gemeinsam den Vollmond in Bewegung genießen. \n\n\n\nACHTUNG es ist Laurenzi-Messe\, daher wurde der Vollmondlauf von Sa. 09.08. auf So. 10.08. gelegt. \n\n\n\nSonntag ist traditionell Longrun angesagt. Viele von Euch laufen einen entspannten langen Ausdauerlauf (GLA)\, daher bieten wir an diesem Tag 2 longruns an. \n\n\n\n\nVollmondlauf meets Sightjogging (Strecke ca. 8km\, nicht schneller als 6:00min/km rund um die Stadt mit kurzen Sightseeing-Stops) Lauf mit Ricky\n\n\n\nVollmond longrun (Strecke ca. 15km flach\, Rundlauf – Zimmern – Rothenfels\, nicht schneller als 6:00min/km) Lauf mit Andreas\n\n\n\nwenn jemand noch ein anderes Laufangebot auf die Beine stellen mag\, gern Kontakt mit mir aufnehmen\n\n\n\n\nEs gilt auf der Strecke trotz sportlicher Atmosphäre das Prinzip der gegenseitigen Rücksichtnahme\, vorausschauendes Verhalten und die Einhaltung der StVO. \n\n\n\nWie gewohnt Treffpunkt an Ricky’s Sport Treff – Mitteltorstrasse 13 – Marktheidenfeld \n\n\n\nHighlight\n\n\n\n\nKaltgetränke für angemeldete Läufer\n\n\n\nBrooks Testschuhe\n\n\n\nUmkleide / Toiletten vor Ort\n\n\n\nAfter-Run Networken im Laden \n\n\n\nirgendwas mit Espresso\n\n\n\n\nFacts\n\n\n\n\nSonnenaufgang So. 6:03Uhr\n\n\n\nganzer Vollmond Samstag 9:55 Uhr
URL:https://rickyssporttreff.de/event/vollmondlauf-longrun-08-2025/
LOCATION:Bayern
CATEGORIES:Laufen
END:VEVENT
BEGIN:VEVENT
DTSTART;TZID=Europe/Berlin:20250812T083000
DTEND;TZID=Europe/Berlin:20250812T093000
DTSTAMP:20260420T200907
CREATED:20250719T214612Z
LAST-MODIFIED:20250719T214614Z
UID:22059-1754987400-1754991000@rickyssporttreff.de
SUMMARY:Yoga am Dienstag | 8.30 Uhr
DESCRIPTION:60 Minuten Yoga mit #rickyoga \n\n\n\nBring gern Deine Matte mit. Es sind aber auch Matten\, Gurte\, Klötze vorhanden. \n\n\n\n\n\nDu kannst Dir hier einen Platz reservieren\, wenn Du wirklich kommen magst. Die Plätze sind begrenzt und es wäre schade\, wenn jemand anderes nicht kommen kann\, weil vermeintlich kein Platz mehr ist. Danke.
URL:https://rickyssporttreff.de/event/yoga-dienstag-12-08-2025/
LOCATION:Ricky´s Sporttreff\, Mitteltorstrasse 13\, Marktheidenfeld\, Bayern\, 97828\, Deutschland
CATEGORIES:Yoga
ATTACH;FMTTYPE=image/png:https://rickyssporttreff.de/wp-content/uploads/2024/10/Offene-Stunde1.png
ORGANIZER;CN="Ricky B%C3%B6hm-Hennes":MAILTO:ricky@boehm-hennes.de
END:VEVENT
BEGIN:VEVENT
DTSTART;TZID=Europe/Berlin:20250813T180000
DTEND;TZID=Europe/Berlin:20250813T190000
DTSTAMP:20260420T200907
CREATED:20250719T194031Z
LAST-MODIFIED:20250719T194034Z
UID:22029-1755108000-1755111600@rickyssporttreff.de
SUMMARY:Yoga am Mittwoch | 18 Uhr
DESCRIPTION:60 Minuten Yoga mit #rickyoga \n\n\n\nBring gern Deine Matte mit. Es sind aber auch Matten\, Gurte\, Klötze vorhanden. \n\n\n\n\n\nAn diesem Tag bekommst Du bei einem Einkauf Du kannst Dir hier einen Platz reservieren\, wenn Du wirklich kommen magst. Die Plätze sind begrenzt und es wäre schade\, wenn jemand anderes nicht kommen kann\, weil vermeintlich kein Platz mehr ist. Danke.
URL:https://rickyssporttreff.de/event/yoga-mittwoch-13-08-25/
LOCATION:Ricky´s Sporttreff\, Mitteltorstrasse 13\, Marktheidenfeld\, Bayern\, 97828\, Deutschland
CATEGORIES:Yoga
ATTACH;FMTTYPE=image/png:https://rickyssporttreff.de/wp-content/uploads/2024/11/Yoga-Rickyssporttreff-nov.png
ORGANIZER;CN="Ricky B%C3%B6hm-Hennes":MAILTO:ricky@boehm-hennes.de
END:VEVENT
BEGIN:VEVENT
DTSTART;TZID=Europe/Berlin:20250813T191500
DTEND;TZID=Europe/Berlin:20250813T201500
DTSTAMP:20260420T200907
CREATED:20250719T202917Z
LAST-MODIFIED:20250719T202919Z
UID:22041-1755112500-1755116100@rickyssporttreff.de
SUMMARY:Yoga am Mittwoch | 19.15 Uhr
DESCRIPTION:60 Minuten Yoga mit #rickyoga \n\n\n\nBring gern Deine Matte mit. Es sind aber auch Matten\, Gurte\, Klötze vorhanden. \n\n\n\n\n\nAn diesem Tag bekommst Du bei einem Einkauf Du kannst Dir hier einen Platz reservieren\, wenn Du wirklich kommen magst. Die Plätze sind begrenzt und es wäre schade\, wenn jemand anderes nicht kommen kann\, weil vermeintlich kein Platz mehr ist. Danke. \n\n\n\nACHTUNG – Offene Stunde findet ab 5 Teilnehmer statt.
URL:https://rickyssporttreff.de/event/yoga-mittwoch-13-08-19uhr/
LOCATION:Ricky´s Sporttreff\, Mitteltorstrasse 13\, Marktheidenfeld\, Bayern\, 97828\, Deutschland
CATEGORIES:Yoga
ATTACH;FMTTYPE=image/png:https://rickyssporttreff.de/wp-content/uploads/2024/11/Yoga-Rickyssporttreff-nov.png
ORGANIZER;CN="Ricky B%C3%B6hm-Hennes":MAILTO:ricky@boehm-hennes.de
END:VEVENT
BEGIN:VEVENT
DTSTART;TZID=Europe/Berlin:20250814T090000
DTEND;TZID=Europe/Berlin:20250814T100000
DTSTAMP:20260420T200907
CREATED:20250728T154851Z
LAST-MODIFIED:20250728T154854Z
UID:22215-1755162000-1755165600@rickyssporttreff.de
SUMMARY:Yoga am Donnerstag | 9 Uhr
DESCRIPTION:Bring gern Deine Matte mit. Es sind aber auch Matten\, Gurte\, Klötze vorhanden. \n\n\n\n60 Minuten Yoga mit #rickyoga \n\n\n\n\n\nDu kannst Dir hier einen Platz reservieren\, wenn Du wirklich kommen magst. Die Plätze sind begrenzt und es wäre schade\, wenn jemand anderes nicht kommen kann\, weil vermeintlich kein Platz mehr ist. Danke.
URL:https://rickyssporttreff.de/event/yoga-donnerstag-14-08-2025/
LOCATION:Ricky´s Sporttreff\, Mitteltorstrasse 13\, Marktheidenfeld\, Bayern\, 97828\, Deutschland
CATEGORIES:Yoga
ORGANIZER;CN="Ricky B%C3%B6hm-Hennes":MAILTO:ricky@boehm-hennes.de
END:VEVENT
BEGIN:VEVENT
DTSTART;TZID=Europe/Berlin:20250816T074500
DTEND;TZID=Europe/Berlin:20250816T084500
DTSTAMP:20260420T200907
CREATED:20250808T061111Z
LAST-MODIFIED:20250808T061116Z
UID:22529-1755330300-1755333900@rickyssporttreff.de
SUMMARY:Yoga am Samstag - early bird | 7:45 Uhr
DESCRIPTION:60 Minuten Yoga mit #rickyoga \n\n\n\nBring gern Deine Matte mit. Es sind aber auch Matten\, Gurte\, Klötze vorhanden. \n\n\n\n\n\nDu kannst Dir hier einen Platz reservieren\, wenn Du wirklich kommen magst. Die Plätze sind begrenzt und es wäre schade\, wenn jemand anderes nicht kommen kann\, weil vermeintlich kein Platz mehr ist. Danke.
URL:https://rickyssporttreff.de/event/yoga-samstag-early-16-08-25/
LOCATION:Ricky´s Sporttreff\, Mitteltorstrasse 13\, Marktheidenfeld\, Bayern\, 97828\, Deutschland
CATEGORIES:Yoga
ATTACH;FMTTYPE=image/png:https://rickyssporttreff.de/wp-content/uploads/2024/07/1.png
ORGANIZER;CN="Ricky B%C3%B6hm-Hennes":MAILTO:ricky@boehm-hennes.de
END:VEVENT
BEGIN:VEVENT
DTSTART;TZID=Europe/Berlin:20250816T090000
DTEND;TZID=Europe/Berlin:20250816T100000
DTSTAMP:20260420T200907
CREATED:20250719T192041Z
LAST-MODIFIED:20250808T061250Z
UID:22017-1755334800-1755338400@rickyssporttreff.de
SUMMARY:Yoga am Samstag | 9 Uhr
DESCRIPTION:60 Minuten Yoga mit #rickyoga \n\n\n\nBring gern Deine Matte mit. Es sind aber auch Matten\, Gurte\, Klötze vorhanden. \n\n\n\n\n\nDu kannst Dir hier einen Platz reservieren\, wenn Du wirklich kommen magst. Die Plätze sind begrenzt und es wäre schade\, wenn jemand anderes nicht kommen kann\, weil vermeintlich kein Platz mehr ist. Danke.
URL:https://rickyssporttreff.de/event/yoga-samstag-16-08-25/
LOCATION:Ricky´s Sporttreff\, Mitteltorstrasse 13\, Marktheidenfeld\, Bayern\, 97828\, Deutschland
CATEGORIES:Yoga
ATTACH;FMTTYPE=image/png:https://rickyssporttreff.de/wp-content/uploads/2024/07/1.png
ORGANIZER;CN="Ricky B%C3%B6hm-Hennes":MAILTO:ricky@boehm-hennes.de
END:VEVENT
BEGIN:VEVENT
DTSTART;TZID=Europe/Berlin:20250819T083000
DTEND;TZID=Europe/Berlin:20250819T093000
DTSTAMP:20260420T200907
CREATED:20250719T214833Z
LAST-MODIFIED:20250719T214835Z
UID:22064-1755592200-1755595800@rickyssporttreff.de
SUMMARY:Yoga am Dienstag | 8.30 Uhr
DESCRIPTION:60 Minuten Yoga mit #rickyoga \n\n\n\nBring gern Deine Matte mit. Es sind aber auch Matten\, Gurte\, Klötze vorhanden. \n\n\n\n\n\nDu kannst Dir hier einen Platz reservieren\, wenn Du wirklich kommen magst. Die Plätze sind begrenzt und es wäre schade\, wenn jemand anderes nicht kommen kann\, weil vermeintlich kein Platz mehr ist. Danke.
URL:https://rickyssporttreff.de/event/yoga-dienstag-19-08-2025/
LOCATION:Ricky´s Sporttreff\, Mitteltorstrasse 13\, Marktheidenfeld\, Bayern\, 97828\, Deutschland
CATEGORIES:Yoga
ATTACH;FMTTYPE=image/png:https://rickyssporttreff.de/wp-content/uploads/2024/10/Offene-Stunde1.png
ORGANIZER;CN="Ricky B%C3%B6hm-Hennes":MAILTO:ricky@boehm-hennes.de
END:VEVENT
BEGIN:VEVENT
DTSTART;TZID=Europe/Berlin:20250820T180000
DTEND;TZID=Europe/Berlin:20250820T190000
DTSTAMP:20260420T200907
CREATED:20250719T200856Z
LAST-MODIFIED:20250719T200858Z
UID:22033-1755712800-1755716400@rickyssporttreff.de
SUMMARY:Yoga am Mittwoch | 18 Uhr
DESCRIPTION:60 Minuten Yoga mit #rickyoga \n\n\n\nBring gern Deine Matte mit. Es sind aber auch Matten\, Gurte\, Klötze vorhanden. \n\n\n\n\n\nAn diesem Tag bekommst Du bei einem Einkauf Du kannst Dir hier einen Platz reservieren\, wenn Du wirklich kommen magst. Die Plätze sind begrenzt und es wäre schade\, wenn jemand anderes nicht kommen kann\, weil vermeintlich kein Platz mehr ist. Danke.
URL:https://rickyssporttreff.de/event/yoga-mittwoch-20-08-25/
LOCATION:Ricky´s Sporttreff\, Mitteltorstrasse 13\, Marktheidenfeld\, Bayern\, 97828\, Deutschland
CATEGORIES:Yoga
ATTACH;FMTTYPE=image/png:https://rickyssporttreff.de/wp-content/uploads/2024/11/Yoga-Rickyssporttreff-nov.png
ORGANIZER;CN="Ricky B%C3%B6hm-Hennes":MAILTO:ricky@boehm-hennes.de
END:VEVENT
BEGIN:VEVENT
DTSTART;TZID=Europe/Berlin:20250821T090000
DTEND;TZID=Europe/Berlin:20250821T100000
DTSTAMP:20260420T200907
CREATED:20250728T161843Z
LAST-MODIFIED:20250728T200045Z
UID:22246-1755766800-1755770400@rickyssporttreff.de
SUMMARY:Yoga am Donnerstag | 9 Uhr
DESCRIPTION:Bring gern Deine Matte mit. Es sind aber auch Matten\, Gurte\, Klötze vorhanden. \n\n\n\n60 Minuten Yoga mit #rickyoga \n\n\n\n\n\nDu kannst Dir hier einen Platz reservieren\, wenn Du wirklich kommen magst. Die Plätze sind begrenzt und es wäre schade\, wenn jemand anderes nicht kommen kann\, weil vermeintlich kein Platz mehr ist. Danke.
URL:https://rickyssporttreff.de/event/yoga-donnerstag-21-08-2025-2/
LOCATION:Ricky´s Sporttreff\, Mitteltorstrasse 13\, Marktheidenfeld\, Bayern\, 97828\, Deutschland
CATEGORIES:Yoga
ORGANIZER;CN="Ricky B%C3%B6hm-Hennes":MAILTO:ricky@boehm-hennes.de
END:VEVENT
BEGIN:VEVENT
DTSTART;TZID=Europe/Berlin:20250822T090000
DTEND;TZID=Europe/Berlin:20250822T100000
DTSTAMP:20260420T200907
CREATED:20250719T220840Z
LAST-MODIFIED:20250731T122659Z
UID:22087-1755853200-1755856800@rickyssporttreff.de
SUMMARY:Yoga am Freitag | 9 Uhr
DESCRIPTION:Bring gern Deine Matte mit. Es sind aber auch Matten\, Gurte\, Klötze vorhanden. \n\n\n\n60 Minuten Yoga mit #rickyoga \n\n\n\n\n\nDu kannst Dir hier einen Platz reservieren\, wenn Du wirklich kommen magst. Die Plätze sind begrenzt und es wäre schade\, wenn jemand anderes nicht kommen kann\, weil vermeintlich kein Platz mehr ist. Danke.
URL:https://rickyssporttreff.de/event/yoga-freitag-15-08-2025-2/
LOCATION:Ricky´s Sporttreff\, Mitteltorstrasse 13\, Marktheidenfeld\, Bayern\, 97828\, Deutschland
CATEGORIES:Yoga
ATTACH;FMTTYPE=image/png:https://rickyssporttreff.de/wp-content/uploads/2024/07/1.png
ORGANIZER;CN="Ricky B%C3%B6hm-Hennes":MAILTO:ricky@boehm-hennes.de
END:VEVENT
BEGIN:VEVENT
DTSTART;TZID=Europe/Berlin:20250823T074500
DTEND;TZID=Europe/Berlin:20250823T084500
DTSTAMP:20260420T200907
CREATED:20250808T061420Z
LAST-MODIFIED:20250808T061424Z
UID:22533-1755935100-1755938700@rickyssporttreff.de
SUMMARY:Yoga am Samstag - early bird | 7:45 Uhr
DESCRIPTION:60 Minuten Yoga mit #rickyoga \n\n\n\nBring gern Deine Matte mit. Es sind aber auch Matten\, Gurte\, Klötze vorhanden. \n\n\n\n\n\nDu kannst Dir hier einen Platz reservieren\, wenn Du wirklich kommen magst. Die Plätze sind begrenzt und es wäre schade\, wenn jemand anderes nicht kommen kann\, weil vermeintlich kein Platz mehr ist. Danke.
URL:https://rickyssporttreff.de/event/yoga-samstag-early-23-08-25/
LOCATION:Ricky´s Sporttreff\, Mitteltorstrasse 13\, Marktheidenfeld\, Bayern\, 97828\, Deutschland
CATEGORIES:Yoga
ATTACH;FMTTYPE=image/png:https://rickyssporttreff.de/wp-content/uploads/2024/07/1.png
ORGANIZER;CN="Ricky B%C3%B6hm-Hennes":MAILTO:ricky@boehm-hennes.de
END:VEVENT
BEGIN:VEVENT
DTSTART;TZID=Europe/Berlin:20250823T090000
DTEND;TZID=Europe/Berlin:20250823T100000
DTSTAMP:20260420T200907
CREATED:20250719T192520Z
LAST-MODIFIED:20250719T192801Z
UID:22021-1755939600-1755943200@rickyssporttreff.de
SUMMARY:Yoga am Samstag | 9 Uhr
DESCRIPTION:60 Minuten Yoga mit #rickyoga \n\n\n\nBring gern Deine Matte mit. Es sind aber auch Matten\, Gurte\, Klötze vorhanden. \n\n\n\n\n\nDu kannst Dir hier einen Platz reservieren\, wenn Du wirklich kommen magst. Die Plätze sind begrenzt und es wäre schade\, wenn jemand anderes nicht kommen kann\, weil vermeintlich kein Platz mehr ist. Danke.
URL:https://rickyssporttreff.de/event/yoga-samstag-23-08-25/
LOCATION:Ricky´s Sporttreff\, Mitteltorstrasse 13\, Marktheidenfeld\, Bayern\, 97828\, Deutschland
CATEGORIES:Yoga
ATTACH;FMTTYPE=image/png:https://rickyssporttreff.de/wp-content/uploads/2024/07/1.png
ORGANIZER;CN="Ricky B%C3%B6hm-Hennes":MAILTO:ricky@boehm-hennes.de
END:VEVENT
END:VCALENDAR